BEGIN:VCALENDAR
VERSION:2.0
PRODID:-//www.dnesnivylet.cz                                                                                                                        Tip na výlet pro celou rodinu. - ECPv6.15.13.1//NONSGML v1.0//EN
CALSCALE:GREGORIAN
METHOD:PUBLISH
X-ORIGINAL-URL:https://dnesnivylet.cz
X-WR-CALDESC:Akce na www.dnesnivylet.cz                                                                                                                        Tip na výlet pro celou rodinu.
REFRESH-INTERVAL;VALUE=DURATION:PT1H
X-Robots-Tag:noindex
X-PUBLISHED-TTL:PT1H
BEGIN:VTIMEZONE
TZID:Europe/Prague
BEGIN:DAYLIGHT
TZOFFSETFROM:+0100
TZOFFSETTO:+0200
TZNAME:CEST
DTSTART:20250330T010000
END:DAYLIGHT
BEGIN:STANDARD
TZOFFSETFROM:+0200
TZOFFSETTO:+0100
TZNAME:CET
DTSTART:20251026T010000
END:STANDARD
BEGIN:DAYLIGHT
TZOFFSETFROM:+0100
TZOFFSETTO:+0200
TZNAME:CEST
DTSTART:20260329T010000
END:DAYLIGHT
BEGIN:STANDARD
TZOFFSETFROM:+0200
TZOFFSETTO:+0100
TZNAME:CET
DTSTART:20261025T010000
END:STANDARD
BEGIN:DAYLIGHT
TZOFFSETFROM:+0100
TZOFFSETTO:+0200
TZNAME:CEST
DTSTART:20270328T010000
END:DAYLIGHT
BEGIN:STANDARD
TZOFFSETFROM:+0200
TZOFFSETTO:+0100
TZNAME:CET
DTSTART:20271031T010000
END:STANDARD
END:VTIMEZONE
BEGIN:VEVENT
DTSTART;TZID=Europe/Prague:20260219T170000
DTEND;TZID=Europe/Prague:20260219T200000
DTSTAMP:20260420T011307
CREATED:20251123T102337Z
LAST-MODIFIED:20251123T102337Z
UID:13747-1771520400-1771531200@dnesnivylet.cz
SUMMARY:KNIHA DŽUNGLÍ - Mariánské Lázně
DESCRIPTION:KNIHA DŽUNGLÍ – Mariánské Lázně se uskuteční dne 2026-02-19 v 17:00 v Mariánské Lázně\, Městské divadlo. \n🎟️ Koupit vstupenku \n\nMuzikál KNIHA DŽUNGLÍ – největší rodinný zážitek roku 2026!  \nOd ledna 2026 přichází do 55 měst po celé České republice překvapení pro celou rodinu! Novinka od producentů rodinných muzikálů\, jako je Popelka\, Alenka v říši divů či Vánoční loupež. \nČeká vás příběh plný emocí\, hudby\, smíchu i napětí – a to přímo ve vašem městě! \nSeznámíte se s odvážným Mauglím\, moudrým vlčím vůdcem Akélou\, ušlechtilým a statečným panterem Baghírou\, rozverným medvědem Balúem\, jehož kostým je jediný svého druhu v Evropě! Velkolepý dojem zanechá také obrovský král opic – gorila Ludvík v unikátním kostýmu. \nObrovským lákadlem je jedinečný kostým Hada KAA\, jaký jste ještě nikdy neviděli! \nO napětí se postará nelítostný tygr Šerchán\, jeho komicko-zákeřný společník hyena Tabaki\, a atmosféru odlehčí i vtipný a upovídaný papoušek a další známá zvířata. \n Spolu s projekcemi a dechberoucími vizuálními efekty se ocitnete přímo uprostřed kouzelné džungle. \nDěti se stanou součástí představení – pomohou Mauglímu zahnat Šerchána nebo najít med pro medvěda Balů\,  a společně s herci dotvářet kouzelný příběh. \nInteraktivní část vás vtáhne do děje – zvířata z džungle se objeví nejen na jevišti\, ale i mezi dětmi v hledišti\, aby si každý mohl zažít pocit\, že je součástí příběhu. \nSpeciální bonus: Každé dítě dostane ke vstupence zvířecí masku dle vlastního výběru.A po představení čeká malé diváky jedinečná možnost vyfotit se přímo na jevišti s herci v kostýmech! \n  \n Tip na vánoční dárek!Darujte svým dětem a celé rodině nezapomenutelný zážitek – vstupenky na muzikál\, o kterém se bude mluvit ještě dlouho. \n\nToto není jen muzikál. Je to největší zážitek u vás doma\, ve vašem městě!\nkapacita je omezená.\nKupte si vstupenky v síti smsticket a buďte u muzikálové události roku 2026!\n\n\nTento tip na kulturní akci v Mariánské Lázně najdete v přehledu na Dnesnivylet.cz spolu s dalšími koncerty\, festivaly a divadelními představeními.Každý si vybere co se mu líbí. Nezapomeňte koupit vstupenky včas\, stačí kliknout a budete přesměrování na oficiálního prodejce vstupenek.
URL:https://dnesnivylet.cz/event/kniha-dzungli-marianske-lazne/
LOCATION:Městské divadlo\, Mariánské Lázně\, Městské divadlo\, Mariánské Lázně\, Česká republika
CATEGORIES:Divadlo
ATTACH;FMTTYPE=image/jpeg:https://dnesnivylet.cz/wp-content/uploads/2025/11/320-25096813f4874bfba4d9053a7f50164c.jpg
END:VEVENT
BEGIN:VEVENT
DTSTART;TZID=Europe/Prague:20260219T193000
DTEND;TZID=Europe/Prague:20260219T223000
DTSTAMP:20260420T011307
CREATED:20260208T144413Z
LAST-MODIFIED:20260208T144413Z
UID:17614-1771529400-1771540200@dnesnivylet.cz
SUMMARY:Bylo nás pět
DESCRIPTION:Bylo nás pět se uskuteční dne 2026-02-19 v 19:30 v Mladá Boleslav\, Divadýlko na dlani. \n🎟️ Koupit vstupenku \n\nKdo by je neznal – Petr Bajza\, Eda Kemlink\, Tonda Bejval\, Čeněk Jirsák a Zilvar z chudobince. Celý národ viděl seriál\, většina zná kouzelné rozhlasové čtení pana Filipovského\, někteří přečetli knihu a sem tam je někdo už viděl i na jiném jevišti. Nyní přichází tahle pětice i do Divadýlka na dlani spolu s plejádou rychnovských postav a postaviček\, aby si získaly i vaši přízeň. Vraťte se s námi do doby\, kdy děti dávaly počestnost\, hokynáři si vážili svých zákazníků\, děvčata voněla vanilkovým cukrem a kluci válčili své malé velké války. Vraťte se s námi do dětství. \n\nTento tip na kulturní akci v Mladá Boleslav najdete v přehledu na Dnesnivylet.cz spolu s dalšími koncerty\, festivaly a divadelními představeními.Každý si vybere co se mu líbí. Nezapomeňte koupit vstupenky včas\, stačí kliknout a budete přesměrování na oficiálního prodejce vstupenek.
URL:https://dnesnivylet.cz/event/bylo-nas-pet/
LOCATION:Divadýlko na dlani\, Mladá Boleslav\, Divadýlko na dlani\, Mladá Boleslav\, Česká republika
CATEGORIES:Divadlo
ATTACH;FMTTYPE=image/jpeg:https://dnesnivylet.cz/wp-content/uploads/2026/02/320-c78ca3914823452a97f02bdcba8eac1d.jpg
END:VEVENT
END:VCALENDAR