BEGIN:VCALENDAR
VERSION:2.0
PRODID:-//www.dnesnivylet.cz                                                                                                                        Tip na výlet pro celou rodinu. - ECPv6.15.13.1//NONSGML v1.0//EN
CALSCALE:GREGORIAN
METHOD:PUBLISH
X-WR-CALNAME:www.dnesnivylet.cz                                                                                                                        Tip na výlet pro celou rodinu.
X-ORIGINAL-URL:https://dnesnivylet.cz
X-WR-CALDESC:Akce na www.dnesnivylet.cz                                                                                                                        Tip na výlet pro celou rodinu.
REFRESH-INTERVAL;VALUE=DURATION:PT1H
X-Robots-Tag:noindex
X-PUBLISHED-TTL:PT1H
BEGIN:VTIMEZONE
TZID:Europe/Prague
BEGIN:DAYLIGHT
TZOFFSETFROM:+0100
TZOFFSETTO:+0200
TZNAME:CEST
DTSTART:20250330T010000
END:DAYLIGHT
BEGIN:STANDARD
TZOFFSETFROM:+0200
TZOFFSETTO:+0100
TZNAME:CET
DTSTART:20251026T010000
END:STANDARD
BEGIN:DAYLIGHT
TZOFFSETFROM:+0100
TZOFFSETTO:+0200
TZNAME:CEST
DTSTART:20260329T010000
END:DAYLIGHT
BEGIN:STANDARD
TZOFFSETFROM:+0200
TZOFFSETTO:+0100
TZNAME:CET
DTSTART:20261025T010000
END:STANDARD
BEGIN:DAYLIGHT
TZOFFSETFROM:+0100
TZOFFSETTO:+0200
TZNAME:CEST
DTSTART:20270328T010000
END:DAYLIGHT
BEGIN:STANDARD
TZOFFSETFROM:+0200
TZOFFSETTO:+0100
TZNAME:CET
DTSTART:20271031T010000
END:STANDARD
END:VTIMEZONE
BEGIN:VEVENT
DTSTART;TZID=Europe/Prague:20260304T190000
DTEND;TZID=Europe/Prague:20260304T220000
DTSTAMP:20260419T150107
CREATED:20251129T062753Z
LAST-MODIFIED:20251129T062753Z
UID:14082-1772650800-1772661600@dnesnivylet.cz
SUMMARY:Opravna duší
DESCRIPTION:Opravna duší se uskuteční dne 2026-03-04 v 19:00 v Praha\, Jindřišská věž. \n🎟️ Koupit vstupenku \n\nPojďte spolu s námi zažít večer\, kdy vám opravíme vaše duše \nMáte manžela? Máte manželku? Jste svobodní? Jste málo šťastní\, nebo příliš bezstarostní? Cítíte se někdy sami\, nesnášíte nakupování\, nebo trpíte nadváhou? Máme lék na mnoho vašich starostí. A jak to děláme? Donutíme vás na ně během našeho pořadu zapomenout! Na každou vaši drobnou starost máme náplast ve formě duetu\, fejetonu\, stand upu nebo sólového šansonu. To vše z naší autorské dílny a s notnou dávkou humoru. \nZaposloucháte se nejen do autorského čtení z knih herečky a autorky Martiny Preissové ale i do písní zpěvačky a herečky Dáši Zázvůrkové. Uslyšíte povídky z knihy „Jak jsem nebyla na lvech“ a „Mají v nebi skleničky?“\, které vám přečte sama autorka\, a máme pro vás připraveno i několik písní\, které vznikly ve společné dílně obou protagonistek. A je toho mnohem víc\, co v naší společné dílně vzniklo. Nemějte strach\, že je to nějaká chvilka poezie! Je to setkání dvou žen na jevišti\, která každá po svém a někdy i dohromady opravují duše těm\, kteří se chtějí zasmát a zamyslet. Nechte se strhnout rytmem našich temperamentů a slibujeme\, že cestou domů si ještě stále budete zpívat a usmívat se. \n  \nOpravářky vašich duší \nMartina Preissová je česká divadelní\, televizní a filmová herečka. Od roku 2000 je stálou členkou činoherního souboru Národního divadla v Praze a hostuje i na jiných pražských scénách. Byla dvakrát (1999\, 2004) nominována na Cenu Thálie. V roce 2021 napsala svoji prvotinu. Soubor povídek ze života\, knihu Jak jsem nebyla na lvech a jiné příhody a následně vydala povídkový román Mají v nebi skleničky?. A můžete ji znát i jako televizní herečku ze seriálů Nemocnice na kraji města\, Anatomie života\, Slunečná či Kamarádi a také z filmů Probudím se včera\, Matky a dalších. \nDáša Zázvůrková je česká zpěvačka a herečka. Vystudovala nonverbální a komediální divadlo na HAMU u Borise Hybnera a italianistiku na Filozofické fakultě Univerzity Karlovy. V letech 2003–2014 byla externí členkou divadla SEMAFOR. Hrála také roli Vanilky v jazzové opeře Dobře placená procházka v Národním divadle (2007). V současné době se věnuje autorské tvorbě a můžete ji znát i z úspěšného představení Můžem i s mužem. Aktuálně slaví úspěchy s projektem Pocta Haně Hegerové\, kde interpretuje hity legendy českého šansonu. Koncert V barvách semaforu přináší to nejlepší z tvorby Suchého a Šlitra. \n\nTento tip na kulturní akci v Praha najdete v přehledu na Dnesnivylet.cz spolu s dalšími koncerty\, festivaly a divadelními představeními.Každý si vybere co se mu líbí. Nezapomeňte koupit vstupenky včas\, stačí kliknout a budete přesměrování na oficiálního prodejce vstupenek.
URL:https://dnesnivylet.cz/event/opravna-dusi-6/
LOCATION:Jindřišská věž\, Praha\, Jindřišská věž\, Praha\, Česká republika
CATEGORIES:Divadlo
ATTACH;FMTTYPE=image/jpeg:https://dnesnivylet.cz/wp-content/uploads/2025/11/320-c9d4fc153d9e466b8dc7a1a8856fa667.jpg
END:VEVENT
BEGIN:VEVENT
DTSTART;TZID=Europe/Prague:20260304T190000
DTEND;TZID=Europe/Prague:20260304T220000
DTSTAMP:20260419T150107
CREATED:20260121T194006Z
LAST-MODIFIED:20260121T194006Z
UID:16931-1772650800-1772661600@dnesnivylet.cz
SUMMARY:Na Zlatém jezeře v Liberci
DESCRIPTION:Na Zlatém jezeře v Liberci se uskuteční dne 2026-03-04 v 19:00 v Liberec\, Dům Kultury. \n🎟️ Koupit vstupenku \n\nRomantická komedie upřímně dojímá i baví. \nV kouzelném prostředí na březích Zlatého jezera tráví léto starší manželé. Věčně brblající\, nepraktický a naschvál i doopravdy zapomínající profesor v penzi Normen a jeho chápající žena Ethel\, starající se o muže i domácnost s neutuchajícím půvabem a noblesou. Příjezd dcery Chelseay s partnerem a jeho tvrdohlavým synkem Billym pomůže Normenovi vystoupit náhle z letargie a všechny zaskočí svým příkladem: Vždycky je čas za život\, i ten nejobyčejnější\, začít se znovu prát. \nHrají:Simona StašováLadislav Frej / Jan VlasákJaromír Nosek / Karel Zima / Radim KalvodaVasil Fridrich / Jan Teplý ml.Marika ProcházkováJakub Jan Černý / Filip Antonio / Michal Pazderka / Kryštof Zapletal / Jan Dlouhý / Jiří Dlouhý \nPříběh s ojedinělou partiturou pro herecké výkony zákonitě  nemohl uniknout rovněž pozornosti filmařů. Světovou popularitu předlohy ve filmu režiséra Marka Rydella NA ZLATÉM JEZEŘE (On Golden Ponds)\, který byl natočen v roce 1981\, umocnily výkony Henryho Fondy (Norman Thayer) a Katherine Hepburnové (Ethel Thayerová)\, odměněné spolu se scénářem OSCARY. Ve filmu hrála i Jane Fondová (Chelsea). \nAutor: Ernest ThompsonRežie: Vladimír StrniskoPřeklad: Kateřina HilskáInscenace Agentury Harlekýn. \n\nTento tip na kulturní akci v Liberec najdete v přehledu na Dnesnivylet.cz spolu s dalšími koncerty\, festivaly a divadelními představeními.Každý si vybere co se mu líbí. Nezapomeňte koupit vstupenky včas\, stačí kliknout a budete přesměrování na oficiálního prodejce vstupenek.
URL:https://dnesnivylet.cz/event/na-zlatem-jezere-v-liberci/
LOCATION:Dům Kultury\, Liberec\, Dům Kultury\, Liberec\, Česká republika
CATEGORIES:Divadlo
ATTACH;FMTTYPE=image/jpeg:https://dnesnivylet.cz/wp-content/uploads/2026/01/320-84204e0b82ff48d9a73b4ce779e046f4.jpg
END:VEVENT
BEGIN:VEVENT
DTSTART;TZID=Europe/Prague:20260304T190000
DTEND;TZID=Europe/Prague:20260304T220000
DTSTAMP:20260419T150107
CREATED:20260208T143511Z
LAST-MODIFIED:20260208T143513Z
UID:17478-1772650800-1772661600@dnesnivylet.cz
SUMMARY:Hypnotizér z autobusové zastávky
DESCRIPTION:Hypnotizér z autobusové zastávky se uskuteční dne 2026-03-04 v 19:00 v Praha\, Divadlo Apropo. \n🎟️ Koupit vstupenku \n\nHYPNOTIZÉR Z AUTOBUSOVÉ ZASTÁVKY \nLaskavá komedie\, která zpomaluje čas \nNa přelomu února a března 2026 vstoupí na českou divadelní scénu nové autorské monodrama\, které propojuje humor\, poezii a jemné hypnotické techniky Miltonovského stylu a NLP.Představení Hypnotizér z autobusové zastávky nabízí divákům zážitek\, který nejen pobaví\, ale zároveň uklidní\, zpomalí a na chvíli osvobodí od každodenního tlaku a spěchu. \nPražská premiéra proběhne v intimních prostorách divadla Apropo na Malé Straně – ve dvou termínech\, 26. února a 4. března 2026. \nPět zastávek\, jeden život a publikum\, které je součástí děje \nPříběh sleduje muže kolem padesátky\, který čeká na autobus. Na první pohled obyčejná situace se však promění v osobní i poetickou cestu\, během níž divák poznává vlastní „zastávky“ – spěch\, ticho\, rodinu\, smíření i návrat domů. \nKaždá ze scén má jedinečnou atmosféru\, jemný humor\, ale i prostor pro nadechnutí a tiché uvědomění. \n„Hypnotizér není klasickým divadelním představením. Je to skoro až dětská hra\, kterou si chci užívat společně s diváky. Pokud na ni publikum přistoupí\, odejde s čistější myslí\, klidnější – a třeba i s úsměvem na tváři. Je to dobrodružství\, které funguje jen tehdy\, když zmizí hranice mezi jevištěm a hledištěm\,“ říká autor a představitel hlavní role Šimon Pečenka. \nText je psán v duchu jemného hypnotického jazyka – slova mají svůj rytmus\, vyvolávají obrazy a přirozeně návštěvníka vedou k uvolnění. Divák přitom stále sleduje děj\, jen s lehčí hlavou a klidnějším dechem. \nPokud si to dovolí. \nTvůrci\, kteří spojují humor s hloubkou \nŠimon Pečenka – autor a představitel \nHerec\, moderátor\, zpěvák\, spisovatel a hypnoterapeut.V umělecké sféře působí více než 30 let\, je autorem knih Telefony z karantény\, Plný kýbl optimismu a Minihypnózy. Má za sebou desítky přednášek o hypnóze po celé České republice. \nJeho styl je laskavý\, lidský a přirozeně vtipný – a přesně takové je i celé představení. \nNaďa Konvalinková – hlasová průvodkyně \nZe záznamu zaznívá její sametový\, laskavý hlas\, který se v představení stává tichým\, moudrým průvodcem v příbězích\, které mohou být… možná i vaše. \nRežie: Vojta Nouzák \nZkušený televizní režisér\, který má dar pracovat s přirozeností\, civilností a jemným humorem.K divadelní režii se vrací po deseti letech – a přináší do ní cit pro detail\, lidskost a uvolněnou atmosféru. \nOd Prahy do celé republiky \nPo premiéře v divadle Apropo zamíří inscenace také do regionů. \n„Rádi bychom naši autobusovou zastávku\, i s hypnotizérem\, představili divákům po celé České republice. Přetížení\, stres a spěch jsou všude stejné – a my nabízíme malou pauzu\, která se hodí každému\,“ říká Pečenka. \nPředstavení je vhodné do menších\, komorních prostor – čajoven\, kulturních domů\, čítáren\, komunitních center i menších divadel. Stačí malá scéna\, dobrá atmosféra a ochota na chvíli se zastavit. \nProč si představení nenechat ujít \n„Hypnotizér z autobusové zastávky“ není jen divadlo.Je to setkání.Je to zpomalení.Je to jemný dialog mezi hercem a publikem.A je to malá duševní regenerace\, která potěší tělo i mysl. \nHodí se pro všechny\, kteří mají rádi humor\, který hladí – neřeže.Pro ty\, kdo chtějí na chvíli vypnout hlavu.I pro ty\, kdo chtějí zapnout srdce. \nProtože\, jak říká motto inscenace: \n„Někdy musíte zůstat stát\, aby vás život vůbec našel.“ \n\nTento tip na kulturní akci v Praha najdete v přehledu na Dnesnivylet.cz spolu s dalšími koncerty\, festivaly a divadelními představeními.Každý si vybere co se mu líbí. Nezapomeňte koupit vstupenky včas\, stačí kliknout a budete přesměrování na oficiálního prodejce vstupenek.
URL:https://dnesnivylet.cz/event/hypnotizer-z-autobusove-zastavky-2/
LOCATION:Divadlo Apropo\, Praha\, Divadlo Apropo\, Praha\, Česká republika
CATEGORIES:Divadlo
ATTACH;FMTTYPE=image/jpeg:https://dnesnivylet.cz/wp-content/uploads/2026/02/320-ec3ba9e107c845d9a2d5072f73c30f16.jpg
END:VEVENT
BEGIN:VEVENT
DTSTART;TZID=Europe/Prague:20260304T190000
DTEND;TZID=Europe/Prague:20260304T220000
DTSTAMP:20260419T150107
CREATED:20260209T193315Z
LAST-MODIFIED:20260209T193316Z
UID:17813-1772650800-1772661600@dnesnivylet.cz
SUMMARY:Divadlo Járy Cimrmana: České nebe
DESCRIPTION:Divadlo Járy Cimrmana: České nebe se uskuteční dne 2026-03-04 v 19:00 v Šumperk\, Dům Kultury. \n🎟️ Koupit vstupenku \n\nDivadlo Járy Cimrmana se vrací do Šumperka! Tentokrát se můžete těšit na Cimrmanův dramatický kšaft – České nebe. \nPraha – Svatý Václav\, praotec Čech a Jan Amos Komenský jsou členy nebeské komise. Rozhodují o tom\, kdo se dostane do nebe\, a kdo ne. Když ale Komenský chce jako další členku komise prosadit Boženu Němcovou\, dojde ke konfliktu. To vše se odehrává na jevišti během hry\, pod kterou Jára Cimrman připsal\, že je vhodná k národním oslavám 28. října. \nHrají:Jan Ámos Komenský: Zdeněk Svěrák nebo Miloň ČepelkaJan Hus: Miroslav TáborskýSvatý Václav: Petr Brukner nebo Petr ReidingerPraotec Čech: Jan HrabětaKarel Havlíček Borovský: Genadij Rumlena nebo Robert BártaBabička: Miloň Čepelka nebo Marek ŠimonRadecký: Genadij Rumlena nebo Petr ReidingerMiroslav Tyrš: Michal Weigel nebo Zdeněk Škrdlant \nPředstavení technicky zajišťují: technici DJCRežie: Ladislav SmoljakScéna a kostýmy: Jaroslav Weigelvíce o souboru: www.cimrman.at \nDélka představení: 120 minut s přestávkou \n\nTento tip na kulturní akci v Šumperk najdete v přehledu na Dnesnivylet.cz spolu s dalšími koncerty\, festivaly a divadelními představeními.Každý si vybere co se mu líbí. Nezapomeňte koupit vstupenky včas\, stačí kliknout a budete přesměrování na oficiálního prodejce vstupenek.
URL:https://dnesnivylet.cz/event/divadlo-jary-cimrmana-ceske-nebe/
LOCATION:Dům Kultury\, Šumperk\, Dům Kultury\, Šumperk\, Česká republika
CATEGORIES:Divadlo
ATTACH;FMTTYPE=image/jpeg:https://dnesnivylet.cz/wp-content/uploads/2026/02/320-c478468b45874f749835564abdf7afc9.jpg
END:VEVENT
END:VCALENDAR