BEGIN:VCALENDAR
VERSION:2.0
PRODID:-//www.dnesnivylet.cz                                                                                                                        Tip na výlet pro celou rodinu. - ECPv6.15.13.1//NONSGML v1.0//EN
CALSCALE:GREGORIAN
METHOD:PUBLISH
X-WR-CALNAME:www.dnesnivylet.cz                                                                                                                        Tip na výlet pro celou rodinu.
X-ORIGINAL-URL:https://dnesnivylet.cz
X-WR-CALDESC:Akce na www.dnesnivylet.cz                                                                                                                        Tip na výlet pro celou rodinu.
REFRESH-INTERVAL;VALUE=DURATION:PT1H
X-Robots-Tag:noindex
X-PUBLISHED-TTL:PT1H
BEGIN:VTIMEZONE
TZID:Europe/Prague
BEGIN:DAYLIGHT
TZOFFSETFROM:+0100
TZOFFSETTO:+0200
TZNAME:CEST
DTSTART:20250330T010000
END:DAYLIGHT
BEGIN:STANDARD
TZOFFSETFROM:+0200
TZOFFSETTO:+0100
TZNAME:CET
DTSTART:20251026T010000
END:STANDARD
BEGIN:DAYLIGHT
TZOFFSETFROM:+0100
TZOFFSETTO:+0200
TZNAME:CEST
DTSTART:20260329T010000
END:DAYLIGHT
BEGIN:STANDARD
TZOFFSETFROM:+0200
TZOFFSETTO:+0100
TZNAME:CET
DTSTART:20261025T010000
END:STANDARD
BEGIN:DAYLIGHT
TZOFFSETFROM:+0100
TZOFFSETTO:+0200
TZNAME:CEST
DTSTART:20270328T010000
END:DAYLIGHT
BEGIN:STANDARD
TZOFFSETFROM:+0200
TZOFFSETTO:+0100
TZNAME:CET
DTSTART:20271031T010000
END:STANDARD
END:VTIMEZONE
BEGIN:VEVENT
DTSTART;TZID=Europe/Prague:20260305T190000
DTEND;TZID=Europe/Prague:20260305T220000
DTSTAMP:20260419T174046
CREATED:20251022T113438Z
LAST-MODIFIED:20251022T113438Z
UID:9604-1772737200-1772748000@dnesnivylet.cz
SUMMARY:Román pro ženy
DESCRIPTION:Román pro ženy se uskuteční dne 2026-03-05 v 19:00 v Zbýšov\, Kino Horník. \n🎟️ Koupit vstupenku \nTento tip na kulturní akci v Zbýšov najdete v přehledu na Dnesnivylet.cz spolu s dalšími koncerty\, festivaly a divadelními představeními.Každý si vybere co se mu líbí. Nezapomeňte koupit vstupenky včas\, stačí kliknout a budete přesměrování na oficiálního prodejce vstupenek.
URL:https://dnesnivylet.cz/event/roman-pro-zeny/
LOCATION:Kino Horník\, Zbýšov\, Kino Horník\, Zbýšov\, Česká republika
CATEGORIES:Divadlo
ATTACH;FMTTYPE=image/jpeg:https://dnesnivylet.cz/wp-content/uploads/2025/10/320-095dd9e4ac3a415b819327237c715cd9.jpg
END:VEVENT
BEGIN:VEVENT
DTSTART;TZID=Europe/Prague:20260305T193000
DTEND;TZID=Europe/Prague:20260305T223000
DTSTAMP:20260419T174046
CREATED:20260211T115339Z
LAST-MODIFIED:20260211T115339Z
UID:18009-1772739000-1772749800@dnesnivylet.cz
SUMMARY:Třináct vůní
DESCRIPTION:Třináct vůní se uskuteční dne 2026-03-05 v 19:30 v Mladá Boleslav\, Divadýlko na dlani. \n🎟️ Koupit vstupenku \n\naneb Proč bychom se netěšili…Premiéra hry Třináct vůní (z deníku žákyně) proběhla ve Studiu Ypsilon v roce 1975. Na scénu Divadýlka na dlani ji uvádíme přesně po padesáti letech. Od té doby se mnohé změnilo. A co my? \n\nTento tip na kulturní akci v Mladá Boleslav najdete v přehledu na Dnesnivylet.cz spolu s dalšími koncerty\, festivaly a divadelními představeními.Každý si vybere co se mu líbí. Nezapomeňte koupit vstupenky včas\, stačí kliknout a budete přesměrování na oficiálního prodejce vstupenek.
URL:https://dnesnivylet.cz/event/trinact-vuni/
LOCATION:Divadýlko na dlani\, Mladá Boleslav\, Divadýlko na dlani\, Mladá Boleslav\, Česká republika
CATEGORIES:Divadlo
ATTACH;FMTTYPE=image/jpeg:https://dnesnivylet.cz/wp-content/uploads/2026/02/320-5a857efa494a4403be54cf5803d79b56.jpg
END:VEVENT
END:VCALENDAR