BEGIN:VCALENDAR
VERSION:2.0
PRODID:-//www.dnesnivylet.cz                                                                                                                        Tip na výlet pro celou rodinu. - ECPv6.15.13.1//NONSGML v1.0//EN
CALSCALE:GREGORIAN
METHOD:PUBLISH
X-ORIGINAL-URL:https://dnesnivylet.cz
X-WR-CALDESC:Akce na www.dnesnivylet.cz                                                                                                                        Tip na výlet pro celou rodinu.
REFRESH-INTERVAL;VALUE=DURATION:PT1H
X-Robots-Tag:noindex
X-PUBLISHED-TTL:PT1H
BEGIN:VTIMEZONE
TZID:Europe/Prague
BEGIN:DAYLIGHT
TZOFFSETFROM:+0100
TZOFFSETTO:+0200
TZNAME:CEST
DTSTART:20250330T010000
END:DAYLIGHT
BEGIN:STANDARD
TZOFFSETFROM:+0200
TZOFFSETTO:+0100
TZNAME:CET
DTSTART:20251026T010000
END:STANDARD
BEGIN:DAYLIGHT
TZOFFSETFROM:+0100
TZOFFSETTO:+0200
TZNAME:CEST
DTSTART:20260329T010000
END:DAYLIGHT
BEGIN:STANDARD
TZOFFSETFROM:+0200
TZOFFSETTO:+0100
TZNAME:CET
DTSTART:20261025T010000
END:STANDARD
BEGIN:DAYLIGHT
TZOFFSETFROM:+0100
TZOFFSETTO:+0200
TZNAME:CEST
DTSTART:20270328T010000
END:DAYLIGHT
BEGIN:STANDARD
TZOFFSETFROM:+0200
TZOFFSETTO:+0100
TZNAME:CET
DTSTART:20271031T010000
END:STANDARD
END:VTIMEZONE
BEGIN:VEVENT
DTSTART;TZID=Europe/Prague:20260307T100000
DTEND;TZID=Europe/Prague:20260307T130000
DTSTAMP:20260419T161909
CREATED:20251129T055119Z
LAST-MODIFIED:20251129T055119Z
UID:13940-1772877600-1772888400@dnesnivylet.cz
SUMMARY:Pohádkovaná aneb pohádky pro děti v Horké vaně
DESCRIPTION:Pohádkovaná aneb pohádky pro děti v Horké vaně se uskuteční dne 2026-03-07 v 10:00 v České Budějovice\, Horká Vana. \n🎟️ Koupit vstupenku \n\nPohádkovaná – pohádky pro děti v Horké vaně 2025/2026 \nPohádkovaná v Horké vaně je už tradicí!Letos již po 7 jsme pro vás připravili rekordních 20 pohádek – každou sobotu dopoledne od října do března. \nPohádky jsou určeny dětem ve věku 2–12 let\, ale často pobaví rodiče i prarodiče.A zatímco děti sledují princezny\, čerty a vodníky\, vy si můžete vychutnat kávu ve vedlejší Horké vaně. \n\nZačátek představení: 10:00\nVstup do sálu: od 9:30\nDélka představení: cca 45–50 minut\nMísto: Horká vana\, Česká 222/7\, České Budějovice\nKapacita sálu je omezená!\nRezervace: jen zakoupením vstupenky v předprodeji (doporučujeme).\nCena:\n\npředprodej 90 Kč\nna místě 100 Kč (pouze pokud zůstane volná kapacita)\n\n\nSezení je volné – kdo dřív přijde\, ten dřív sedí.\nParkování: o víkendu zdarma na Parkovišti Mariánské náměstí i na zónách CBT1 a CBT2.\n\n  \nProgram – JARO 2026 \n10.01. – Čaroděj a pyšná princezna – Téměř divadelní společnost17.01. – Pohádky z kufru – Marediv24.01. – O ševci Kubovi – Divadýlko Mrak31.01. – Šípková Růženka – Studio dell’arte07.02. – Otesánek – Já to jsem14.02. – Moudrý rádce – Divadlo Studna21.02. – Vodnická škola – Rybníkáři28.02. – Matěj a čerti – Lokvar \n07.03. – Kouzelný zvoneček – Divoloď \n14.03. – Pirátská pohádka – Kubko21.03. – Makový mužíček – Divadlo Dokola \n  \nStaňte se členem FB skupiny Pohádkovaná – a žádná pohádka vám už neuteče! \n\nTento tip na kulturní akci v České Budějovice najdete v přehledu na Dnesnivylet.cz spolu s dalšími koncerty\, festivaly a divadelními představeními.Každý si vybere co se mu líbí. Nezapomeňte koupit vstupenky včas\, stačí kliknout a budete přesměrování na oficiálního prodejce vstupenek.
URL:https://dnesnivylet.cz/event/pohadkovana-aneb-pohadky-pro-deti-v-horke-vane-13/
LOCATION:Horká Vana\, České Budějovice\, Horká Vana\, České Budějovice\, Česká republika
CATEGORIES:Divadlo
ATTACH;FMTTYPE=image/jpeg:https://dnesnivylet.cz/wp-content/uploads/2025/11/320-75fef1d4e3d9455faa7d51dcb953b598.jpg
END:VEVENT
END:VCALENDAR