BEGIN:VCALENDAR
VERSION:2.0
PRODID:-//www.dnesnivylet.cz                                                                                                                        Tip na výlet pro celou rodinu. - ECPv6.15.13.1//NONSGML v1.0//EN
CALSCALE:GREGORIAN
METHOD:PUBLISH
X-ORIGINAL-URL:https://dnesnivylet.cz
X-WR-CALDESC:Akce na www.dnesnivylet.cz                                                                                                                        Tip na výlet pro celou rodinu.
REFRESH-INTERVAL;VALUE=DURATION:PT1H
X-Robots-Tag:noindex
X-PUBLISHED-TTL:PT1H
BEGIN:VTIMEZONE
TZID:Europe/Prague
BEGIN:DAYLIGHT
TZOFFSETFROM:+0100
TZOFFSETTO:+0200
TZNAME:CEST
DTSTART:20250330T010000
END:DAYLIGHT
BEGIN:STANDARD
TZOFFSETFROM:+0200
TZOFFSETTO:+0100
TZNAME:CET
DTSTART:20251026T010000
END:STANDARD
BEGIN:DAYLIGHT
TZOFFSETFROM:+0100
TZOFFSETTO:+0200
TZNAME:CEST
DTSTART:20260329T010000
END:DAYLIGHT
BEGIN:STANDARD
TZOFFSETFROM:+0200
TZOFFSETTO:+0100
TZNAME:CET
DTSTART:20261025T010000
END:STANDARD
BEGIN:DAYLIGHT
TZOFFSETFROM:+0100
TZOFFSETTO:+0200
TZNAME:CEST
DTSTART:20270328T010000
END:DAYLIGHT
BEGIN:STANDARD
TZOFFSETFROM:+0200
TZOFFSETTO:+0100
TZNAME:CET
DTSTART:20271031T010000
END:STANDARD
END:VTIMEZONE
BEGIN:VEVENT
DTSTART;TZID=Europe/Prague:20260310T190000
DTEND;TZID=Europe/Prague:20260310T220000
DTSTAMP:20260419T161908
CREATED:20251020T065020Z
LAST-MODIFIED:20251020T065021Z
UID:8192-1773169200-1773180000@dnesnivylet.cz
SUMMARY:Techtle Mechtle - Hostinec u Maruny
DESCRIPTION:Techtle Mechtle – Hostinec u Maruny se uskuteční dne 2026-03-10 v 19:00 v Drnovice\, KD Drnovice u Vyškova. \n🎟️ Koupit vstupenku \n\nNejvětší česká travesti show Techtle Mechtle přiváží novou divadelní komedii HOSTINEC U MARUNY  \nTechtle Mechtle revue je v současné době nejúspěšnější česká show na poli divadelní scény. V podání Techtle Mechtle se vždy jedná o propracované divadelní představení s výpravnou scénou a více jak 80-ti kostýmy. Všechna představení jsou jednou velkou komedií\, a to od začátku až do konce.Má to jen jeden háček – všechny role\, a to včetně těch dámských\, tu hrají pouze muži a ti jsou navíc k nerozeznání od skutečných žen. Pánové Lukáš\, Martin\, Nikolas a Jarek společně s tanečníky Štěpánem\, Sayem a Danem pro Vás tentokrát připravili další bláznivou komedii z prostředí české vesnické hospody.Rázná hospodská Maruna\, která má nejen celý svůj hostinec\, ale také všechny svoje štamgasty pod palcem a k tomu příběhy\, které píše sám život. Co všechno se dá zažít v jedné vesnické hospůdce během přípravy hasičského plesu\, to uvidíte právě v české hudební komedii „Hostinec u Maruny“. Chybět nebude pořádná dávka českého humoru\, láska\, hospodská rvačka a pivo poteče jak jinak než proudem. Samozřejmě zazní během večera české hospodské písničky\, které si budete broukat ještě na cestě domů a i celý druhý den…Všechna představení jsou vlastní autorskou tvorbou pánů z Techtle Mechtle revue\, a to od scénáře\, přes dialogy\, hudbu\, návrhy scény i kostýmů. Nenechte si ujít strhující hudební představení v podání nejúspěšnějších českých travesti umělců a jejich tanečníků. \n\nTento tip na kulturní akci v Drnovice najdete v přehledu na Dnesnivylet.cz spolu s dalšími koncerty\, festivaly a divadelními představeními.Každý si vybere co se mu líbí. Nezapomeňte koupit vstupenky včas\, stačí kliknout a budete přesměrování na oficiálního prodejce vstupenek.
URL:https://dnesnivylet.cz/event/techtle-mechtle-hostinec-u-maruny-2/
LOCATION:KD Drnovice u Vyškova\, Drnovice\, KD Drnovice u Vyškova\, Drnovice\, Česká republika
CATEGORIES:Divadlo
ATTACH;FMTTYPE=image/jpeg:https://dnesnivylet.cz/wp-content/uploads/2025/10/320-40d58115b227446b8048a0e753d65e56-1.jpg
END:VEVENT
BEGIN:VEVENT
DTSTART;TZID=Europe/Prague:20260310T190000
DTEND;TZID=Europe/Prague:20260310T220000
DTSTAMP:20260419T161909
CREATED:20251129T085237Z
LAST-MODIFIED:20251129T085237Z
UID:14285-1773169200-1773180000@dnesnivylet.cz
SUMMARY:Na ocet
DESCRIPTION:Na ocet se uskuteční dne 2026-03-10 v 19:00 v Čelákovice\, KD Čelákovice. \n🎟️ Koupit vstupenku \n\n  \nSvižná komedie o dvou smolařích a nepřízni osudu\, ale s docela slibným koncem. Jana a Michal jsou dva životní smolaři\, kteří zůstali „na ocet.“ Michal je rozvedený neúspěšný obchodní zástupce\, otec Jonatana\, Jana je svobodná matka šestnácti leté dcery Lucie. Ač se děti na scéně nikdy neobjeví\, hrají v životě každého z nich důležitou roli. Změní láska jejich životy k lepšímu nebo jim je ještě více zamotá? \n  \nÚčinkující: Jan Dolanský\, Lenka Vlasáková \n  \nDélka představení: 1 hodina 40 minut \nPřestávka: Ano \nPremiéra: 15. února 2024 \nAutor: Donald Churchill \nPřeklad: Marta Skarlandtová \nRežie: Pavel Šimák \nFotografie: Martin Šimral \nProdukce: JT PROMOTION s.r.o. \n  \n  \n\nTento tip na kulturní akci v Čelákovice najdete v přehledu na Dnesnivylet.cz spolu s dalšími koncerty\, festivaly a divadelními představeními.Každý si vybere co se mu líbí. Nezapomeňte koupit vstupenky včas\, stačí kliknout a budete přesměrování na oficiálního prodejce vstupenek.
URL:https://dnesnivylet.cz/event/na-ocet-3/
LOCATION:KD Čelákovice\, Čelákovice\, KD Čelákovice\, Čelákovice\, Česká republika
CATEGORIES:Divadlo
ATTACH;FMTTYPE=image/jpeg:https://dnesnivylet.cz/wp-content/uploads/2025/11/320-506c0d66c8db475b942cf920db5f5390.jpg
END:VEVENT
BEGIN:VEVENT
DTSTART;TZID=Europe/Prague:20260310T190000
DTEND;TZID=Europe/Prague:20260310T220000
DTSTAMP:20260419T161909
CREATED:20260310T171244Z
LAST-MODIFIED:20260310T171244Z
UID:19317-1773169200-1773180000@dnesnivylet.cz
SUMMARY:Klára 3847
DESCRIPTION:Klára 3847 se uskuteční dne 2026-03-10 v 19:00 v Pardubice\, KD Hronovická. \n🎟️ Koupit vstupenku \n\nInscenovaný dokument podle skutečných událostí z období holocaustu během druhé světové války. \nPříběh Kláry Brodyové\, která byla v roce 1942 pro svůj židovský původ odvezena do koncentračního tábora Osvětim a vězněna tam až do konce války. To\, že byla vězněna v Osvětimi\, připomínalo jen číslo 3847 vytetované na jejím předloktí.  \nDívka\, která jako jediná z patnáctičlenné rodiny přežila útrapy transportu\, selekci\, těžkou práci\, mučení i pochod smrti\, vyprávěla svůj příběh své vnučce\, která se jej rozhodla převést na jeviště. A to především proto\, aby se už nic takového nemohlo opakovat. \nV titulní roli vnučka Kláry – Lenka Lavičková. \n\nTento tip na kulturní akci v Pardubice najdete v přehledu na Dnesnivylet.cz spolu s dalšími koncerty\, festivaly a divadelními představeními.Každý si vybere co se mu líbí. Nezapomeňte koupit vstupenky včas\, stačí kliknout a budete přesměrování na oficiálního prodejce vstupenek.
URL:https://dnesnivylet.cz/event/klara-3847/
LOCATION:KD Hronovická\, Pardubice\, KD Hronovická\, Pardubice\, Česká republika
CATEGORIES:Divadlo
ATTACH;FMTTYPE=image/jpeg:https://dnesnivylet.cz/wp-content/uploads/2026/03/320-eed38f58b3934aaf8baf0c223c715cec.jpg
END:VEVENT
BEGIN:VEVENT
DTSTART;TZID=Europe/Prague:20260310T190000
DTEND;TZID=Europe/Prague:20260310T220000
DTSTAMP:20260419T161909
CREATED:20260310T172815Z
LAST-MODIFIED:20260310T172816Z
UID:19375-1773169200-1773180000@dnesnivylet.cz
SUMMARY:Techtle Mechtle - Hostinec u Maruny
DESCRIPTION:Techtle Mechtle – Hostinec u Maruny se uskuteční dne 2026-03-10 v 19:00 v Drnovice\, KD Drnovice u Vyškova. \n🎟️ Koupit vstupenku \n\nNejvětší česká travesti show Techtle Mechtle přiváží novou divadelní komedii HOSTINEC U MARUNY  \nTechtle Mechtle revue je v současné době nejúspěšnější česká show na poli divadelní scény. V podání Techtle Mechtle se vždy jedná o propracované divadelní představení s výpravnou scénou a více jak 80-ti kostýmy. Všechna představení jsou jednou velkou komedií\, a to od začátku až do konce.Má to jen jeden háček – všechny role\, a to včetně těch dámských\, tu hrají pouze muži a ti jsou navíc k nerozeznání od skutečných žen. Pánové Lukáš\, Martin\, Nikolas a Jarek společně s tanečníky Štěpánem\, Sayem a Danem pro Vás tentokrát připravili další bláznivou komedii z prostředí české vesnické hospody.Rázná hospodská Maruna\, která má nejen celý svůj hostinec\, ale také všechny svoje štamgasty pod palcem a k tomu příběhy\, které píše sám život. Co všechno se dá zažít v jedné vesnické hospůdce během přípravy hasičského plesu\, to uvidíte právě v české hudební komedii „Hostinec u Maruny“. Chybět nebude pořádná dávka českého humoru\, láska\, hospodská rvačka a pivo poteče jak jinak než proudem. Samozřejmě zazní během večera české hospodské písničky\, které si budete broukat ještě na cestě domů a i celý druhý den…Všechna představení jsou vlastní autorskou tvorbou pánů z Techtle Mechtle revue\, a to od scénáře\, přes dialogy\, hudbu\, návrhy scény i kostýmů. Nenechte si ujít strhující hudební představení v podání nejúspěšnějších českých travesti umělců a jejich tanečníků. \n\nTento tip na kulturní akci v Drnovice najdete v přehledu na Dnesnivylet.cz spolu s dalšími koncerty\, festivaly a divadelními představeními.Každý si vybere co se mu líbí. Nezapomeňte koupit vstupenky včas\, stačí kliknout a budete přesměrování na oficiálního prodejce vstupenek.
URL:https://dnesnivylet.cz/event/techtle-mechtle-hostinec-u-maruny-7/
LOCATION:KD Drnovice u Vyškova\, Drnovice\, KD Drnovice u Vyškova\, Drnovice\, Česká republika
CATEGORIES:Divadlo
ATTACH;FMTTYPE=image/jpeg:https://dnesnivylet.cz/wp-content/uploads/2026/03/320-fc536edfca544c51bd36b9feed3ee67b.jpg
END:VEVENT
END:VCALENDAR