BEGIN:VCALENDAR
VERSION:2.0
PRODID:-//www.dnesnivylet.cz                                                                                                                        Tip na výlet pro celou rodinu. - ECPv6.15.13.1//NONSGML v1.0//EN
CALSCALE:GREGORIAN
METHOD:PUBLISH
X-WR-CALNAME:www.dnesnivylet.cz                                                                                                                        Tip na výlet pro celou rodinu.
X-ORIGINAL-URL:https://dnesnivylet.cz
X-WR-CALDESC:Akce na www.dnesnivylet.cz                                                                                                                        Tip na výlet pro celou rodinu.
REFRESH-INTERVAL;VALUE=DURATION:PT1H
X-Robots-Tag:noindex
X-PUBLISHED-TTL:PT1H
BEGIN:VTIMEZONE
TZID:Europe/Prague
BEGIN:DAYLIGHT
TZOFFSETFROM:+0100
TZOFFSETTO:+0200
TZNAME:CEST
DTSTART:20250330T010000
END:DAYLIGHT
BEGIN:STANDARD
TZOFFSETFROM:+0200
TZOFFSETTO:+0100
TZNAME:CET
DTSTART:20251026T010000
END:STANDARD
BEGIN:DAYLIGHT
TZOFFSETFROM:+0100
TZOFFSETTO:+0200
TZNAME:CEST
DTSTART:20260329T010000
END:DAYLIGHT
BEGIN:STANDARD
TZOFFSETFROM:+0200
TZOFFSETTO:+0100
TZNAME:CET
DTSTART:20261025T010000
END:STANDARD
BEGIN:DAYLIGHT
TZOFFSETFROM:+0100
TZOFFSETTO:+0200
TZNAME:CEST
DTSTART:20270328T010000
END:DAYLIGHT
BEGIN:STANDARD
TZOFFSETFROM:+0200
TZOFFSETTO:+0100
TZNAME:CET
DTSTART:20271031T010000
END:STANDARD
END:VTIMEZONE
BEGIN:VEVENT
DTSTART;TZID=Europe/Prague:20260311T190000
DTEND;TZID=Europe/Prague:20260311T220000
DTSTAMP:20260419T174043
CREATED:20260105T203254Z
LAST-MODIFIED:20260105T203255Z
UID:16327-1773255600-1773266400@dnesnivylet.cz
SUMMARY:Divadlo Verze – Lež aneb komedie o pravdě
DESCRIPTION:Divadlo Verze – Lež aneb komedie o pravdě se uskuteční dne 2026-03-11 v 19:00 v Moravský Krumlov\, Kulturní a kreativní centrum. \n🎟️ Koupit vstupenku \n\nDivadlo Verze – Lež aneb komedie o pravdě \nKomedie o tom do jak komplikovaných situací vás může zavézt lež. Jak je těžké poznat\, kdo je vlastně lhářem a jestli nakonec není lež milosrdnější než pravda.  \nAlice a Paul jsou poměrně šťastný a spokojený manželský pár. Jednoho dne čekají hosty k večeři – své dlouholeté přátele Laurence a Michela\, kteří také žijí v harmonickém manželství. Alice je ale celá nesvá a žádá po manželovi\, aby večeři na poslední chvíli odvolal. Ten a chce znát důvod\, proč? Ona mu pravý důvod nechce říct: toho dne dopoledne zahlédla ve městě Michela\, jak se líbá s cizí ženou. Jejich hosté jsou už ale za dveřmi a návštěvu není možné zrušit… \nRežie: Thomas Zielinsky \nHrají: Petra špalková\, Petr Lněnička\, Eva Kodešová/Gabriela Mikulková\, Igor Chmela. \nDélka představení: 1 hod 40 minut bez přestávky \n  \n\nTento tip na kulturní akci v Moravský Krumlov najdete v přehledu na Dnesnivylet.cz spolu s dalšími koncerty\, festivaly a divadelními představeními.Každý si vybere co se mu líbí. Nezapomeňte koupit vstupenky včas\, stačí kliknout a budete přesměrování na oficiálního prodejce vstupenek.
URL:https://dnesnivylet.cz/event/divadlo-verze-lez-aneb-komedie-o-pravde/
LOCATION:Kulturní a kreativní centrum\, Moravský Krumlov\, Kulturní a kreativní centrum\, Moravský Krumlov\, Česká republika
CATEGORIES:Divadlo
ATTACH;FMTTYPE=image/jpeg:https://dnesnivylet.cz/wp-content/uploads/2026/01/320-677692bb721a434fa27b2ff203a92098.jpg
END:VEVENT
BEGIN:VEVENT
DTSTART;TZID=Europe/Prague:20260311T190000
DTEND;TZID=Europe/Prague:20260311T220000
DTSTAMP:20260419T174043
CREATED:20260310T171125Z
LAST-MODIFIED:20260310T171125Z
UID:19299-1773255600-1773266400@dnesnivylet.cz
SUMMARY:Gurumánie
DESCRIPTION:Gurumánie se uskuteční dne 2026-03-11 v 19:00 v Brno\, Co.Labs. \n🎟️ Koupit vstupenku \n\nGURUMÁNIE \nI ty se můžeš vydat na cestu ke spasení! I ty můžeš na tuto cestu přivést své blízké i neznámé. I ty můžeš být GURU! \nVem si na sebe svůj nejlepší talisman nebo bílé Nike tenisky a přijď do divadla zjistit\, jak si založit svou vlastní sektu. \n  \n“Slovo “sekty” v sobě obsahuje už negativní hodnocení\, používejme radši neutrální pojem “nové náboženské hnutí”.” \nCo uděláš\, když za tebou někdo přijde s tím\, že má problémy? Naverbuješ ho do svého baletního souboru? Nebo mu prodáš svou knihu? Daruješ mu bílý hábit? Nebo mu jednoduše vysvětlíš\, že už se nebude dlouho trápit\, protože konec světa se blíží?  \nDrsný\, co? \n  \n“Ztratil jsem víru a chtěl bych najít něco víc. Něco\, co by mě přesahovalo.”  \nPři tvorbě představení jsme zkoumali různé druhy nových náboženských hnutí\, a s tím spojený životní styl členek a členů těchto společenství. Jejich zvyky\, rituály\, víru a přísnou hierarchii. Co přiměje často vzdělané a úspěšné lidi\, aby opustili všechno co mají a oddali se úplně novému životu v lůně sekty? Co z toho mají vůdcové hnutí? Proč to dělají? Samozřejmě se zdá\, že důvody jsou nakonec mnohem víc materialistické než spirituální. Ale co už. Doba je těžká pro všechny. \n  \n“Opět vás vítáme u vašeho oblíbeného kuchařského pořadu\, Peče celá sekta. V dnešním kulinářském klání se vám představí tři odvážní kuchaři ze všech koutů ideologického spektra\, s odlišným přístupem nejen k vaření\, ale také k životu.” \n​ \nPředstavení Gurumánie je svěží a hravou variací na všemožné televizní soutěžní show. Jenom téma zůstává stejné. Sekty\, sekty\, sekty. Než to nakonec bouchne. Nebo vypění?  \n​ \n​ \nFunTip: Po příchodu do sálu se na pár sekund postavte do své “charismatický/á guru pozice”. Třeba to klapne a skutečně někoho naverbujete… \n​ \n\nTento tip na kulturní akci v Brno najdete v přehledu na Dnesnivylet.cz spolu s dalšími koncerty\, festivaly a divadelními představeními.Každý si vybere co se mu líbí. Nezapomeňte koupit vstupenky včas\, stačí kliknout a budete přesměrování na oficiálního prodejce vstupenek.
URL:https://dnesnivylet.cz/event/gurumanie/
LOCATION:Co.Labs\, Brno\, Co.Labs\, Brno\, Česká republika
CATEGORIES:Divadlo
ATTACH;FMTTYPE=image/jpeg:https://dnesnivylet.cz/wp-content/uploads/2026/03/320-b3c8d9e1414f48fcb62ead9636249732.jpg
END:VEVENT
END:VCALENDAR