BEGIN:VCALENDAR
VERSION:2.0
PRODID:-//www.dnesnivylet.cz                                                                                                                        Tip na výlet pro celou rodinu. - ECPv6.15.13.1//NONSGML v1.0//EN
CALSCALE:GREGORIAN
METHOD:PUBLISH
X-ORIGINAL-URL:https://dnesnivylet.cz
X-WR-CALDESC:Akce na www.dnesnivylet.cz                                                                                                                        Tip na výlet pro celou rodinu.
REFRESH-INTERVAL;VALUE=DURATION:PT1H
X-Robots-Tag:noindex
X-PUBLISHED-TTL:PT1H
BEGIN:VTIMEZONE
TZID:Europe/Prague
BEGIN:DAYLIGHT
TZOFFSETFROM:+0100
TZOFFSETTO:+0200
TZNAME:CEST
DTSTART:20250330T010000
END:DAYLIGHT
BEGIN:STANDARD
TZOFFSETFROM:+0200
TZOFFSETTO:+0100
TZNAME:CET
DTSTART:20251026T010000
END:STANDARD
BEGIN:DAYLIGHT
TZOFFSETFROM:+0100
TZOFFSETTO:+0200
TZNAME:CEST
DTSTART:20260329T010000
END:DAYLIGHT
BEGIN:STANDARD
TZOFFSETFROM:+0200
TZOFFSETTO:+0100
TZNAME:CET
DTSTART:20261025T010000
END:STANDARD
BEGIN:DAYLIGHT
TZOFFSETFROM:+0100
TZOFFSETTO:+0200
TZNAME:CEST
DTSTART:20270328T010000
END:DAYLIGHT
BEGIN:STANDARD
TZOFFSETFROM:+0200
TZOFFSETTO:+0100
TZNAME:CET
DTSTART:20271031T010000
END:STANDARD
END:VTIMEZONE
BEGIN:VEVENT
DTSTART;TZID=Europe/Prague:20260313T180000
DTEND;TZID=Europe/Prague:20260313T210000
DTSTAMP:20260419T161905
CREATED:20251215T111508Z
LAST-MODIFIED:20251215T111509Z
UID:15466-1773424800-1773435600@dnesnivylet.cz
SUMMARY:Fetish Burlesque Cabaret vol. 7
DESCRIPTION:Fetish Burlesque Cabaret vol. 7 se uskuteční dne 2026-03-13 v 18:00 v Praha\, Klub Kotelna. \n🎟️ Koupit vstupenku \n\nPřipravte se na večer\, kde se elegance potkává s odvahou a fantazie dostává reálnou podobu. \n  \nBurleska v celé své kráse\, atmosféra\, která otevře prostor hravosti\, svádění a smyslné estetiky.  \n  \nPonořte se tam\, kde se svádění mění v siluetu těla\, kde zvuk podpatků znamená začátek hry a kde se hranice nevinnosti lehce rozmazává krajkou\, kůží a pohledem\, který říká víc než slova. \n  \nKlub se otvírá v 18 hod\, show začíná v 21 hodin \nVstup od 18 let \n  \nPřijďte se dívat \, obdivovat\, prožívat!  \nDresscode – creative black tie\, elegance\, fetish…..rifle nechte doma \nOmezená kapacita – doporučujeme včasnou rezervaci cez smsticket –  \nTěšíme se na vás. \n===================================== \nGet ready for an evening where elegance meets courage and fantasy takes on a real form. \n  \nBurlesque in all its glory\, an atmosphere that opens up a space of playfulness\, seduction and sensual aesthetics. \n  \nImmerse yourself where seduction turns into a silhouette of the body\, where the sound of heels means the beginning of the game and where the line of innocence is slightly blurred with lace\, leather and a look that says more than words. \n  \nThe club opens at 6 pm\, the show starts at 9 pm \nEntrance from 18 years old \nCome watch\, admire\, experience! \nDresscode – creative black tie\, elegance\, fetish…..leave the rifle at home. \nLimited capacity – early booking is recommended through smsticket \n  \nWe look forward to seeing you. \n\nTento tip na kulturní akci v Praha najdete v přehledu na Dnesnivylet.cz spolu s dalšími koncerty\, festivaly a divadelními představeními.Každý si vybere co se mu líbí. Nezapomeňte koupit vstupenky včas\, stačí kliknout a budete přesměrování na oficiálního prodejce vstupenek.
URL:https://dnesnivylet.cz/event/fetish-burlesque-cabaret-vol-7/
LOCATION:Klub Kotelna\, Praha\, Klub Kotelna\, Praha\, Česká republika
CATEGORIES:Divadlo
ATTACH;FMTTYPE=image/jpeg:https://dnesnivylet.cz/wp-content/uploads/2025/12/320-e15517f4e5ec4efa8bf01dbbeb8e088f.jpg
END:VEVENT
BEGIN:VEVENT
DTSTART;TZID=Europe/Prague:20260313T193000
DTEND;TZID=Europe/Prague:20260313T223000
DTSTAMP:20260419T161905
CREATED:20260306T172716Z
LAST-MODIFIED:20260306T172717Z
UID:19075-1773430200-1773441000@dnesnivylet.cz
SUMMARY:Honzlův Humpolec - Nejstarší řemeslo
DESCRIPTION:Honzlův Humpolec – Nejstarší řemeslo se uskuteční dne 2026-03-13 v 19:30 v Humpolec\, Kino. \n🎟️ Koupit vstupenku \n\nDivadelní soubor Karla Čapka Třešť\, z.s.\, uvádí inscenaci: \nNejstarší řemeslo \nAutor: Paula VogelPřeklad: Alexander JerieRežie: Zdeněk Stejskal\, j.h. \n  \nOsoby a obsazení  \nVera – Jana Kadlecová Edna – Jitka HavlíčkováUrsula – Regina HinkováMae – Květoslava MrskočováLillian – Ivana Šabatková \nSvětla: Vojtěch Zabloudil / Ladislav NešporZvuk: Zdeněk HavlíčekNávrh scény a výběr hudby: Zdeněk Stejskal\, j.h.Realizace scény: Václav Vrátil a členové DS Karla Čapka TřešťNávrhy kostýmů: Jitka HavlíčkováVizážistka a vlásenkářka: Jolana OpatrnáText sleduje: Božena Hanousková a Klára NehybováProdukce: Zdeněk HavlíčekGrafika: Veronika Hana MátlováFoto: Václav Vrátil a Zdeněk Havlíček \n  \nAnotace \nVtipné a přitom moudré podobenství o lidském životě\, společnosti a o tom\, co je víc\, zda moderní strategie nebo obyčejná lidskost. I nejstarší zástupkyně “nejstaršího řemesla” potřebují vědět\, co je to marketing\, chtějí−li obstát v ekonomické konkurenci… \nPět dam v nejlepším věku se pravidelně schází kdesi v New Yorku. Probírají různá témata\, ale my za chvíli pochopíme\, že titul Nejstarší řemeslo se vztahuje právě k nim… Znají se celý život\, ví o sobě vše a nikdy se neopustí. Co je drží pohromadě? Potřebuje jejich řemeslo účinný marketing\, efektivní komunikaci a funkční management\, aby obstálo v ekonomické konkurenci? Nebo jim zbývá jen dřít do roztrhání těla? \nZnámá americká dramatička Paula Vogel popisuje s hořkým humorem život dam\, které se cele a doživotně upsaly nejstaršímu řemeslu. \n  \nSponzoři a partneři: Město Třešť\, ČSOB Pojišťovna\, Generali Česká pojišťovna\, H & H Pojištění – Zdeněk a Jitka Havlíčkovi\, Ztřeštěná keramika Ilona Štumarová\, MadCat\, AUTONOT v.o.s.\, Podzimek & synové\, DILIA \nLicenci a veškeré autorizované materiály k inscenaci poskytla společnost WILLIAM MORRIS ENDEAVOR ENTERTAINMENT\, LLC.\, zastoupení v ČR – DILIA\, z.s. \nPremiéra: 18. října 2025 v Kulturním domě Třešť \nDélka představení 75 minut bez přestávky. \n\nTento tip na kulturní akci v Humpolec najdete v přehledu na Dnesnivylet.cz spolu s dalšími koncerty\, festivaly a divadelními představeními.Každý si vybere co se mu líbí. Nezapomeňte koupit vstupenky včas\, stačí kliknout a budete přesměrování na oficiálního prodejce vstupenek.
URL:https://dnesnivylet.cz/event/honzluv-humpolec-nejstarsi-remeslo/
LOCATION:Kino\, Humpolec\, Kino\, Humpolec\, Česká republika
CATEGORIES:Divadlo
ATTACH;FMTTYPE=image/jpeg:https://dnesnivylet.cz/wp-content/uploads/2026/03/320-82ee1f43c0bd439aa5de6b2f204420b1.jpg
END:VEVENT
END:VCALENDAR