BEGIN:VCALENDAR
VERSION:2.0
PRODID:-//www.dnesnivylet.cz                                                                                                                        Tip na výlet pro celou rodinu. - ECPv6.15.13.1//NONSGML v1.0//EN
CALSCALE:GREGORIAN
METHOD:PUBLISH
X-WR-CALNAME:www.dnesnivylet.cz                                                                                                                        Tip na výlet pro celou rodinu.
X-ORIGINAL-URL:https://dnesnivylet.cz
X-WR-CALDESC:Akce na www.dnesnivylet.cz                                                                                                                        Tip na výlet pro celou rodinu.
REFRESH-INTERVAL;VALUE=DURATION:PT1H
X-Robots-Tag:noindex
X-PUBLISHED-TTL:PT1H
BEGIN:VTIMEZONE
TZID:Europe/Prague
BEGIN:DAYLIGHT
TZOFFSETFROM:+0100
TZOFFSETTO:+0200
TZNAME:CEST
DTSTART:20250330T010000
END:DAYLIGHT
BEGIN:STANDARD
TZOFFSETFROM:+0200
TZOFFSETTO:+0100
TZNAME:CET
DTSTART:20251026T010000
END:STANDARD
BEGIN:DAYLIGHT
TZOFFSETFROM:+0100
TZOFFSETTO:+0200
TZNAME:CEST
DTSTART:20260329T010000
END:DAYLIGHT
BEGIN:STANDARD
TZOFFSETFROM:+0200
TZOFFSETTO:+0100
TZNAME:CET
DTSTART:20261025T010000
END:STANDARD
BEGIN:DAYLIGHT
TZOFFSETFROM:+0100
TZOFFSETTO:+0200
TZNAME:CEST
DTSTART:20270328T010000
END:DAYLIGHT
BEGIN:STANDARD
TZOFFSETFROM:+0200
TZOFFSETTO:+0100
TZNAME:CET
DTSTART:20271031T010000
END:STANDARD
END:VTIMEZONE
BEGIN:VEVENT
DTSTART;TZID=Europe/Prague:20260314T100000
DTEND;TZID=Europe/Prague:20260314T130000
DTSTAMP:20260419T174046
CREATED:20251129T055119Z
LAST-MODIFIED:20251129T055119Z
UID:13943-1773482400-1773493200@dnesnivylet.cz
SUMMARY:Pohádkovaná aneb pohádky pro děti v Horké vaně
DESCRIPTION:Pohádkovaná aneb pohádky pro děti v Horké vaně se uskuteční dne 2026-03-14 v 10:00 v České Budějovice\, Horká Vana. \n🎟️ Koupit vstupenku \n\nPohádkovaná – pohádky pro děti v Horké vaně 2025/2026 \nPohádkovaná v Horké vaně je už tradicí!Letos již po 7 jsme pro vás připravili rekordních 20 pohádek – každou sobotu dopoledne od října do března. \nPohádky jsou určeny dětem ve věku 2–12 let\, ale často pobaví rodiče i prarodiče.A zatímco děti sledují princezny\, čerty a vodníky\, vy si můžete vychutnat kávu ve vedlejší Horké vaně. \n\nZačátek představení: 10:00\nVstup do sálu: od 9:30\nDélka představení: cca 45–50 minut\nMísto: Horká vana\, Česká 222/7\, České Budějovice\nKapacita sálu je omezená!\nRezervace: jen zakoupením vstupenky v předprodeji (doporučujeme).\nCena:\n\npředprodej 90 Kč\nna místě 100 Kč (pouze pokud zůstane volná kapacita)\n\n\nSezení je volné – kdo dřív přijde\, ten dřív sedí.\nParkování: o víkendu zdarma na Parkovišti Mariánské náměstí i na zónách CBT1 a CBT2.\n\n  \nProgram – JARO 2026 \n10.01. – Čaroděj a pyšná princezna – Téměř divadelní společnost17.01. – Pohádky z kufru – Marediv24.01. – O ševci Kubovi – Divadýlko Mrak31.01. – Šípková Růženka – Studio dell’arte07.02. – Otesánek – Já to jsem14.02. – Moudrý rádce – Divadlo Studna21.02. – Vodnická škola – Rybníkáři28.02. – Matěj a čerti – Lokvar07.03. – Kouzelný zvoneček – Divoloď \n14.03. – Pirátská pohádka – Kubko \n21.03. – Makový mužíček – Divadlo Dokola \n  \nStaňte se členem FB skupiny Pohádkovaná – a žádná pohádka vám už neuteče! \n\nTento tip na kulturní akci v České Budějovice najdete v přehledu na Dnesnivylet.cz spolu s dalšími koncerty\, festivaly a divadelními představeními.Každý si vybere co se mu líbí. Nezapomeňte koupit vstupenky včas\, stačí kliknout a budete přesměrování na oficiálního prodejce vstupenek.
URL:https://dnesnivylet.cz/event/pohadkovana-aneb-pohadky-pro-deti-v-horke-vane-14/
LOCATION:Horká Vana\, České Budějovice\, Horká Vana\, České Budějovice\, Česká republika
CATEGORIES:Divadlo
ATTACH;FMTTYPE=image/jpeg:https://dnesnivylet.cz/wp-content/uploads/2025/11/320-994ba8a511974c14935a7e084ea98111.jpg
END:VEVENT
BEGIN:VEVENT
DTSTART;TZID=Europe/Prague:20260314T170000
DTEND;TZID=Europe/Prague:20260314T200000
DTSTAMP:20260419T174046
CREATED:20251123T112550Z
LAST-MODIFIED:20251123T112550Z
UID:13758-1773507600-1773518400@dnesnivylet.cz
SUMMARY:KNIHA DŽUNGLÍ - Frýdek Místek
DESCRIPTION:KNIHA DŽUNGLÍ – Frýdek Místek se uskuteční dne 2026-03-14 v 17:00 v Frýdek-Místek\, Národní dům. \n🎟️ Koupit vstupenku \n\nMuzikál KNIHA DŽUNGLÍ – největší rodinný zážitek roku 2026! \nOd ledna 2026 přichází do 55 měst po celé České republice překvapení pro celou rodinu! Novinka od producentů rodinných muzikálů\, jako je Popelka\, Alenka v říši divů či Vánoční loupež. \nČeká vás příběh plný emocí\, hudby\, smíchu i napětí – a to přímo ve vašem městě! \nSeznámíte se s odvážným Mauglím\, moudrým vlčím vůdcem Akélou\, ušlechtilým a statečným panterem Baghírou\, rozverným medvědem Balúem\, jehož kostým je jediný svého druhu v Evropě! Velkolepý dojem zanechá také obrovský král opic – gorila Ludvík v unikátním kostýmu. \nObrovským lákadlem je jedinečný kostým Hada KAA\, jaký jste ještě nikdy neviděli! \nO napětí se postará nelítostný tygr Šerchán\, jeho komicko-zákeřný společník hyena Tabaki\, a atmosféru odlehčí i vtipný a upovídaný papoušek a další známá zvířata. \n Spolu s projekcemi a dechberoucími vizuálními efekty se ocitnete přímo uprostřed kouzelné džungle. \nDěti se stanou součástí představení – pomohou Mauglímu zahnat Šerchána nebo najít med pro medvěda Balů\,  a společně s herci dotvářet kouzelný příběh. \nInteraktivní část vás vtáhne do děje – zvířata z džungle se objeví nejen na jevišti\, ale i mezi dětmi v hledišti\, aby si každý mohl zažít pocit\, že je součástí příběhu. \nSpeciální bonus: Každé dítě dostane ke vstupence zvířecí masku dle vlastního výběru.A po představení čeká malé diváky jedinečná možnost vyfotit se přímo na jevišti s herci v kostýmech! \n  \nTip na vánoční dárek!Darujte svým dětem a celé rodině nezapomenutelný zážitek – vstupenky na muzikál\, o kterém se bude mluvit ještě dlouho. \nToto není jen muzikál. Je to největší zážitek u vás doma\, ve vašem městě! \nPředprodej vstupenek spuštěn právě teď – kapacita je omezená.Kupte si vstupenky v síti smsticket a buďte u muzikálové události roku 2026! \n\nTento tip na kulturní akci v Frýdek-Místek najdete v přehledu na Dnesnivylet.cz spolu s dalšími koncerty\, festivaly a divadelními představeními.Každý si vybere co se mu líbí. Nezapomeňte koupit vstupenky včas\, stačí kliknout a budete přesměrování na oficiálního prodejce vstupenek.
URL:https://dnesnivylet.cz/event/kniha-dzungli-frydek-mistek/
LOCATION:Národní dům\, Frýdek-Místek\, Národní dům\, Frýdek-Místek\, Česká republika
CATEGORIES:Divadlo
ATTACH;FMTTYPE=image/jpeg:https://dnesnivylet.cz/wp-content/uploads/2025/11/320-ceb2c568facb43139fb6763b41246455.jpg
END:VEVENT
BEGIN:VEVENT
DTSTART;TZID=Europe/Prague:20260314T190000
DTEND;TZID=Europe/Prague:20260314T220000
DTSTAMP:20260419T174046
CREATED:20251102T202250Z
LAST-MODIFIED:20251102T202250Z
UID:11355-1773514800-1773525600@dnesnivylet.cz
SUMMARY:Tři na tahu
DESCRIPTION:Tři na tahu se uskuteční dne 2026-03-14 v 19:00 v Hlučín\, Kulturní dům. \n🎟️ Koupit vstupenku \n\nPřipravte se na  večer plný smíchu\, ostrých hlášek a nečekaných příběhů! Na jednom pódiu se setkávají legendy české zábavy – Jakub Kohák\, mistr improvizace a král absurdního humoru\, a Patrik Hezucký\, nejostřejší jazyk českého éteru\, který má vždy po ruce trefnou hlášku. Celou show s elegancí a šarmem provede zkušená a vtipná moderátorka Katka Říhová\, která udrží tuhle jízdu v těch správných kolejích… nebo možná taky ne!  \n  \nProč si tuhle show nesmíte nechat ujít?Historky\, které jpobaví vaši bránici – zákulisní drby\, šílené momenty z rádia\, televize i běžného života!Improvizace na plné pecky – tady se jede na první dobrou\, žádné hrané scénáře\, jen čistá energie a humor!Interakce s publikem – čekejte nečekané otázky\, vtipné výzvy a možná i šanci stát se na chvíli součástí show \n  \nNa co se připravit?Na pořádně ostrou a nekorektní jízdu! Kohákův nevyzpytatelný humor\, Hezuckého glosy a Katčiny pohotové reakce vytvoří kombinaci\, která vás rozesměje až k slzám. Tohle nebude žádná uhlazená talkshow plná klišé – tady se bude říkat všechno na rovinu a bez cenzury!  \n  \nTěšit se můžete těšit i na krásný hlas Katky říhové\, která v pořadu zazpívá \n\nTento tip na kulturní akci v Hlučín najdete v přehledu na Dnesnivylet.cz spolu s dalšími koncerty\, festivaly a divadelními představeními.Každý si vybere co se mu líbí. Nezapomeňte koupit vstupenky včas\, stačí kliknout a budete přesměrování na oficiálního prodejce vstupenek.
URL:https://dnesnivylet.cz/event/tri-na-tahu/
LOCATION:Kulturní dům\, Hlučín\, Kulturní dům\, Hlučín\, Česká republika
CATEGORIES:Divadlo
ATTACH;FMTTYPE=image/jpeg:https://dnesnivylet.cz/wp-content/uploads/2025/11/320-862f97663d014b37ae80588f7c66b3a0.jpg
END:VEVENT
BEGIN:VEVENT
DTSTART;TZID=Europe/Prague:20260314T190000
DTEND;TZID=Europe/Prague:20260314T220000
DTSTAMP:20260419T174046
CREATED:20260209T193012Z
LAST-MODIFIED:20260209T193012Z
UID:17767-1773514800-1773525600@dnesnivylet.cz
SUMMARY:Šest v tom
DESCRIPTION:Šest v tom se uskuteční dne 2026-03-14 v 19:00 v Štěpánov\, Kinosál. \n🎟️ Koupit vstupenku \n\n\,\, Šest v tom“ patří už několik let mezi nejlepší současné komedie a všude sklízí zasloužený úspěch.  Dialogy ostré jako bič a vtip – nenechají diváky ani na chvíli vydechnout. Třaskavou komedii plnou humoru\, po které nikdo není chytřejší\, ale zdravější – neboť smích léčí\, uvádí Agentura Snů v české premiéře. \nManželé Rogers a Daisy Braunovi opět spadnou až na úplné dno. Přijdou na spásný nápad. Zdá se\, že konečně budou mít po starostech. Ale všechno dopadne úplně jinak. \nHrají herci známí z televizních obrazovek. \nOsoby a obsazení: Jaroslav Sypal\, Jaroslava Stránská\, Petr Batěk\, Eva Hráská a Petr Vojnar.  \n  \n\nTento tip na kulturní akci v Štěpánov najdete v přehledu na Dnesnivylet.cz spolu s dalšími koncerty\, festivaly a divadelními představeními.Každý si vybere co se mu líbí. Nezapomeňte koupit vstupenky včas\, stačí kliknout a budete přesměrování na oficiálního prodejce vstupenek.
URL:https://dnesnivylet.cz/event/sest-v-tom-2/
LOCATION:Kinosál\, Štěpánov\, Kinosál\, Štěpánov\, Česká republika
CATEGORIES:Divadlo
ATTACH;FMTTYPE=image/jpeg:https://dnesnivylet.cz/wp-content/uploads/2026/02/320-60cfa9fcf2544cdd9b4b8c61e0f24e7d.jpg
END:VEVENT
END:VCALENDAR