BEGIN:VCALENDAR
VERSION:2.0
PRODID:-//www.dnesnivylet.cz                                                                                                                        Tip na výlet pro celou rodinu. - ECPv6.15.13.1//NONSGML v1.0//EN
CALSCALE:GREGORIAN
METHOD:PUBLISH
X-WR-CALNAME:www.dnesnivylet.cz                                                                                                                        Tip na výlet pro celou rodinu.
X-ORIGINAL-URL:https://dnesnivylet.cz
X-WR-CALDESC:Akce na www.dnesnivylet.cz                                                                                                                        Tip na výlet pro celou rodinu.
REFRESH-INTERVAL;VALUE=DURATION:PT1H
X-Robots-Tag:noindex
X-PUBLISHED-TTL:PT1H
BEGIN:VTIMEZONE
TZID:Europe/Prague
BEGIN:DAYLIGHT
TZOFFSETFROM:+0100
TZOFFSETTO:+0200
TZNAME:CEST
DTSTART:20250330T010000
END:DAYLIGHT
BEGIN:STANDARD
TZOFFSETFROM:+0200
TZOFFSETTO:+0100
TZNAME:CET
DTSTART:20251026T010000
END:STANDARD
BEGIN:DAYLIGHT
TZOFFSETFROM:+0100
TZOFFSETTO:+0200
TZNAME:CEST
DTSTART:20260329T010000
END:DAYLIGHT
BEGIN:STANDARD
TZOFFSETFROM:+0200
TZOFFSETTO:+0100
TZNAME:CET
DTSTART:20261025T010000
END:STANDARD
BEGIN:DAYLIGHT
TZOFFSETFROM:+0100
TZOFFSETTO:+0200
TZNAME:CEST
DTSTART:20270328T010000
END:DAYLIGHT
BEGIN:STANDARD
TZOFFSETFROM:+0200
TZOFFSETTO:+0100
TZNAME:CET
DTSTART:20271031T010000
END:STANDARD
END:VTIMEZONE
BEGIN:VEVENT
DTSTART;TZID=Europe/Prague:20260427T180000
DTEND;TZID=Europe/Prague:20260427T210000
DTSTAMP:20260419T115845
CREATED:20260314T190141Z
LAST-MODIFIED:20260314T190142Z
UID:19481-1777312800-1777323600@dnesnivylet.cz
SUMMARY:Kytice #zazijdivadlo
DESCRIPTION:Kytice #zazijdivadlo se uskuteční dne 2026-04-27 v 18:00 v Moravský Krumlov\, Kostel Všech Svatých. \n🎟️ Koupit vstupenku \n\nKytice míří do Moravského Krumlova. Nejznámější dílo Karla Jaromíra Erbena v podání profesionálních hereček ze všech koutů naší republiky v magické atmosféře místního kostela.Několik žen\, několik příběhů. Příběhů se šťastným začátkem a nešťastným koncem. Ale je to vůbec nešťastný konec? A kdo za to všechno může? \nIntenzivní divadelní zážitek\, jež prožijete v netradičním prostředí a v bezprostřední blízkosti. \n\nTento tip na kulturní akci v Moravský Krumlov najdete v přehledu na Dnesnivylet.cz spolu s dalšími koncerty\, festivaly a divadelními představeními.Každý si vybere co se mu líbí. Nezapomeňte koupit vstupenky včas\, stačí kliknout a budete přesměrování na oficiálního prodejce vstupenek.
URL:https://dnesnivylet.cz/event/kytice-zazijdivadlo/
LOCATION:Kostel Všech Svatých\, Moravský Krumlov\, Kostel Všech Svatých\, Moravský Krumlov\, Česká republika
CATEGORIES:Divadlo
ATTACH;FMTTYPE=image/jpeg:https://dnesnivylet.cz/wp-content/uploads/2026/03/320-a17db8a0005249b3948a3afe7b47c98f.jpg
END:VEVENT
END:VCALENDAR