BEGIN:VCALENDAR
VERSION:2.0
PRODID:-//www.dnesnivylet.cz                                                                                                                        Tip na výlet pro celou rodinu. - ECPv6.15.13.1//NONSGML v1.0//EN
CALSCALE:GREGORIAN
METHOD:PUBLISH
X-WR-CALNAME:www.dnesnivylet.cz                                                                                                                        Tip na výlet pro celou rodinu.
X-ORIGINAL-URL:https://dnesnivylet.cz
X-WR-CALDESC:Akce na www.dnesnivylet.cz                                                                                                                        Tip na výlet pro celou rodinu.
REFRESH-INTERVAL;VALUE=DURATION:PT1H
X-Robots-Tag:noindex
X-PUBLISHED-TTL:PT1H
BEGIN:VTIMEZONE
TZID:Europe/Prague
BEGIN:DAYLIGHT
TZOFFSETFROM:+0100
TZOFFSETTO:+0200
TZNAME:CEST
DTSTART:20250330T010000
END:DAYLIGHT
BEGIN:STANDARD
TZOFFSETFROM:+0200
TZOFFSETTO:+0100
TZNAME:CET
DTSTART:20251026T010000
END:STANDARD
BEGIN:DAYLIGHT
TZOFFSETFROM:+0100
TZOFFSETTO:+0200
TZNAME:CEST
DTSTART:20260329T010000
END:DAYLIGHT
BEGIN:STANDARD
TZOFFSETFROM:+0200
TZOFFSETTO:+0100
TZNAME:CET
DTSTART:20261025T010000
END:STANDARD
BEGIN:DAYLIGHT
TZOFFSETFROM:+0100
TZOFFSETTO:+0200
TZNAME:CEST
DTSTART:20270328T010000
END:DAYLIGHT
BEGIN:STANDARD
TZOFFSETFROM:+0200
TZOFFSETTO:+0100
TZNAME:CET
DTSTART:20271031T010000
END:STANDARD
END:VTIMEZONE
BEGIN:VEVENT
DTSTART;TZID=Europe/Prague:20260507T190000
DTEND;TZID=Europe/Prague:20260507T220000
DTSTAMP:20260419T131158
CREATED:20251021T064910Z
LAST-MODIFIED:20251021T064912Z
UID:9537-1778180400-1778191200@dnesnivylet.cz
SUMMARY:Kurz ručních prací
DESCRIPTION:Kurz ručních prací se uskuteční dne 2026-05-07 v 19:00 v Loket\, Kulturní dům Dvorana. \n🎟️ Koupit vstupenku \n\nPět žen\, pět osudů\, pět odlišných povah. Jedno ale mají všechny společné – vědí moc dobře\, že život není peříčko. \nPříběh pojednává o osudech pěti žen z jednoho činžovního domu\, které se scházejí na kurzu ručních prací. V jejich životních příbězích najdete jak komické\, tak dramatické situace.  \nAutor: Erika Suchanová \nRežie: Jan Kaška \nHrají: Petra Jarošová\, Zdeňka Valentová\, Marie Perglová\, Eva Culková\, Veronika Bártová \nUvádí: Divadlo RÁDOseSTALO z.s. \n\nTento tip na kulturní akci v Loket najdete v přehledu na Dnesnivylet.cz spolu s dalšími koncerty\, festivaly a divadelními představeními.Každý si vybere co se mu líbí. Nezapomeňte koupit vstupenky včas\, stačí kliknout a budete přesměrování na oficiálního prodejce vstupenek.
URL:https://dnesnivylet.cz/event/kurz-rucnich-praci/
LOCATION:Kulturní dům Dvorana\, Loket\, Kulturní dům Dvorana\, Loket\, Česká republika
CATEGORIES:Divadlo
ATTACH;FMTTYPE=image/jpeg:https://dnesnivylet.cz/wp-content/uploads/2025/10/320-038e85dab563432492daa70822c0b639.jpg
END:VEVENT
END:VCALENDAR