BEGIN:VCALENDAR
VERSION:2.0
PRODID:-//www.dnesnivylet.cz                                                                                                                        Tip na výlet pro celou rodinu. - ECPv6.15.13.1//NONSGML v1.0//EN
CALSCALE:GREGORIAN
METHOD:PUBLISH
X-ORIGINAL-URL:https://dnesnivylet.cz
X-WR-CALDESC:Akce na www.dnesnivylet.cz                                                                                                                        Tip na výlet pro celou rodinu.
REFRESH-INTERVAL;VALUE=DURATION:PT1H
X-Robots-Tag:noindex
X-PUBLISHED-TTL:PT1H
BEGIN:VTIMEZONE
TZID:Europe/Prague
BEGIN:DAYLIGHT
TZOFFSETFROM:+0100
TZOFFSETTO:+0200
TZNAME:CEST
DTSTART:20250330T010000
END:DAYLIGHT
BEGIN:STANDARD
TZOFFSETFROM:+0200
TZOFFSETTO:+0100
TZNAME:CET
DTSTART:20251026T010000
END:STANDARD
BEGIN:DAYLIGHT
TZOFFSETFROM:+0100
TZOFFSETTO:+0200
TZNAME:CEST
DTSTART:20260329T010000
END:DAYLIGHT
BEGIN:STANDARD
TZOFFSETFROM:+0200
TZOFFSETTO:+0100
TZNAME:CET
DTSTART:20261025T010000
END:STANDARD
BEGIN:DAYLIGHT
TZOFFSETFROM:+0100
TZOFFSETTO:+0200
TZNAME:CEST
DTSTART:20270328T010000
END:DAYLIGHT
BEGIN:STANDARD
TZOFFSETFROM:+0200
TZOFFSETTO:+0100
TZNAME:CET
DTSTART:20271031T010000
END:STANDARD
END:VTIMEZONE
BEGIN:VEVENT
DTSTART;TZID=Europe/Prague:20260514T190000
DTEND;TZID=Europe/Prague:20260514T220000
DTSTAMP:20260419T131247
CREATED:20260121T184509Z
LAST-MODIFIED:20260121T184509Z
UID:16900-1778785200-1778796000@dnesnivylet.cz
SUMMARY:ŠEST V TOM
DESCRIPTION:ŠEST V TOM se uskuteční dne 2026-05-14 v 19:00 v Ždánice\, Kulturní dům. \n🎟️ Koupit vstupenku \n\nŠEST V TOM \nManželé Rogers a Daisy Braunovi opět spadnou až na úplné dno. Přijdou na spásný nápad. Zdá se\, že konečně budou mít po starostech. Ale všechno dopadne úplně jinak. \n\,\, Šest v tom“ patří už několik let mezi nejlepší současné komedie a všude sklízí zasloužený úspěch.  Dialogy ostré jako bič a vtip – nenechají diváky ani na chvíli vydechnout. \nTřaskavou komedii plnou humoru\, po které nikdo není chytřejší\, ale zdravější – neboť smích léčí\, uvádí Agentura Snů v české premiéře. \nHrají herci známí z televizních obrazovek. \n  \nRogers Braun – Slávek Boura (oblíbený moderátor řady pořadů  Tv Nova) \n Molly  –  Jaroslava Stránská (\,\,Policie Modrava“ – poručík Lucie Krásenská\, \,\,Discopříběh“) \n  \n Ben – Jaroslav Sypal (\,\,Byl jednou jeden polda“ \,\, Lotrando a Zubejda“\,\, Jak ukrást Dagmaru“ a další) \n Daisy Braunová – Eva Hráská (\,\,Ordinace v růžové zahradě“  \,\,Modrý kód“ \,\,Specialisté“) \n  Alan  Petr Vojnar (\,\,Vyprávěj“\, moderátor pořadů Tv  Prima -\,\,Divošky“\,\,Nikdo není  dokonalý“) \n Džefry -technik Béda (Vítěz  Tv soutěže \,\,Dobrák roku“)  \nREŽIE: JOHN LOM \n\nTento tip na kulturní akci v Ždánice najdete v přehledu na Dnesnivylet.cz spolu s dalšími koncerty\, festivaly a divadelními představeními.Každý si vybere co se mu líbí. Nezapomeňte koupit vstupenky včas\, stačí kliknout a budete přesměrování na oficiálního prodejce vstupenek.
URL:https://dnesnivylet.cz/event/sest-v-tom/
LOCATION:Kulturní dům\, Ždánice\, Kulturní dům\, Ždánice\, Česká republika
CATEGORIES:Divadlo
ATTACH;FMTTYPE=image/jpeg:https://dnesnivylet.cz/wp-content/uploads/2026/01/320-83ccbb23e72c48fb84fd84ab27f80852.jpg
END:VEVENT
BEGIN:VEVENT
DTSTART;TZID=Europe/Prague:20260514T190000
DTEND;TZID=Europe/Prague:20260514T220000
DTSTAMP:20260419T131247
CREATED:20260404T180156Z
LAST-MODIFIED:20260404T180156Z
UID:20080-1778785200-1778796000@dnesnivylet.cz
SUMMARY:Velká zebra v Drnovicích
DESCRIPTION:Velká zebra v Drnovicích se uskuteční dne 2026-05-14 v 19:00 v Drnovice\, KD Drnovice u Vyškova. \n🎟️ Koupit vstupenku \n\nChristian má „nemoc“. S každou ženou vydrží jen chvíli. Byl ženatý s Gisele\, ale po čase na něj padla hrůza a pocítil nepřekonatelnou potřebu utéct. Aby své svědomí alespoň částečně utišil\, uzavřel ve prospěch své ženy vysokou životní pojistku a předstíral\, že se na rybách utopil. \nTento trik úspěšně použil v životě dvakrát a právě se ho chystá zrealizovat potřetí. Jenomže tentokrát mu osud postaví do cesty problém v podobě přítele z dětství\, který ho pozná podle náhodné fotografie v novinách a navštíví ho. \nChristian\, který měl vždy vše dopodrobna naplánováno\, musí najednou improvizovat a ke své hrůze se ocitá tváří v tvář se svými „vdovami“ i novou snoubenkou. Podaří se mu tuto nezávidění hodnou situaci zvládnout i potřetí? \nHrají: Ondřej Vetchý\, Eva Kodešová / Jitka Ježková\, Jaromír Dulava\, Dana Černá\, Martina Hudečková\, Zdeněk Vencl / Jiří Štrébl / Zdeněk Velen \n\nTento tip na kulturní akci v Drnovice najdete v přehledu na Dnesnivylet.cz spolu s dalšími koncerty\, festivaly a divadelními představeními.Každý si vybere co se mu líbí. Nezapomeňte koupit vstupenky včas\, stačí kliknout a budete přesměrování na oficiálního prodejce vstupenek.
URL:https://dnesnivylet.cz/event/velka-zebra-v-drnovicich/
LOCATION:KD Drnovice u Vyškova\, Drnovice\, KD Drnovice u Vyškova\, Drnovice\, Česká republika
CATEGORIES:Divadlo
ATTACH;FMTTYPE=image/jpeg:https://dnesnivylet.cz/wp-content/uploads/2026/04/320-dd0244cc4bc248bab0af0ce6c4b43ee7.jpg
END:VEVENT
END:VCALENDAR