BEGIN:VCALENDAR
VERSION:2.0
PRODID:-//www.dnesnivylet.cz                                                                                                                        Tip na výlet pro celou rodinu. - ECPv6.15.13.1//NONSGML v1.0//EN
CALSCALE:GREGORIAN
METHOD:PUBLISH
X-WR-CALNAME:www.dnesnivylet.cz                                                                                                                        Tip na výlet pro celou rodinu.
X-ORIGINAL-URL:https://dnesnivylet.cz
X-WR-CALDESC:Akce na www.dnesnivylet.cz                                                                                                                        Tip na výlet pro celou rodinu.
REFRESH-INTERVAL;VALUE=DURATION:PT1H
X-Robots-Tag:noindex
X-PUBLISHED-TTL:PT1H
BEGIN:VTIMEZONE
TZID:Europe/Prague
BEGIN:DAYLIGHT
TZOFFSETFROM:+0100
TZOFFSETTO:+0200
TZNAME:CEST
DTSTART:20250330T010000
END:DAYLIGHT
BEGIN:STANDARD
TZOFFSETFROM:+0200
TZOFFSETTO:+0100
TZNAME:CET
DTSTART:20251026T010000
END:STANDARD
BEGIN:DAYLIGHT
TZOFFSETFROM:+0100
TZOFFSETTO:+0200
TZNAME:CEST
DTSTART:20260329T010000
END:DAYLIGHT
BEGIN:STANDARD
TZOFFSETFROM:+0200
TZOFFSETTO:+0100
TZNAME:CET
DTSTART:20261025T010000
END:STANDARD
BEGIN:DAYLIGHT
TZOFFSETFROM:+0100
TZOFFSETTO:+0200
TZNAME:CEST
DTSTART:20270328T010000
END:DAYLIGHT
BEGIN:STANDARD
TZOFFSETFROM:+0200
TZOFFSETTO:+0100
TZNAME:CET
DTSTART:20271031T010000
END:STANDARD
END:VTIMEZONE
BEGIN:VEVENT
DTSTART;TZID=Europe/Prague:20260604T190000
DTEND;TZID=Europe/Prague:20260604T220000
DTSTAMP:20260419T142826
CREATED:20260105T203648Z
LAST-MODIFIED:20260105T203650Z
UID:16336-1780599600-1780610400@dnesnivylet.cz
SUMMARY:Divadlo kjógen
DESCRIPTION:Divadlo kjógen se uskuteční dne 2026-06-04 v 19:00 v Moravský Krumlov\, Kulturní a kreativní centrum. \n🎟️ Koupit vstupenku \n\nMalé divadlo Kjogenu \nDivadlo kjógen bylo založeno roku 2001. Jeho hlavními cíli je rozvoj netradičních forem divadla\, se specializací na japonské lidové frašky. \nDivadlo kjógen vzniklo z podnětu českého dramatika\, režiséra a mima Huberta Krejčího a mistra kjótské školy Ókura Šigejamy Šimeho jako soubor\, který se věnuje studiu\, realizaci a uvádění japonských frašek kjógen v českém prostředí. Svým druhem jde o světové unikum. Činnost divadla je postavena na dlouholeté vzájemné kulturní spolupráci mezi českými a japonskými profesionálními divadelníky\, podporovaná pravidelně pořádanými dílnami\, v rámci nichž je za účasti japonského mistra nastudována nová hra v češtině.  \nKjógen (v překladu „bláznivá“ nebo „umně vyšperkovaná slova“) reprezentuje komickou divadelní formu\, která se vyvinula\, stejně jako japonské tradiční divadlo nó\, z původně čínských her sarugaku. Rozkvětu dosáhl tento žánr v polovině 14. století a v nepřerušené tradici je provozován do dnešních dnů.  \nSlovo „kjógen“ je samo o sobě většinou chápáno jako výraz označující samostatnou komickou divadelní hru\, tradičně vkládanou mezi dvě hry divadla nó. \nDokumenty zaznamenávající existenci frašek kjógen nacházíme v Japonsku již ve 12. až 13. století\, avšak opravdovým vybroušením prochází tento žánr v období EDO (1600-1868)\, kdy díky trvající společenské poptávce po „ideálním dramatickém umění uspokojujícím kulturní život vládnoucí vrstvy samurajů“ mají protagonisté kjógenů dostatečné časové i finanční možnosti nerušeně pracovat na zdokonalování žánru i vlastní herecké techniky. Výsledným produktem je pak komediální žánr\, který se  hloubkou zpracování hereckých postupů a estetickou úrovní výrazových prostředků blíží evropské opeře či vážné hudbě spíše než komediím\, jak je známe z naší kulturní tradice.  \nObsazení bude upřesněno \nDélka představení: 1 hodina 20 minut \n  \n\nTento tip na kulturní akci v Moravský Krumlov najdete v přehledu na Dnesnivylet.cz spolu s dalšími koncerty\, festivaly a divadelními představeními.Každý si vybere co se mu líbí. Nezapomeňte koupit vstupenky včas\, stačí kliknout a budete přesměrování na oficiálního prodejce vstupenek.
URL:https://dnesnivylet.cz/event/divadlo-kjogen/
LOCATION:Kulturní a kreativní centrum\, Moravský Krumlov\, Kulturní a kreativní centrum\, Moravský Krumlov\, Česká republika
CATEGORIES:Divadlo
ATTACH;FMTTYPE=image/jpeg:https://dnesnivylet.cz/wp-content/uploads/2026/01/320-aa427de500c645ec9783e9cd3df90df6.jpg
END:VEVENT
END:VCALENDAR