BEGIN:VCALENDAR
VERSION:2.0
PRODID:-//www.dnesnivylet.cz                                                                                                                        Tip na výlet pro celou rodinu. - ECPv6.15.13.1//NONSGML v1.0//EN
CALSCALE:GREGORIAN
METHOD:PUBLISH
X-ORIGINAL-URL:https://dnesnivylet.cz
X-WR-CALDESC:Akce na www.dnesnivylet.cz                                                                                                                        Tip na výlet pro celou rodinu.
REFRESH-INTERVAL;VALUE=DURATION:PT1H
X-Robots-Tag:noindex
X-PUBLISHED-TTL:PT1H
BEGIN:VTIMEZONE
TZID:Europe/Prague
BEGIN:DAYLIGHT
TZOFFSETFROM:+0100
TZOFFSETTO:+0200
TZNAME:CEST
DTSTART:20250330T010000
END:DAYLIGHT
BEGIN:STANDARD
TZOFFSETFROM:+0200
TZOFFSETTO:+0100
TZNAME:CET
DTSTART:20251026T010000
END:STANDARD
BEGIN:DAYLIGHT
TZOFFSETFROM:+0100
TZOFFSETTO:+0200
TZNAME:CEST
DTSTART:20260329T010000
END:DAYLIGHT
BEGIN:STANDARD
TZOFFSETFROM:+0200
TZOFFSETTO:+0100
TZNAME:CET
DTSTART:20261025T010000
END:STANDARD
BEGIN:DAYLIGHT
TZOFFSETFROM:+0100
TZOFFSETTO:+0200
TZNAME:CEST
DTSTART:20270328T010000
END:DAYLIGHT
BEGIN:STANDARD
TZOFFSETFROM:+0200
TZOFFSETTO:+0100
TZNAME:CET
DTSTART:20271031T010000
END:STANDARD
END:VTIMEZONE
BEGIN:VEVENT
DTSTART;TZID=Europe/Prague:20260328T140000
DTEND;TZID=Europe/Prague:20260328T170000
DTSTAMP:20260420T023445
CREATED:20251020T065035Z
LAST-MODIFIED:20251020T065035Z
UID:8210-1774706400-1774717200@dnesnivylet.cz
SUMMARY:Folk a country festival na krumlovském zámku
DESCRIPTION:Folk a country festival na krumlovském zámku se uskuteční dne 2026-03-28 v 14:00 v Český Krumlov\, Zámecká jízdárna. \n🎟️ Koupit vstupenku \n\nPo dlouhých letech obnovujeme Folk a country festival na Zámecké jízdárně v Českém Krumlově. Na velké vnitřní scéně se nám během odpoledne představí Pavlína Jíšová a Bohadlo\, Honza Nedvěd a Příbuzní\, Fešáci a Míša Tučná a Robert Křesťan a Druhá tráva. Venkovní scéna bude vyplňovat prostor příprav na scéně hlavní a zde se nám představí kapely The Dark Blue Elephants a Hudební kroužek HK Band.  \nK poetickému odpoledni a večeru plného folku a country poteče krumlovské i plzeňské pivo\, klobásy na grilu a další lahůdky budou připraveny na venkovní i vnitřní scéně. \n\nTento tip na kulturní akci v Český Krumlov najdete v přehledu na Dnesnivylet.cz spolu s dalšími koncerty\, festivaly a divadelními představeními.Každý si vybere co se mu líbí. Nezapomeňte koupit vstupenky včas\, stačí kliknout a budete přesměrování na oficiálního prodejce vstupenek.
URL:https://dnesnivylet.cz/event/folk-a-country-festival-na-krumlovskem-zamku/
LOCATION:Zámecká jízdárna\, Český Krumlov\, Zámecká jízdárna\, Český Krumlov\, Česká republika
CATEGORIES:Festival
ATTACH;FMTTYPE=image/jpeg:https://dnesnivylet.cz/wp-content/uploads/2025/10/320-f83918026cfb4491a57ad9993fbca661-1.jpg
END:VEVENT
END:VCALENDAR