BEGIN:VCALENDAR
VERSION:2.0
PRODID:-//www.dnesnivylet.cz                                                                                                                        Tip na výlet pro celou rodinu. - ECPv6.15.13.1//NONSGML v1.0//EN
CALSCALE:GREGORIAN
METHOD:PUBLISH
X-ORIGINAL-URL:https://dnesnivylet.cz
X-WR-CALDESC:Akce na www.dnesnivylet.cz                                                                                                                        Tip na výlet pro celou rodinu.
REFRESH-INTERVAL;VALUE=DURATION:PT1H
X-Robots-Tag:noindex
X-PUBLISHED-TTL:PT1H
BEGIN:VTIMEZONE
TZID:Europe/Prague
BEGIN:DAYLIGHT
TZOFFSETFROM:+0100
TZOFFSETTO:+0200
TZNAME:CEST
DTSTART:20250330T010000
END:DAYLIGHT
BEGIN:STANDARD
TZOFFSETFROM:+0200
TZOFFSETTO:+0100
TZNAME:CET
DTSTART:20251026T010000
END:STANDARD
BEGIN:DAYLIGHT
TZOFFSETFROM:+0100
TZOFFSETTO:+0200
TZNAME:CEST
DTSTART:20260329T010000
END:DAYLIGHT
BEGIN:STANDARD
TZOFFSETFROM:+0200
TZOFFSETTO:+0100
TZNAME:CET
DTSTART:20261025T010000
END:STANDARD
BEGIN:DAYLIGHT
TZOFFSETFROM:+0100
TZOFFSETTO:+0200
TZNAME:CEST
DTSTART:20270328T010000
END:DAYLIGHT
BEGIN:STANDARD
TZOFFSETFROM:+0200
TZOFFSETTO:+0100
TZNAME:CET
DTSTART:20271031T010000
END:STANDARD
END:VTIMEZONE
BEGIN:VEVENT
DTSTART;TZID=Europe/Prague:20260403T180000
DTEND;TZID=Europe/Prague:20260403T210000
DTSTAMP:20260419T144021
CREATED:20260321T195449Z
LAST-MODIFIED:20260321T195449Z
UID:19705-1775239200-1775250000@dnesnivylet.cz
SUMMARY:Večer legend 26 - Tributes  AC/DC - OZZY - METALLICA
DESCRIPTION:Večer legend 26 – Tributes  AC/DC – OZZY – METALLICA se uskuteční dne 2026-04-03 v 18:00 v Brno\, KC Semilasso. \n🎟️ Koupit vstupenku \n\nŠpičkové tribute bandy AC/DC\, OZZY OSBOURNE a METALLICA na jednom pódiu aneb rockové Velikonoce v Semilassu! \nAC/DC Tribute show AC/CZ \nOZZY OSBOURNE Revival Humpolec \nMETALLICA Revival Beroun \n  \nVečer legend spojí hudbu rockových ikon na jedno pódium už po šestadvacáté. Na velký pátek 3. dubna proběhne v brněnském Semilasse nabitý večer ve stylu Hard and Heavy\, který představí výborné tribute bandy AC/DC\, OZZY OSBOURNE a METALLICA. \nPo velkém úspěchu se na legendy vrací hudba AC/DC v podání špičkového tribute bandu AC/CZ v čele s kytaristou Adamem Malíkem. Kapela je kritiky uznávaná jako jedna z nejlepších i v zahraničí. Působí na scéně od roku 2010 a ročně odehraje přes 100 koncertů. Můžete se těšit na velkou koncertní show s originálními kostýmy\, nástroji\, kulisami\, a hlavně precizní interpretací. \nV line-upu nebude chybět oblíbený Metallica revival z Berouna. Jedná se o nejúspěšnější český revival Metallicy\, který má za sebou řadu vystoupení v ČR i zahraničí včetně velkých halových show. Výběr jejich repertoáru spadá do celého období tvorby Metallicy. Na pódiu uvidíte stejnou sestavu bicích\, jako má Lars Ulrich\, typický explorer Jamese Hetfielda nebo kytarový zesilovač Mesa Boogie\, který používá Kirk Hammett. \nPremiérou akce bude vystoupení Ozzy Osbourne revival. Kapela z Humpolce má na repertoáru oblíbené skladby jako Crazy Train\, Mr. Crowley nebo Mama I‘m Coming Home. Chybět nemohou ani největší hity z éry Black Sabbath jako Paranoid. Hudba Ozzyho Osbourna zazní na legendách po dlouhých sedmnácti letech. \n  \n\nTento tip na kulturní akci v Brno najdete v přehledu na Dnesnivylet.cz spolu s dalšími koncerty\, festivaly a divadelními představeními.Každý si vybere co se mu líbí. Nezapomeňte koupit vstupenky včas\, stačí kliknout a budete přesměrování na oficiálního prodejce vstupenek.
URL:https://dnesnivylet.cz/event/vecer-legend-26-tributes-ac-dc-ozzy-metallica/
LOCATION:KC Semilasso\, Brno\, KC Semilasso\, Brno\, Česká republika
CATEGORIES:Festival
ATTACH;FMTTYPE=image/jpeg:https://dnesnivylet.cz/wp-content/uploads/2026/03/320-0a78474dc63648cebf5b2557ac9f591d.jpg
END:VEVENT
END:VCALENDAR