BEGIN:VCALENDAR
VERSION:2.0
PRODID:-//www.dnesnivylet.cz                                                                                                                        Tip na výlet pro celou rodinu. - ECPv6.15.13.1//NONSGML v1.0//EN
CALSCALE:GREGORIAN
METHOD:PUBLISH
X-ORIGINAL-URL:https://dnesnivylet.cz
X-WR-CALDESC:Akce na www.dnesnivylet.cz                                                                                                                        Tip na výlet pro celou rodinu.
REFRESH-INTERVAL;VALUE=DURATION:PT1H
X-Robots-Tag:noindex
X-PUBLISHED-TTL:PT1H
BEGIN:VTIMEZONE
TZID:Europe/Prague
BEGIN:DAYLIGHT
TZOFFSETFROM:+0100
TZOFFSETTO:+0200
TZNAME:CEST
DTSTART:20250330T010000
END:DAYLIGHT
BEGIN:STANDARD
TZOFFSETFROM:+0200
TZOFFSETTO:+0100
TZNAME:CET
DTSTART:20251026T010000
END:STANDARD
BEGIN:DAYLIGHT
TZOFFSETFROM:+0100
TZOFFSETTO:+0200
TZNAME:CEST
DTSTART:20260329T010000
END:DAYLIGHT
BEGIN:STANDARD
TZOFFSETFROM:+0200
TZOFFSETTO:+0100
TZNAME:CET
DTSTART:20261025T010000
END:STANDARD
BEGIN:DAYLIGHT
TZOFFSETFROM:+0100
TZOFFSETTO:+0200
TZNAME:CEST
DTSTART:20270328T010000
END:DAYLIGHT
BEGIN:STANDARD
TZOFFSETFROM:+0200
TZOFFSETTO:+0100
TZNAME:CET
DTSTART:20271031T010000
END:STANDARD
END:VTIMEZONE
BEGIN:VEVENT
DTSTART;TZID=Europe/Prague:20260430T160000
DTEND;TZID=Europe/Prague:20260430T190000
DTSTAMP:20260419T131906
CREATED:20260206T110152Z
LAST-MODIFIED:20260206T110153Z
UID:17381-1777564800-1777575600@dnesnivylet.cz
SUMMARY:Čarodějnice 2026
DESCRIPTION:Čarodějnice 2026 se uskuteční dne 2026-04-30 v 16:00 v Plumlov\, Kemp Žralok. \n🎟️ Koupit vstupenku \n\nTradiční Pálení čarodějnic\, skvělé kapely\, program a soutěže pro děti\, výborné občerstvení. \nTěšit se můžete na tyto kapely: \nWohnout \nProtheus \nRCZ – Rammstein Tribute Show \na pro děti Dívčí skupina Lollipopz \n  \nDěti do 14 let (včetně) vstup ZDARMA. \n \nStudenti\, senioři nad 65 let\, ZTP – vstupné:  250\,-Kč (vstupné lze zakoupit pouze na místě). \nVstupné na místě: 400\,-Kč \n\nTento tip na kulturní akci v Plumlov najdete v přehledu na Dnesnivylet.cz spolu s dalšími koncerty\, festivaly a divadelními představeními.Každý si vybere co se mu líbí. Nezapomeňte koupit vstupenky včas\, stačí kliknout a budete přesměrování na oficiálního prodejce vstupenek.
URL:https://dnesnivylet.cz/event/carodejnice-2026/
LOCATION:Kemp Žralok\, Plumlov\, Kemp Žralok\, Plumlov\, Česká republika
CATEGORIES:Festival
ATTACH;FMTTYPE=image/jpeg:https://dnesnivylet.cz/wp-content/uploads/2026/02/320-0e375207553a45f28d0af4993b89e083.jpg
END:VEVENT
END:VCALENDAR