BEGIN:VCALENDAR
VERSION:2.0
PRODID:-//www.dnesnivylet.cz                                                                                                                        Tip na výlet pro celou rodinu. - ECPv6.15.13.1//NONSGML v1.0//EN
CALSCALE:GREGORIAN
METHOD:PUBLISH
X-WR-CALNAME:www.dnesnivylet.cz                                                                                                                        Tip na výlet pro celou rodinu.
X-ORIGINAL-URL:https://dnesnivylet.cz
X-WR-CALDESC:Akce na www.dnesnivylet.cz                                                                                                                        Tip na výlet pro celou rodinu.
REFRESH-INTERVAL;VALUE=DURATION:PT1H
X-Robots-Tag:noindex
X-PUBLISHED-TTL:PT1H
BEGIN:VTIMEZONE
TZID:Europe/Prague
BEGIN:DAYLIGHT
TZOFFSETFROM:+0100
TZOFFSETTO:+0200
TZNAME:CEST
DTSTART:20250330T010000
END:DAYLIGHT
BEGIN:STANDARD
TZOFFSETFROM:+0200
TZOFFSETTO:+0100
TZNAME:CET
DTSTART:20251026T010000
END:STANDARD
BEGIN:DAYLIGHT
TZOFFSETFROM:+0100
TZOFFSETTO:+0200
TZNAME:CEST
DTSTART:20260329T010000
END:DAYLIGHT
BEGIN:STANDARD
TZOFFSETFROM:+0200
TZOFFSETTO:+0100
TZNAME:CET
DTSTART:20261025T010000
END:STANDARD
BEGIN:DAYLIGHT
TZOFFSETFROM:+0100
TZOFFSETTO:+0200
TZNAME:CEST
DTSTART:20270328T010000
END:DAYLIGHT
BEGIN:STANDARD
TZOFFSETFROM:+0200
TZOFFSETTO:+0100
TZNAME:CET
DTSTART:20271031T010000
END:STANDARD
END:VTIMEZONE
BEGIN:VEVENT
DTSTART;TZID=Europe/Prague:20260612T140000
DTEND;TZID=Europe/Prague:20260612T170000
DTSTAMP:20260419T183918
CREATED:20251023T054623Z
LAST-MODIFIED:20251023T054624Z
UID:9718-1781272800-1781283600@dnesnivylet.cz
SUMMARY:Festival minipivovarů na Pražském hradě
DESCRIPTION:Festival minipivovarů na Pražském hradě se uskuteční dne 2026-06-12 v 14:00 v Praha\, Střelecká cesta. \n🎟️ Koupit vstupenku \n\n12. června 2026 – pátek\, od 14:00 do 20 hodin \n13. června 2026 – sobota\, od 12 do 20 hodin \nČeskomoravský svaz minipivovarů pořádá každým rokem Festival minipivovarů na Pražském hradě\, který má za účel představit veřejnosti produkci minipivovarů z celé republiky a porovnat ji s blízkým zahraničím. V roce 2026 se ho bude účastnit 50 českých a moravských minipivovarů a tři bavorské pivovary. \nFestival je výjimečný\, jedná se o degustační akci\, kde nejde o to prodat a vypít co nejvíce piva. Počet návštěvníků je limitován místem a bezpečností Pražského hradu\, takže vstupenek je připraveno na každý den 1200\, z nichž se část bude prodávat i přímo na místě. Cena zahrnuje katalog minipivovarů\, degustační sklenici a neomezenou degustaci. Více informací o akci a pivovarech se dozvíte na našem Facebooku. \nAkci navštěvuje i velké množství zahraničních návštěvníků. Byli zde již pivní fandové například z Belgie\, Irska\, Švédska\, Velké Británie\, Rakouska\, USA\, Kanady či Austrálie. \nFestival se koná v překrásných prostorách Královské zahrady Pražského hradu\, na Střelecké cestě pod Královským letohrádkem. 14. ročník Festivalu vypukne v pátek 12. června\, ve 14 hodin a bude trvat do 20 hodin. V sobotu 13. června proběhne od 12 do 20 hodin. Na Festivalu budou přítomni sládci a majitelé z každého pivovaru\, kteří budou podávat návštěvníkům co nejobsáhlejší a nejpřesnější informace. \nCena vstupenek na místě je 750\,- Kč.  \n  \nThe Czech-Moravian Microbrewery Association organizes the Mini-breweries Festival at Prague Castle every year\, aiming to showcase the production of microbreweries from across the country to the public and compare it with neighboring countries. This year\, 50 Czech and Moravian microbreweries and three Bavarian breweries will be presenting their beers. \nThe festival is exceptional; it’s a tasting event where the goal is not to sell and drink as much beer as possible. The number of visitors is limited by the capacity and security of Prague Castle\, so 1200 tickets are available for each day\, some of which will be sold directly on-site. The ticket price includes a catalog of microbreweries\, a tasting glass\, and unlimited tastings. More information about the event and breweries can be found on our Facebook page. \nThe event also attracts a large number of international visitors. Beer enthusiasts from Belgium\, Ireland\, Sweden\, the UK\, Austria\, and even the USA have attended. \nThe festival takes place in the beautiful surroundings of the Royal Garden of Prague Castle\, on Střelecká cesta under the Royal Summer Palace\, on Friday\, June 12th\, from 2 PM to 8 PM and on Saturday\, June 13th\, from 12 PM to 8 PM. Brewers and owners from each brewery will be present at the festival\, providing visitors with the most comprehensive and accurate information. \n\nTento tip na kulturní akci v Praha najdete v přehledu na Dnesnivylet.cz spolu s dalšími koncerty\, festivaly a divadelními představeními.Každý si vybere co se mu líbí. Nezapomeňte koupit vstupenky včas\, stačí kliknout a budete přesměrování na oficiálního prodejce vstupenek.
URL:https://dnesnivylet.cz/event/festival-minipivovaru-na-prazskem-hrade/
LOCATION:Střelecká cesta\, Praha\, Střelecká cesta\, Praha\, Česká republika
CATEGORIES:Festival
ATTACH;FMTTYPE=image/jpeg:https://dnesnivylet.cz/wp-content/uploads/2025/10/320-23caf49ce22c4f5587495dc6498249c4.jpg
END:VEVENT
BEGIN:VEVENT
DTSTART;TZID=Europe/Prague:20260612T150000
DTEND;TZID=Europe/Prague:20260612T180000
DTSTAMP:20260419T183918
CREATED:20251215T111636Z
LAST-MODIFIED:20251215T111637Z
UID:15483-1781276400-1781287200@dnesnivylet.cz
SUMMARY:ObrFest 2026
DESCRIPTION:ObrFest 2026 se uskuteční dne 2026-06-12 v 15:00 v Brno\, Obřany na různých místech. \n🎟️ Koupit vstupenku \n\nObrFest 2026 bude! \nPrvní vystupující už v průběhu listopadu. \n\nTento tip na kulturní akci v Brno najdete v přehledu na Dnesnivylet.cz spolu s dalšími koncerty\, festivaly a divadelními představeními.Každý si vybere co se mu líbí. Nezapomeňte koupit vstupenky včas\, stačí kliknout a budete přesměrování na oficiálního prodejce vstupenek.
URL:https://dnesnivylet.cz/event/obrfest-2026/
LOCATION:Obřany na různých místech\, Brno\, Obřany na různých místech\, Brno\, Česká republika
CATEGORIES:Festival
ATTACH;FMTTYPE=image/jpeg:https://dnesnivylet.cz/wp-content/uploads/2025/12/320-009ca075157b4cfda67fed5b73a5e3dd.jpg
END:VEVENT
BEGIN:VEVENT
DTSTART;TZID=Europe/Prague:20260612T163000
DTEND;TZID=Europe/Prague:20260612T193000
DTSTAMP:20260419T183918
CREATED:20251025T142835Z
LAST-MODIFIED:20251025T142835Z
UID:9990-1781281800-1781292600@dnesnivylet.cz
SUMMARY:PUNKPLUGGED FESTIVAL vol. 4
DESCRIPTION:PUNKPLUGGED FESTIVAL vol. 4 se uskuteční dne 2026-06-12 v 16:30 v Újezd u Přelouče\, Letní parket . \n🎟️ Koupit vstupenku \n\nNejsme jen další fesťák\, JSME ZÁŽITEK – jsme víkendový festival plný skvělých kapel\, výborného jídla a piva.Přijeďte a buďte celý víkend UNPLUGGED – rozhodně to není nuda. Každá kapela to bere JINAK\, díky tomu uslyšíte nejen oblíbené songy v unikátním aranžmá ale i věci\, které by kapely obyčejně naživo nehrály. Vyniknou zde texty\, zpěv (i váš) a výkony jednotlivých nástrojů a muzikantů.Čtvrtý ročník se opět uskuteční v parádním areálu\, který disponuje trvale zastřešeným parketem a sezením – zde se bát deště a slunka rozhodně nemusíte. Najdete zde dostatek místa na sezení na lavičkách\, odpočinete si na lehátkách a sedacích vacích. Dětská zóna je v dohledu od pódia a na ní navazuje oplocený prostor pro stanování rodin nejmenšími punkery.Stanování ve stanovém městečku je ZDARMA a bar zde jede NONSTOP!!! od Pátečního poledne do Nedělního dopoledne.Vratné kelímky\, žádné plasty ani smažené jídlo\, čistý areál – na tom si zakládáme.Děti do 140ti cm a ZTP mají vstup zdarma. \n\nTento tip na kulturní akci v Újezd u Přelouče najdete v přehledu na Dnesnivylet.cz spolu s dalšími koncerty\, festivaly a divadelními představeními.Každý si vybere co se mu líbí. Nezapomeňte koupit vstupenky včas\, stačí kliknout a budete přesměrování na oficiálního prodejce vstupenek.
URL:https://dnesnivylet.cz/event/punkplugged-festival-vol-4/
LOCATION:Letní parket \, Újezd u Přelouče\, Letní parket \, Újezd u Přelouče\, Česká republika
CATEGORIES:Festival
ATTACH;FMTTYPE=image/jpeg:https://dnesnivylet.cz/wp-content/uploads/2025/10/320-239f829ac4e343659c6bcaade76cfbdb.jpg
END:VEVENT
BEGIN:VEVENT
DTSTART;TZID=Europe/Prague:20260612T180000
DTEND;TZID=Europe/Prague:20260612T210000
DTSTAMP:20260419T183918
CREATED:20260106T121319Z
LAST-MODIFIED:20260106T121319Z
UID:16499-1781287200-1781298000@dnesnivylet.cz
SUMMARY:Antabus minifest 2026
DESCRIPTION:Antabus minifest 2026 se uskuteční dne 2026-06-12 v 18:00 v Chrášťany\, Stromovka. \n🎟️ Koupit vstupenku \n\nANTABUS MINIFEST je malý festival s přátelskou atmosférou v krásném zeleném prostředí. Nabízí návštěvníkům i kapelám nadstandartní zázemí a jsou zde dokonce vítány i rodiny s dětmi! \nNenechte si ujít dvoudenní metalovou smršť v Bylanech u Českého Brodu. \nHEJTMAN – LAID TO WASTE – OLD HÄMMER – LIBIDO CHALLENGE – ATOMIC WARDEAD – JAWBREAKER a další… \n  \n  \n\nTento tip na kulturní akci v Chrášťany najdete v přehledu na Dnesnivylet.cz spolu s dalšími koncerty\, festivaly a divadelními představeními.Každý si vybere co se mu líbí. Nezapomeňte koupit vstupenky včas\, stačí kliknout a budete přesměrování na oficiálního prodejce vstupenek.
URL:https://dnesnivylet.cz/event/antabus-minifest-2026/
LOCATION:Stromovka\, Chrášťany\, Stromovka\, Chrášťany\, Česká republika
CATEGORIES:Festival
ATTACH;FMTTYPE=image/jpeg:https://dnesnivylet.cz/wp-content/uploads/2026/01/320-fcb95af521994247a235fc280bfc569f.jpg
END:VEVENT
BEGIN:VEVENT
DTSTART;TZID=Europe/Prague:20260612T190000
DTEND;TZID=Europe/Prague:20260612T220000
DTSTAMP:20260419T183918
CREATED:20251226T125957Z
LAST-MODIFIED:20251226T125957Z
UID:16024-1781290800-1781301600@dnesnivylet.cz
SUMMARY:Brněnská Country fontána Řečkovice 2026
DESCRIPTION:Brněnská Country fontána Řečkovice 2026 se uskuteční dne 2026-06-12 v 19:00 v Brno\, Amfiteátr „Bývalý pivovar“ Řečkovice. \n🎟️ Koupit vstupenku \n\nBRNĚNSKÁ COUNTRY FONTÁNA ŘEČKOVICE 2026 \nPátek 12. června 2026od 19:00 \nKARABINABRABENCISYCHRAVO \nSobota 13. června 2026od 14:00 \nZELENÁČISAKRAPESMIROSLAV PALEČEKIVO JAHELKAPOZDNÍ SBĚRKOLIBŘÍKŮV ÚLETa další… \nPořadatel si vyhrazuje právu na změnu v dramaturgii\,na kompletním programu se stále pracuje! \nBližší informace o festivalu na webu: \nhttps://www.beatpoint.cz/brnenska-country-fontana-reckovice/ \n\nTento tip na kulturní akci v Brno najdete v přehledu na Dnesnivylet.cz spolu s dalšími koncerty\, festivaly a divadelními představeními.Každý si vybere co se mu líbí. Nezapomeňte koupit vstupenky včas\, stačí kliknout a budete přesměrování na oficiálního prodejce vstupenek.
URL:https://dnesnivylet.cz/event/brnenska-country-fontana-reckovice-2026/
LOCATION:Amfiteátr „Bývalý pivovar“ Řečkovice\, Brno\, Amfiteátr "Bývalý pivovar" Řečkovice\, Brno\, Česká republika
CATEGORIES:Festival
ATTACH;FMTTYPE=image/jpeg:https://dnesnivylet.cz/wp-content/uploads/2025/12/320-a7ae63d315384052b4789852d33d3283.jpg
END:VEVENT
END:VCALENDAR