BEGIN:VCALENDAR
VERSION:2.0
PRODID:-//www.dnesnivylet.cz                                                                                                                        Tip na výlet pro celou rodinu. - ECPv6.15.13.1//NONSGML v1.0//EN
CALSCALE:GREGORIAN
METHOD:PUBLISH
X-WR-CALNAME:www.dnesnivylet.cz                                                                                                                        Tip na výlet pro celou rodinu.
X-ORIGINAL-URL:https://dnesnivylet.cz
X-WR-CALDESC:Akce na www.dnesnivylet.cz                                                                                                                        Tip na výlet pro celou rodinu.
REFRESH-INTERVAL;VALUE=DURATION:PT1H
X-Robots-Tag:noindex
X-PUBLISHED-TTL:PT1H
BEGIN:VTIMEZONE
TZID:Europe/Prague
BEGIN:DAYLIGHT
TZOFFSETFROM:+0100
TZOFFSETTO:+0200
TZNAME:CEST
DTSTART:20250330T010000
END:DAYLIGHT
BEGIN:STANDARD
TZOFFSETFROM:+0200
TZOFFSETTO:+0100
TZNAME:CET
DTSTART:20251026T010000
END:STANDARD
BEGIN:DAYLIGHT
TZOFFSETFROM:+0100
TZOFFSETTO:+0200
TZNAME:CEST
DTSTART:20260329T010000
END:DAYLIGHT
BEGIN:STANDARD
TZOFFSETFROM:+0200
TZOFFSETTO:+0100
TZNAME:CET
DTSTART:20261025T010000
END:STANDARD
BEGIN:DAYLIGHT
TZOFFSETFROM:+0100
TZOFFSETTO:+0200
TZNAME:CEST
DTSTART:20270328T010000
END:DAYLIGHT
BEGIN:STANDARD
TZOFFSETFROM:+0200
TZOFFSETTO:+0100
TZNAME:CET
DTSTART:20271031T010000
END:STANDARD
END:VTIMEZONE
BEGIN:VEVENT
DTSTART;TZID=Europe/Prague:20260619T120000
DTEND;TZID=Europe/Prague:20260619T150000
DTSTAMP:20260419T183919
CREATED:20260419T123745Z
LAST-MODIFIED:20260419T123746Z
UID:21067-1781870400-1781881200@dnesnivylet.cz
SUMMARY:Tam a zase zpátky
DESCRIPTION:Tam a zase zpátky se uskuteční dne 2026-06-19 v 12:00 v Ptení\, Zámek Ptení. \n🎟️ Koupit vstupenku \n\nLegendární fantasy festival Tam a zase zpátky se vrací na Zámek Ptení!🔥 Čekají vás dva dny plné hudby\, magie\, fantasy světa a nezapomenutelné atmosféry inspirované světy Pána prstenů a dalších fantasy příběhů. \nNa festivalu potkáte kapely z Česka i zahraničí \nMůžete se těšit na kapely- \n\nBarbar Punk\nLichočar\nFookin guns\nClockwork animals\nSukuba ensemble\nDvarga (PL)\nZverzia (SK)\nÁnni\n\na další \ncosplayery a fantasy postavy pohybující se mezi návštěvníky \n\ntematické zóny\, tábory a interaktivní dění\nlučištníci\ntrpasličí vesnice\nmořská panna\nkovář\nŠermířské vystoupení\ndobová řemesla\npotulní bardi\nčajovnu\, hospodu U Zeleného draka a chill zóny\nSlunovratový rituál v podzemí\nStand up vystoupení – Mikky Trkal+ Afročech Tony\nDvě pódia -každé s vlastním programem\nOhnivé show\nPřednášky od autorů\, tvůrců\, cosplayeru\n\nA spoustu dalšího. \n✨epické zahájení a večerní program \n🎧after párty s DjEm \n🎤celým festivalem vás provede moderátor Jakub Glos \n🕯Festival není jen o sledování – stanete se součástí příběhu a dobrodružství. \nOtevře se brána mezi světy… a vy u toho nesmíte chybět. \n\nTento tip na kulturní akci v Ptení najdete v přehledu na Dnesnivylet.cz spolu s dalšími koncerty\, festivaly a divadelními představeními.Každý si vybere co se mu líbí. Nezapomeňte koupit vstupenky včas\, stačí kliknout a budete přesměrování na oficiálního prodejce vstupenek.
URL:https://dnesnivylet.cz/event/tam-a-zase-zpatky/
LOCATION:Zámek Ptení\, Ptení\, Zámek Ptení\, Ptení\, Česká republika
CATEGORIES:Festival
ATTACH;FMTTYPE=image/jpeg:https://dnesnivylet.cz/wp-content/uploads/2026/04/320-447f118c7290424bad9091953d3f327a.jpg
END:VEVENT
BEGIN:VEVENT
DTSTART;TZID=Europe/Prague:20260619T150000
DTEND;TZID=Europe/Prague:20260619T180000
DTSTAMP:20260419T183919
CREATED:20260208T145135Z
LAST-MODIFIED:20260208T145135Z
UID:17711-1781881200-1781892000@dnesnivylet.cz
SUMMARY:Bernard Fest 2026
DESCRIPTION:Bernard Fest 2026 se uskuteční dne 2026-06-19 v 15:00 v Humpolec\, Rodinný pivovar Bernard. \n🎟️ Koupit vstupenku \n\nLucie\, Olympic\, Marie Rottrová… Bernard Fest 2026 je připraven  \nMarpo\, Tři sestry\, Queenie\, Jiří Korn. Na tato a další jména láká Bernard Fest 2026. Jeho 30. ročník se uskuteční 19. a 20. června 2026. Festival neoddělitelně patří k centru města Humpolce\, prostranství Horního náměstí mu dává jedinečnou atmosféru. I tentokrát se na dohled od pivovaru odehraje program sestavený z toho nejlepšího na české a slovenské scéně. \nV pátek festival zahájí vystoupení rappera Marpa\, na kterého naváže česká lady soul Marie Rottrová. Večerní atmosféru rozjedou Tři sestry a první den festivalu vyvrcholí koncertem skupiny Queenie – jedné z nejuznávanějších Queen tribute kapel na světě. \nSobotní dopoledne je tradičně určené dětem\, které tentokrát přivítá kapela Lollipopz. Odpoledne potěší fanoušky duo Emma Smetana a Jordan Haj\, z jiného soudku zazpívá Jiří Korn. Krevní tep Vám rozproudí romská kapela Terne Čhave. Večer přinese nezapomenutelnou show díky energickým kapelám Olympic\, Lucie a Dymytry. \n\nTento tip na kulturní akci v Humpolec najdete v přehledu na Dnesnivylet.cz spolu s dalšími koncerty\, festivaly a divadelními představeními.Každý si vybere co se mu líbí. Nezapomeňte koupit vstupenky včas\, stačí kliknout a budete přesměrování na oficiálního prodejce vstupenek.
URL:https://dnesnivylet.cz/event/bernard-fest-2026/
LOCATION:Rodinný pivovar Bernard\, Humpolec\, Rodinný pivovar Bernard\, Humpolec\, Česká republika
CATEGORIES:Festival
ATTACH;FMTTYPE=image/jpeg:https://dnesnivylet.cz/wp-content/uploads/2026/02/320-1197e6ee1a59403db52cc2eb4ecf2196.jpg
END:VEVENT
BEGIN:VEVENT
DTSTART;TZID=Europe/Prague:20260619T160000
DTEND;TZID=Europe/Prague:20260619T190000
DTSTAMP:20260419T183919
CREATED:20260419T120803Z
LAST-MODIFIED:20260419T120803Z
UID:20708-1781884800-1781895600@dnesnivylet.cz
SUMMARY:Šlapanické Pivní slavnosti - Morčata na útěku\, Vyprahlo Rock
DESCRIPTION:Šlapanické Pivní slavnosti – Morčata na útěku\, Vyprahlo Rock se uskuteční dne 2026-06-19 v 16:00 v Šlapanice\, Městský park. \n🎟️ Koupit vstupenku \n\nTradiční Šlapanické „Pivní slavnosti“ spojené s rockovou hudbou. \nK poslechu a tanci nám zahrají Morčata na útěku a Vyprahlo Rock. \n\nTento tip na kulturní akci v Šlapanice najdete v přehledu na Dnesnivylet.cz spolu s dalšími koncerty\, festivaly a divadelními představeními.Každý si vybere co se mu líbí. Nezapomeňte koupit vstupenky včas\, stačí kliknout a budete přesměrování na oficiálního prodejce vstupenek.
URL:https://dnesnivylet.cz/event/slapanicke-pivni-slavnosti-morcata-na-uteku-vyprahlo-rock/
LOCATION:Městský park\, Šlapanice\, Městský park\, Šlapanice\, Česká republika
CATEGORIES:Festival
ATTACH;FMTTYPE=image/jpeg:https://dnesnivylet.cz/wp-content/uploads/2026/04/320-6de2aaa2a544409999719cfa6fee38ad.jpg
END:VEVENT
END:VCALENDAR