BEGIN:VCALENDAR
VERSION:2.0
PRODID:-//www.dnesnivylet.cz                                                                                                                        Tip na výlet pro celou rodinu. - ECPv6.15.13.1//NONSGML v1.0//EN
CALSCALE:GREGORIAN
METHOD:PUBLISH
X-ORIGINAL-URL:https://dnesnivylet.cz
X-WR-CALDESC:Akce na www.dnesnivylet.cz                                                                                                                        Tip na výlet pro celou rodinu.
REFRESH-INTERVAL;VALUE=DURATION:PT1H
X-Robots-Tag:noindex
X-PUBLISHED-TTL:PT1H
BEGIN:VTIMEZONE
TZID:Europe/Prague
BEGIN:DAYLIGHT
TZOFFSETFROM:+0100
TZOFFSETTO:+0200
TZNAME:CEST
DTSTART:20250330T010000
END:DAYLIGHT
BEGIN:STANDARD
TZOFFSETFROM:+0200
TZOFFSETTO:+0100
TZNAME:CET
DTSTART:20251026T010000
END:STANDARD
BEGIN:DAYLIGHT
TZOFFSETFROM:+0100
TZOFFSETTO:+0200
TZNAME:CEST
DTSTART:20260329T010000
END:DAYLIGHT
BEGIN:STANDARD
TZOFFSETFROM:+0200
TZOFFSETTO:+0100
TZNAME:CET
DTSTART:20261025T010000
END:STANDARD
BEGIN:DAYLIGHT
TZOFFSETFROM:+0100
TZOFFSETTO:+0200
TZNAME:CEST
DTSTART:20270328T010000
END:DAYLIGHT
BEGIN:STANDARD
TZOFFSETFROM:+0200
TZOFFSETTO:+0100
TZNAME:CET
DTSTART:20271031T010000
END:STANDARD
END:VTIMEZONE
BEGIN:VEVENT
DTSTART;TZID=Europe/Prague:20260620T120000
DTEND;TZID=Europe/Prague:20260620T150000
DTSTAMP:20260419T184337
CREATED:20260208T144907Z
LAST-MODIFIED:20260208T144908Z
UID:17667-1781956800-1781967600@dnesnivylet.cz
SUMMARY:Březfest – Hard Open Air Jihlava\, Březinovy Sady
DESCRIPTION:Březfest – Hard Open Air Jihlava\, Březinovy Sady se uskuteční dne 2026-06-20 v 12:00 v Jihlava\, Amfiteátr. \n🎟️ Koupit vstupenku \n\nBřezfest není jen festival – je to komunita\, prostor pro svobodu projevu a scénický zážitek\, kde se hudba propojuje s vizuálním uměním. Atmosféra pod širým nebem\, řinčení nástrojů\, energie publika a extáze z vystoupení tvoří jádro tohoto jedinečného dne. \nNa pódiu se představí legendární XIII Století\, zahraniční hvězdy Induction (DE)\, In Sanity (DE)\, Moyra (PL) a domácí stálice Dark Gamballe. Program doplní další kapely\, které společně vytvoří pestrý mix od gothic rocku po moderní metal. \nČeká vás hudba\, která se neprožívá jen ušima\, ale celým tělem. Festivalová atmosféra s občerstvením\, pivem\, drinky a stánky s merchem. Trh s CD a vinylovými deskami\, doprovodný program a vizuální show. \n\nBřezfest II – zažijte energii\, vášeň a sílu tvrdé hudby v srdci Vysočiny!\n\n\nTento tip na kulturní akci v Jihlava najdete v přehledu na Dnesnivylet.cz spolu s dalšími koncerty\, festivaly a divadelními představeními.Každý si vybere co se mu líbí. Nezapomeňte koupit vstupenky včas\, stačí kliknout a budete přesměrování na oficiálního prodejce vstupenek.
URL:https://dnesnivylet.cz/event/brezfest-hard-open-air-jihlava-brezinovy-sady/
LOCATION:Amfiteátr\, Jihlava\, Amfiteátr\, Jihlava\, Česká republika
CATEGORIES:Festival
ATTACH;FMTTYPE=image/jpeg:https://dnesnivylet.cz/wp-content/uploads/2026/02/320-0ad1e3cb0de24139bc5c6b5321f82f38.jpg
END:VEVENT
BEGIN:VEVENT
DTSTART;TZID=Europe/Prague:20260620T130000
DTEND;TZID=Europe/Prague:20260620T160000
DTSTAMP:20260419T184337
CREATED:20251212T190055Z
LAST-MODIFIED:20251212T190055Z
UID:15021-1781960400-1781971200@dnesnivylet.cz
SUMMARY:HudliceFest 2026
DESCRIPTION:HudliceFest 2026 se uskuteční dne 2026-06-20 v 13:00 v Hudlice\, Sportovní areál u lesa. \n🎟️ Koupit vstupenku \n\nHudliceFest 2026 \n7.ročník jednodenního charitativního hudebního festivalu\, který se uskuteční v sobotu 20.6.2026  od 13.00 ve sportovním areálu v Hudlicích \n  \n\nZábavný program pro děti\nMalování na obličej – Vše pro dětský úsměv\nSkákací nafukovací hrad\nDovednostní hry\n\nDěti do 12 (včetně) let  v doprovodu rodičů mají vstup zdarma. \nDržitelé průkazu ZTP/P + doprovod mají vstup zdarma. \n20.6.2026 od 13 hodin (brány festivalu se otevřou ve 12:30) se uskuteční ve sportovním areálu v Hudlicích 7. ročník charitativního festivalu HudliceFest. \nPosláním sedmého ročníku bude tentokráte finančně pomoci organizaci DOBROMYSL což je nezisková nestátní organizace poskytující dětem i dospělým lidem s mentálním a kombinovaným postižením sociální služby. \nwww.hudlicefest.cz \n\nTento tip na kulturní akci v Hudlice najdete v přehledu na Dnesnivylet.cz spolu s dalšími koncerty\, festivaly a divadelními představeními.Každý si vybere co se mu líbí. Nezapomeňte koupit vstupenky včas\, stačí kliknout a budete přesměrování na oficiálního prodejce vstupenek.
URL:https://dnesnivylet.cz/event/hudlicefest-2026/
LOCATION:Sportovní areál u lesa\, Hudlice\, Sportovní areál u lesa\, Hudlice\, Česká republika
CATEGORIES:Festival
ATTACH;FMTTYPE=image/jpeg:https://dnesnivylet.cz/wp-content/uploads/2025/12/320-5474d3a7e28449278d7eee7381212419.jpg
END:VEVENT
BEGIN:VEVENT
DTSTART;TZID=Europe/Prague:20260620T130000
DTEND;TZID=Europe/Prague:20260620T160000
DTSTAMP:20260419T184337
CREATED:20260209T193216Z
LAST-MODIFIED:20260209T193217Z
UID:17803-1781960400-1781971200@dnesnivylet.cz
SUMMARY:Ostravská Country Fontána
DESCRIPTION:Ostravská Country Fontána se uskuteční dne 2026-06-20 v 13:00 v Děhylov\, Děhylov – areál Loděnice. \n🎟️ Koupit vstupenku \n\n\nOstravská Country Fontána již podruhé v areálu  Loděnice Děhylov v malebném prostředí  přímo na břehu řeky Opavy.\nCountry Fontána bude opět žánrově hodně pestrá!\n\nNa Ostravské Country Fontáně 2026 vystoupí: \n\nVĚRA MARTINOVÁ\nNEREZ a LUCIA\nSPIRITUÁL KVARTET\nTOMÁŠ LINKA a PŘÍMÁ LINKA\nHONZA NEDVĚD ml. a PŘÍBUZNÍ\nEPYDEMYE\nNOVÉ STRUNY\na vítěž soutěže „Talent Country radia“\n\nPODROBNÉ INFORMACE K FESTIVALU NAJDETE ZDE:  \nhttps://www.lodenice.com/country-fontana/ \n\nTento tip na kulturní akci v Děhylov najdete v přehledu na Dnesnivylet.cz spolu s dalšími koncerty\, festivaly a divadelními představeními.Každý si vybere co se mu líbí. Nezapomeňte koupit vstupenky včas\, stačí kliknout a budete přesměrování na oficiálního prodejce vstupenek.
URL:https://dnesnivylet.cz/event/ostravska-country-fontana/
LOCATION:Děhylov – areál Loděnice\, Děhylov\, Děhylov - areál Loděnice\, Děhylov\, Česká republika
CATEGORIES:Festival
ATTACH;FMTTYPE=image/jpeg:https://dnesnivylet.cz/wp-content/uploads/2026/02/320-5817841db36249c1899fe03f3c498945.jpg
END:VEVENT
BEGIN:VEVENT
DTSTART;TZID=Europe/Prague:20260620T150000
DTEND;TZID=Europe/Prague:20260620T180000
DTSTAMP:20260419T184337
CREATED:20251030T150052Z
LAST-MODIFIED:20251030T150053Z
UID:10704-1781967600-1781978400@dnesnivylet.cz
SUMMARY:Dopamine Festival 2026
DESCRIPTION:Dopamine Festival 2026 se uskuteční dne 2026-06-20 v 15:00 v Přerov\, Výstaviště. \n🎟️ Koupit vstupenku \n\nDOPAMINE FESTIVAL 202620. června 2026Venkovní areál Výstaviště PřerovStartujeme v 15:00 \nTěš se na více než 20 interpretů na 3 stageích!Hudební žánry: Hip Hop\, Rap\, Pop\, EDM\, Mainstream\, DnB\, Techno – prostě totální hudební jízda\, kde si každý najde to svoje! \n1. vlna interpretů již brzy! Vstupenky od 590 Kč pouze do 31.8.2025Levněji už to nikdy nebude! \nVIP VSTUPENKA do 31.12.2025 za 1990\,- –  \nDopřej si festival na maximum! Omezený počet kusů – jen pro ty nejrychlejší!Vyhrazené místo přímo pod stage s luxusním výhledem na dění.Vlastní VIP bar – žádné fronty\, žádný stres\, jen pohodlí. \nUžij si Dopamine Festival 2026 jako skutečný VIP! \nVstupné se bude zdražovat v šesti vlnách až do dne festivalu – čím dřív koupíš\, tím míň zaplatíš. \nLine-up zveřejňujeme postupně – sleduj událost a profil\, ať ti nic neunikne! \n\nTento tip na kulturní akci v Přerov najdete v přehledu na Dnesnivylet.cz spolu s dalšími koncerty\, festivaly a divadelními představeními.Každý si vybere co se mu líbí. Nezapomeňte koupit vstupenky včas\, stačí kliknout a budete přesměrování na oficiálního prodejce vstupenek.
URL:https://dnesnivylet.cz/event/dopamine-festival-2026/
LOCATION:Výstaviště\, Přerov\, Výstaviště\, Přerov\, Česká republika
CATEGORIES:Festival
ATTACH;FMTTYPE=image/jpeg:https://dnesnivylet.cz/wp-content/uploads/2025/10/320-0d0e636451e3406284ce1d736a365afd.jpg
END:VEVENT
BEGIN:VEVENT
DTSTART;TZID=Europe/Prague:20260620T160000
DTEND;TZID=Europe/Prague:20260620T190000
DTSTAMP:20260419T184337
CREATED:20251222T144541Z
LAST-MODIFIED:20251222T144541Z
UID:15800-1781971200-1781982000@dnesnivylet.cz
SUMMARY:Heřmaňák Fest
DESCRIPTION:Heřmaňák Fest  se uskuteční dne 2026-06-20 v 16:00 v Velké Meziříčí\, Dolní Heřmanice. \n🎟️ Koupit vstupenku \n\nHeřmaňákfest je menší rockový open air festival\, pořádaný partou dobrovolníků v  samém srdci Vysočiny. Za sebou máme již dva ročníky a na každém z nich se představily čtyři rockové kapely. \nPřípravy na letošní ročník jsou již v plném proudu. Představí se vám kapely jako Jacker’s\, Černá\, Gate Crasher a Doga.  \nFestival je určený pro všechny věkové kategorie a příznivce rockové hudby. \n\nTento tip na kulturní akci v Velké Meziříčí najdete v přehledu na Dnesnivylet.cz spolu s dalšími koncerty\, festivaly a divadelními představeními.Každý si vybere co se mu líbí. Nezapomeňte koupit vstupenky včas\, stačí kliknout a budete přesměrování na oficiálního prodejce vstupenek.
URL:https://dnesnivylet.cz/event/hermanak-fest/
LOCATION:Dolní Heřmanice\, Velké Meziříčí\, Dolní Heřmanice\, Velké Meziříčí\, Česká republika
CATEGORIES:Festival
ATTACH;FMTTYPE=image/jpeg:https://dnesnivylet.cz/wp-content/uploads/2025/12/320-116b949b5b4f45dcb1175b932063a16c.jpg
END:VEVENT
BEGIN:VEVENT
DTSTART;TZID=Europe/Prague:20260620T160000
DTEND;TZID=Europe/Prague:20260620T190000
DTSTAMP:20260419T184337
CREATED:20260405T130856Z
LAST-MODIFIED:20260405T130857Z
UID:20304-1781971200-1781982000@dnesnivylet.cz
SUMMARY:Minifest Pana Libora
DESCRIPTION:Minifest Pana Libora se uskuteční dne 2026-06-20 v 16:00 v Dvůr Králové nad Labem\, hřiště Softball Club ( za Kauflandem ). \n🎟️ Koupit vstupenku \n\nRock\, Punk & Ska ve Dvoře Králové nad Labem! \nPřijďte si užít jedinečný večírek v areálu Softball Clubu a zapomeňte na všední starosti 🙂 \nKvalitní hudba a občerstvení zajištěno. \n  \n\nTento tip na kulturní akci v Dvůr Králové nad Labem najdete v přehledu na Dnesnivylet.cz spolu s dalšími koncerty\, festivaly a divadelními představeními.Každý si vybere co se mu líbí. Nezapomeňte koupit vstupenky včas\, stačí kliknout a budete přesměrování na oficiálního prodejce vstupenek.
URL:https://dnesnivylet.cz/event/minifest-pana-libora/
LOCATION:hřiště Softball Club ( za Kauflandem )\, Dvůr Králové nad Labem\, hřiště Softball Club ( za Kauflandem )\, Dvůr Králové nad Labem\, Česká republika
CATEGORIES:Festival
ATTACH;FMTTYPE=image/jpeg:https://dnesnivylet.cz/wp-content/uploads/2026/04/320-50fa3927437d490a9dda8bd6c39d1e23.jpg
END:VEVENT
END:VCALENDAR