BEGIN:VCALENDAR
VERSION:2.0
PRODID:-//www.dnesnivylet.cz                                                                                                                        Tip na výlet pro celou rodinu. - ECPv6.15.13.1//NONSGML v1.0//EN
CALSCALE:GREGORIAN
METHOD:PUBLISH
X-ORIGINAL-URL:https://dnesnivylet.cz
X-WR-CALDESC:Akce na www.dnesnivylet.cz                                                                                                                        Tip na výlet pro celou rodinu.
REFRESH-INTERVAL;VALUE=DURATION:PT1H
X-Robots-Tag:noindex
X-PUBLISHED-TTL:PT1H
BEGIN:VTIMEZONE
TZID:Europe/Prague
BEGIN:DAYLIGHT
TZOFFSETFROM:+0100
TZOFFSETTO:+0200
TZNAME:CEST
DTSTART:20250330T010000
END:DAYLIGHT
BEGIN:STANDARD
TZOFFSETFROM:+0200
TZOFFSETTO:+0100
TZNAME:CET
DTSTART:20251026T010000
END:STANDARD
BEGIN:DAYLIGHT
TZOFFSETFROM:+0100
TZOFFSETTO:+0200
TZNAME:CEST
DTSTART:20260329T010000
END:DAYLIGHT
BEGIN:STANDARD
TZOFFSETFROM:+0200
TZOFFSETTO:+0100
TZNAME:CET
DTSTART:20261025T010000
END:STANDARD
BEGIN:DAYLIGHT
TZOFFSETFROM:+0100
TZOFFSETTO:+0200
TZNAME:CEST
DTSTART:20270328T010000
END:DAYLIGHT
BEGIN:STANDARD
TZOFFSETFROM:+0200
TZOFFSETTO:+0100
TZNAME:CET
DTSTART:20271031T010000
END:STANDARD
END:VTIMEZONE
BEGIN:VEVENT
DTSTART;TZID=Europe/Prague:20260704T090000
DTEND;TZID=Europe/Prague:20260704T120000
DTSTAMP:20260419T200235
CREATED:20251129T073739Z
LAST-MODIFIED:20251129T073739Z
UID:14207-1783155600-1783166400@dnesnivylet.cz
SUMMARY:BRNĚNECFEST XXV. aneb punkovej klystýr
DESCRIPTION:BRNĚNECFEST XXV. aneb punkovej klystýr se uskuteční dne 2026-07-04 v 09:00 v Brněnec\, Brněnec. \n🎟️ Koupit vstupenku \n\nBRNĚNECFEST XXV – ANEB PUNKOVEJ KLYSTÝR \nPřiprav se na další nálož syrový punkový energie – BRNĚNECFEST XXV se blíží! Už 4. července 2026 se zase sejdeme v legendárním areálu v Brněnci u Svitav\, kde to roztočíme tak\, jak to umí jen punkáči. Čeká tě den plnej kapel\, svobody a atmosféry\, na kterou jen tak nezapomeneš. \nTahle akce není jen koncert – je to setkání komunity\, která žije punkem. Vem stan\, kámoše a hlavně dobrou náladu. Společně uděláme z Brněnce místo\, kde se na chvíli zastaví svět a zůstane jen hudba a svoboda. \nParkování i stanování je samozřejmě zdarma. \nA teď trochu pravidel: respektuj areál\, okolní vesnici i ostatní návštěvníky. Žádný zbytečný bordel – chceme\, aby BRNĚNECFEST mohl žít dál i v dalších letech. Punk není o ničení\, ale o postoji! \nTakže neváhej\, seber partu a doraz – BRNĚNECFEST XXV ukáže\, že punk pořád žije a kopne tě tam\, kde to cítíš nejvíc! \nSleduj nás na Facebooku a Instagramu ať máš čerstvý informace. \nVidíme se v Brněnci – punk’s not dead! \n\nTento tip na kulturní akci v Brněnec najdete v přehledu na Dnesnivylet.cz spolu s dalšími koncerty\, festivaly a divadelními představeními.Každý si vybere co se mu líbí. Nezapomeňte koupit vstupenky včas\, stačí kliknout a budete přesměrování na oficiálního prodejce vstupenek.
URL:https://dnesnivylet.cz/event/brnenecfest-xxv-aneb-punkovej-klystyr/
LOCATION:Brněnec\, Brněnec\, Brněnec\, Brněnec\, Česká republika
CATEGORIES:Festival
ATTACH;FMTTYPE=image/jpeg:https://dnesnivylet.cz/wp-content/uploads/2025/11/320-347911e7878d4b92bc5763d9fc53796e.jpg
END:VEVENT
BEGIN:VEVENT
DTSTART;TZID=Europe/Prague:20260704T130000
DTEND;TZID=Europe/Prague:20260704T160000
DTSTAMP:20260419T200235
CREATED:20251108T171224Z
LAST-MODIFIED:20251108T171225Z
UID:13016-1783170000-1783180800@dnesnivylet.cz
SUMMARY:Krak'n'roll Abused Monkey Fest
DESCRIPTION:Krak’n’roll Abused Monkey Fest  se uskuteční dne 2026-07-04 v 13:00 v Praha\, MusicClub Modrá Vopice. \n🎟️ Koupit vstupenku \n\n4.7.2026 proběhne vůbec první ročník festivalu Krak’n’roll Abused Monkey Fest\, na kterém spojí síly pět kapel české scény! \nHlavní hvězdou festivalu nebude nikdo jiný než stálice české scény kapela Forrest Jump s nekomromisní energií a emocemi! \nDále se můžete těšit na dravou kombinaci moderního metalu v podobě Abused & Neglected\,  stylově pestré a neotřelé Kervežekson\, intenzivní Cruel Company či progresive metalocorové Halo Of The Sun. \nCelá akce se uskuteční ve venkovním areálu Modré Vopice. \nDatum 4.7.2026 si zapiš do kalendáře a nenech si tuhle metalovu párty ujít!   \nPrvní vlna vstupenek: 320\,- \nDruhá vlna vstupenek: 400\,- \nVstupné na místě: 450\,- \n\nTento tip na kulturní akci v Praha najdete v přehledu na Dnesnivylet.cz spolu s dalšími koncerty\, festivaly a divadelními představeními.Každý si vybere co se mu líbí. Nezapomeňte koupit vstupenky včas\, stačí kliknout a budete přesměrování na oficiálního prodejce vstupenek.
URL:https://dnesnivylet.cz/event/kraknroll-abused-monkey-fest/
LOCATION:MusicClub Modrá Vopice\, Praha\, MusicClub Modrá Vopice\, Praha\, Česká republika
CATEGORIES:Festival
ATTACH;FMTTYPE=image/jpeg:https://dnesnivylet.cz/wp-content/uploads/2025/11/320-1b7bbfe69f4e4d6eabeb085a7919ef30.jpg
END:VEVENT
BEGIN:VEVENT
DTSTART;TZID=Europe/Prague:20260704T140000
DTEND;TZID=Europe/Prague:20260704T170000
DTSTAMP:20260419T200235
CREATED:20251020T090521Z
LAST-MODIFIED:20251020T090522Z
UID:8996-1783173600-1783184400@dnesnivylet.cz
SUMMARY:BENNYFEST
DESCRIPTION:BENNYFEST se uskuteční dne 2026-07-04 v 14:00 v Kdyně\, Fotbalové hřiště na kobyle. \n🎟️ Koupit vstupenku \n\nPrvní ročník BENNYFESTU. \nSuper muzika\, super kapely\, přijď si užít akci! \n\nTento tip na kulturní akci v Kdyně najdete v přehledu na Dnesnivylet.cz spolu s dalšími koncerty\, festivaly a divadelními představeními.Každý si vybere co se mu líbí. Nezapomeňte koupit vstupenky včas\, stačí kliknout a budete přesměrování na oficiálního prodejce vstupenek.
URL:https://dnesnivylet.cz/event/bennyfest/
LOCATION:Fotbalové hřiště na kobyle\, Kdyně\, Fotbalové hřiště na kobyle\, Kdyně\, Česká republika
CATEGORIES:Festival
ATTACH;FMTTYPE=image/jpeg:https://dnesnivylet.cz/wp-content/uploads/2025/10/320-fcc9c66d8ac8455f90b7bc6939d48db0.jpg
END:VEVENT
BEGIN:VEVENT
DTSTART;TZID=Europe/Prague:20260704T160000
DTEND;TZID=Europe/Prague:20260704T190000
DTSTAMP:20260419T200235
CREATED:20251114T145943Z
LAST-MODIFIED:20251114T145944Z
UID:13457-1783180800-1783191600@dnesnivylet.cz
SUMMARY:Noc pod Mutěnsků horů 2026
DESCRIPTION:Noc pod Mutěnsků horů 2026 se uskuteční dne 2026-07-04 v 16:00 v Mutěnice\, Amfiteátr Pod Búdama. \n🎟️ Koupit vstupenku \n\nNoc pod Mutěnsků horů 2025 – Vinné trhy pod širým nebem \nPřijďte si užít XI. ročník vinných trhů a prezentace vinařství spolku Mutěnská hora v jedinečném prostředí mutěnského amfiteátru. Všechna vinařství na jednom místě\, pohodová atmosféra\, skvělé víno\, hudba a dobré jídlo. \nKdy? Sobota 4.7. 2026 od 16:00Kde? Amfiteátr MutěniceVstupné: 400 Kč – sklenička\, katalog vinařství\, propiska\, 20 degustačních kupónků (v hodnotě 100 Kč) \nCo vás čeká? \n\n\nOchutnávka vín od vinařů Mutěnské hory – osobní přístup\, jedinečné chutě\, možnost zakoupení lahví \n\n\nCM Slovácko mladší – tradiční cimbálová muzika \n\n\nKanci paní nadlesní – večerní rocková kapela \n\n\nBar s občerstvením – nealko i další alkoholické nápoje \n\n\nStánky s jídlem – různé speciality k vínu \n\n\nJak funguje degustace? V ceně vstupného obdržíte 20 degustačních kupónků\, které můžete vyměnit za vzorky vín u jednotlivých vinařů. Každé vinařství má svůj stánek a ochutnávky probíhají formou přímé výměny kupónů za degustační dávky. Pokud vám kupónky dojdou\, je možné si na místě dokoupit další. \n\nTento tip na kulturní akci v Mutěnice najdete v přehledu na Dnesnivylet.cz spolu s dalšími koncerty\, festivaly a divadelními představeními.Každý si vybere co se mu líbí. Nezapomeňte koupit vstupenky včas\, stačí kliknout a budete přesměrování na oficiálního prodejce vstupenek.
URL:https://dnesnivylet.cz/event/noc-pod-mutensku-horu-2026/
LOCATION:Amfiteátr Pod Búdama\, Mutěnice\, Amfiteátr Pod Búdama\, Mutěnice\, Česká republika
CATEGORIES:Festival
ATTACH;FMTTYPE=image/jpeg:https://dnesnivylet.cz/wp-content/uploads/2025/11/320-1373a9c4168941d2b4706836504894e5.jpg
END:VEVENT
END:VCALENDAR