BEGIN:VCALENDAR
VERSION:2.0
PRODID:-//www.dnesnivylet.cz                                                                                                                        Tip na výlet pro celou rodinu. - ECPv6.15.13.1//NONSGML v1.0//EN
CALSCALE:GREGORIAN
METHOD:PUBLISH
X-ORIGINAL-URL:https://dnesnivylet.cz
X-WR-CALDESC:Akce na www.dnesnivylet.cz                                                                                                                        Tip na výlet pro celou rodinu.
REFRESH-INTERVAL;VALUE=DURATION:PT1H
X-Robots-Tag:noindex
X-PUBLISHED-TTL:PT1H
BEGIN:VTIMEZONE
TZID:Europe/Prague
BEGIN:DAYLIGHT
TZOFFSETFROM:+0100
TZOFFSETTO:+0200
TZNAME:CEST
DTSTART:20250330T010000
END:DAYLIGHT
BEGIN:STANDARD
TZOFFSETFROM:+0200
TZOFFSETTO:+0100
TZNAME:CET
DTSTART:20251026T010000
END:STANDARD
BEGIN:DAYLIGHT
TZOFFSETFROM:+0100
TZOFFSETTO:+0200
TZNAME:CEST
DTSTART:20260329T010000
END:DAYLIGHT
BEGIN:STANDARD
TZOFFSETFROM:+0200
TZOFFSETTO:+0100
TZNAME:CET
DTSTART:20261025T010000
END:STANDARD
BEGIN:DAYLIGHT
TZOFFSETFROM:+0100
TZOFFSETTO:+0200
TZNAME:CEST
DTSTART:20270328T010000
END:DAYLIGHT
BEGIN:STANDARD
TZOFFSETFROM:+0200
TZOFFSETTO:+0100
TZNAME:CET
DTSTART:20271031T010000
END:STANDARD
END:VTIMEZONE
BEGIN:VEVENT
DTSTART;TZID=Europe/Prague:20260711T100000
DTEND;TZID=Europe/Prague:20260711T130000
DTSTAMP:20260419T214206
CREATED:20260404T175500Z
LAST-MODIFIED:20260404T175500Z
UID:20023-1783764000-1783774800@dnesnivylet.cz
SUMMARY:Proč Fest 4
DESCRIPTION:Proč Fest 4 se uskuteční dne 2026-07-11 v 10:00 v Slatiňany\, Sokolovna Slatiňany. \n🎟️ Koupit vstupenku \n\nČtvrtý ročník hudebního festivalu s příchutí punku\, rocku\, ska a dalších laskovin v srdci Slatiňan\, u toho nesmíš chybět. \n\nTento tip na kulturní akci v Slatiňany najdete v přehledu na Dnesnivylet.cz spolu s dalšími koncerty\, festivaly a divadelními představeními.Každý si vybere co se mu líbí. Nezapomeňte koupit vstupenky včas\, stačí kliknout a budete přesměrování na oficiálního prodejce vstupenek.
URL:https://dnesnivylet.cz/event/proc-fest-4/
LOCATION:Sokolovna Slatiňany\, Slatiňany\, Sokolovna Slatiňany\, Slatiňany\, Česká republika
CATEGORIES:Festival
ATTACH;FMTTYPE=image/jpeg:https://dnesnivylet.cz/wp-content/uploads/2026/04/320-f658f19e4488432192c842197a6314d0.jpg
END:VEVENT
BEGIN:VEVENT
DTSTART;TZID=Europe/Prague:20260711T150000
DTEND;TZID=Europe/Prague:20260711T180000
DTSTAMP:20260419T214206
CREATED:20251027T090429Z
LAST-MODIFIED:20251027T090430Z
UID:10243-1783782000-1783792800@dnesnivylet.cz
SUMMARY:Strako Beats Fest 2026
DESCRIPTION:Strako Beats Fest 2026 se uskuteční dne 2026-07-11 v 15:00 v Strakonice\, Panská zahrada. \n🎟️ Koupit vstupenku \n\nSTRAKO BEATS FEST REPETE!  \nStudent Beats ve spolupráci s Městem Strakonice ti přináší 2. ročník letního open-air mejdanu: 𝙎𝙏𝙍𝘼𝙆𝙊 𝘽𝙀𝘼𝙏𝙎 𝙁𝙀𝙎𝙏 2026  \na bude to ještě větší! \n\n𝙎𝙏𝙍𝘼𝙆𝙊 𝘽𝙀𝘼𝙏𝙎 𝙁𝙀𝙎𝙏 2026\nSobota\, 11.07.2026\nPanská zahrada\, Strakonice\nStart 15:00\n\n  \nVíce info již brzy. Omezená early birds 1.vlna v prodeji! \n\nTento tip na kulturní akci v Strakonice najdete v přehledu na Dnesnivylet.cz spolu s dalšími koncerty\, festivaly a divadelními představeními.Každý si vybere co se mu líbí. Nezapomeňte koupit vstupenky včas\, stačí kliknout a budete přesměrování na oficiálního prodejce vstupenek.
URL:https://dnesnivylet.cz/event/strako-beats-fest-2026/
LOCATION:Panská zahrada\, Strakonice\, Panská zahrada\, Strakonice\, Česká republika
CATEGORIES:Festival
ATTACH;FMTTYPE=image/jpeg:https://dnesnivylet.cz/wp-content/uploads/2025/10/320-291ee083443540f798ea9b746721a39c.jpg
END:VEVENT
END:VCALENDAR