BEGIN:VCALENDAR
VERSION:2.0
PRODID:-//www.dnesnivylet.cz                                                                                                                        Tip na výlet pro celou rodinu. - ECPv6.15.13.1//NONSGML v1.0//EN
CALSCALE:GREGORIAN
METHOD:PUBLISH
X-ORIGINAL-URL:https://dnesnivylet.cz
X-WR-CALDESC:Akce na www.dnesnivylet.cz                                                                                                                        Tip na výlet pro celou rodinu.
REFRESH-INTERVAL;VALUE=DURATION:PT1H
X-Robots-Tag:noindex
X-PUBLISHED-TTL:PT1H
BEGIN:VTIMEZONE
TZID:Europe/Prague
BEGIN:DAYLIGHT
TZOFFSETFROM:+0100
TZOFFSETTO:+0200
TZNAME:CEST
DTSTART:20250330T010000
END:DAYLIGHT
BEGIN:STANDARD
TZOFFSETFROM:+0200
TZOFFSETTO:+0100
TZNAME:CET
DTSTART:20251026T010000
END:STANDARD
BEGIN:DAYLIGHT
TZOFFSETFROM:+0100
TZOFFSETTO:+0200
TZNAME:CEST
DTSTART:20260329T010000
END:DAYLIGHT
BEGIN:STANDARD
TZOFFSETFROM:+0200
TZOFFSETTO:+0100
TZNAME:CET
DTSTART:20261025T010000
END:STANDARD
BEGIN:DAYLIGHT
TZOFFSETFROM:+0100
TZOFFSETTO:+0200
TZNAME:CEST
DTSTART:20270328T010000
END:DAYLIGHT
BEGIN:STANDARD
TZOFFSETFROM:+0200
TZOFFSETTO:+0100
TZNAME:CET
DTSTART:20271031T010000
END:STANDARD
END:VTIMEZONE
BEGIN:VEVENT
DTSTART;TZID=Europe/Prague:20260716T193000
DTEND;TZID=Europe/Prague:20260716T223000
DTSTAMP:20260419T214208
CREATED:20251214T071337Z
LAST-MODIFIED:20251214T071337Z
UID:15081-1784230200-1784241000@dnesnivylet.cz
SUMMARY:J.P. Rameau: Galantní světy / Les Indes galantes – premiéra
DESCRIPTION:J.P. Rameau: Galantní světy / Les Indes galantes – premiéra se uskuteční dne 2026-07-16 v 19:30 v Znojmo\, Centrum Jízdárna. \n🎟️ Koupit vstupenku \n\nV roce 1735 uvedl Jean-Philippe Rameau v Paříži dílo\, které zásadně proměnilo tehdejší pohled na operu. Les Indes galantes nejsou klasickým příběhem s jedním hrdinou a jednou zápletkou\, ale barokním kaleidoskopem čtyř rozmanitých obrazů zasazených do exotických krajin dle tehdejší představivosti: Turecka\, Persie\, Peru a Severní Ameriky. Všechny spojuje jediné téma – láska\, která překračuje hranice kultur a dokáže smířit rozdílnost. Opera vznikla na libreto Louise Fuzeliera a měla premiéru 23. srpna 1735 v pařížském divadle Palais-Royal. Nyní zazní znovu v autentické hudební interpretaci na historické nástroje\, s mimořádným sólistickým obsazením. \nOpera-balet je skutečnou přehlídkou hudebních barev. Rameau zde mistrně spojuje bohatství francouzské hudební tradice s rytmy a tanci\, které tehdejšímu publiku připadaly neznámé a provokativní. Z dnešního pohledu nás uchvacuje jeho odvaha komponovat hudbu plnou energie\, nečekaných kontrastů a dramatického napětí. Nejde pouze o árie – dílo zahrnuje i okázalé tance\, sborové scény a orchestrální čísla\, které společně vytvářejí velkolepou hudební slavnost. \nLes Indes galantes jsou oslavou lidské imaginace\, radosti a rozmanitosti světa. V kontextu Znojma a jeho výročí se navíc stávají metaforou samotného města – místa\, které bylo po staletí prostorem setkávání kultur\, hranicí i mostem. Rameauova hudba se tak propojí s duchem tohoto místa – ve slavnosti\, která patří všem\, kdo chtějí sdílet krásu\, radost a společnou přítomnost. \nOpera bude uvedena ve hvězdném obsazení v nově otevřeném kulturním a kreativním Centru Jízdárna. \nSólisté: \n\nAdam Plachetka\nJean-François Lombard\nHana Blažíková\nLenka Máčiková\nDoubravka Novotná\nMichal Marhold\nVojtěch Semerád\nTomáš Král\n\nTvůrčí tým: \n\nDirigent – Tomáš Netopil\nRežie – Tomáš Ondřej Pilař\nChoreografie – Martin Šinták\n\nOrchestr: SILENTIUM! Ensemble \n\nTento tip na kulturní akci v Znojmo najdete v přehledu na Dnesnivylet.cz spolu s dalšími koncerty\, festivaly a divadelními představeními.Každý si vybere co se mu líbí. Nezapomeňte koupit vstupenky včas\, stačí kliknout a budete přesměrování na oficiálního prodejce vstupenek.
URL:https://dnesnivylet.cz/event/j-p-rameau-galantni-svety-les-indes-galantes-premiera/
LOCATION:Centrum Jízdárna\, Znojmo\, Centrum Jízdárna\, Znojmo\, Česká republika
CATEGORIES:Festival
ATTACH;FMTTYPE=image/jpeg:https://dnesnivylet.cz/wp-content/uploads/2025/12/320-d3cd866658fb4d23a99d86debc4b8642.jpg
END:VEVENT
END:VCALENDAR