BEGIN:VCALENDAR
VERSION:2.0
PRODID:-//www.dnesnivylet.cz                                                                                                                        Tip na výlet pro celou rodinu. - ECPv6.15.13.1//NONSGML v1.0//EN
CALSCALE:GREGORIAN
METHOD:PUBLISH
X-WR-CALNAME:www.dnesnivylet.cz                                                                                                                        Tip na výlet pro celou rodinu.
X-ORIGINAL-URL:https://dnesnivylet.cz
X-WR-CALDESC:Akce na www.dnesnivylet.cz                                                                                                                        Tip na výlet pro celou rodinu.
REFRESH-INTERVAL;VALUE=DURATION:PT1H
X-Robots-Tag:noindex
X-PUBLISHED-TTL:PT1H
BEGIN:VTIMEZONE
TZID:Europe/Prague
BEGIN:DAYLIGHT
TZOFFSETFROM:+0100
TZOFFSETTO:+0200
TZNAME:CEST
DTSTART:20250330T010000
END:DAYLIGHT
BEGIN:STANDARD
TZOFFSETFROM:+0200
TZOFFSETTO:+0100
TZNAME:CET
DTSTART:20251026T010000
END:STANDARD
BEGIN:DAYLIGHT
TZOFFSETFROM:+0100
TZOFFSETTO:+0200
TZNAME:CEST
DTSTART:20260329T010000
END:DAYLIGHT
BEGIN:STANDARD
TZOFFSETFROM:+0200
TZOFFSETTO:+0100
TZNAME:CET
DTSTART:20261025T010000
END:STANDARD
BEGIN:DAYLIGHT
TZOFFSETFROM:+0100
TZOFFSETTO:+0200
TZNAME:CEST
DTSTART:20270328T010000
END:DAYLIGHT
BEGIN:STANDARD
TZOFFSETFROM:+0200
TZOFFSETTO:+0100
TZNAME:CET
DTSTART:20271031T010000
END:STANDARD
END:VTIMEZONE
BEGIN:VEVENT
DTSTART;TZID=Europe/Prague:20260726T193000
DTEND;TZID=Europe/Prague:20260726T223000
DTSTAMP:20260419T200241
CREATED:20251212T185401Z
LAST-MODIFIED:20251212T185402Z
UID:14867-1785094200-1785105000@dnesnivylet.cz
SUMMARY:Mozart milující...
DESCRIPTION:Mozart milující… se uskuteční dne 2026-07-26 v 19:30 v Valtice\, Zámek Valtice – barokní divadlo. \n🎟️ Koupit vstupenku \n\nMOZART MILUJÍCÍ… \nDopisy milované ženě a hudba nejněžnější \načkoli byla Mozartova osobnost komplikovaná\, z dochovaných dopisů vyplývá\, že velmi miloval svou ženu Konstanc. Koncert plný milostných melodií představí intimní život Mozarta a jeho ženy. Recitací dochovaných textů se ujme skvělá herečka Monika Timková a zpěvem naplní večer talentovaná pěvkyně Michaela Katráková. Večer je zvlášť vhodný pro zamilované dvojice. V prostorách překrásného barokního divadla si plně užijete autentičnost 18. století \n\nTento tip na kulturní akci v Valtice najdete v přehledu na Dnesnivylet.cz spolu s dalšími koncerty\, festivaly a divadelními představeními.Každý si vybere co se mu líbí. Nezapomeňte koupit vstupenky včas\, stačí kliknout a budete přesměrování na oficiálního prodejce vstupenek.
URL:https://dnesnivylet.cz/event/mozart-milujici/
LOCATION:Zámek Valtice – barokní divadlo\, Valtice\, Zámek Valtice - barokní divadlo\, Valtice\, Česká republika
CATEGORIES:Festival
ATTACH;FMTTYPE=image/jpeg:https://dnesnivylet.cz/wp-content/uploads/2025/12/320-0db7a77296064b48b3213ad8412c436e.jpg
END:VEVENT
END:VCALENDAR