BEGIN:VCALENDAR
VERSION:2.0
PRODID:-//www.dnesnivylet.cz                                                                                                                        Tip na výlet pro celou rodinu. - ECPv6.15.13.1//NONSGML v1.0//EN
CALSCALE:GREGORIAN
METHOD:PUBLISH
X-ORIGINAL-URL:https://dnesnivylet.cz
X-WR-CALDESC:Akce na www.dnesnivylet.cz                                                                                                                        Tip na výlet pro celou rodinu.
REFRESH-INTERVAL;VALUE=DURATION:PT1H
X-Robots-Tag:noindex
X-PUBLISHED-TTL:PT1H
BEGIN:VTIMEZONE
TZID:Europe/Prague
BEGIN:DAYLIGHT
TZOFFSETFROM:+0100
TZOFFSETTO:+0200
TZNAME:CEST
DTSTART:20250330T010000
END:DAYLIGHT
BEGIN:STANDARD
TZOFFSETFROM:+0200
TZOFFSETTO:+0100
TZNAME:CET
DTSTART:20251026T010000
END:STANDARD
BEGIN:DAYLIGHT
TZOFFSETFROM:+0100
TZOFFSETTO:+0200
TZNAME:CEST
DTSTART:20260329T010000
END:DAYLIGHT
BEGIN:STANDARD
TZOFFSETFROM:+0200
TZOFFSETTO:+0100
TZNAME:CET
DTSTART:20261025T010000
END:STANDARD
BEGIN:DAYLIGHT
TZOFFSETFROM:+0100
TZOFFSETTO:+0200
TZNAME:CEST
DTSTART:20270328T010000
END:DAYLIGHT
BEGIN:STANDARD
TZOFFSETFROM:+0200
TZOFFSETTO:+0100
TZNAME:CET
DTSTART:20271031T010000
END:STANDARD
END:VTIMEZONE
BEGIN:VEVENT
DTSTART;TZID=Europe/Prague:20260822T130000
DTEND;TZID=Europe/Prague:20260822T160000
DTSTAMP:20260420T021631
CREATED:20251027T154839Z
LAST-MODIFIED:20251027T154840Z
UID:10411-1787403600-1787414400@dnesnivylet.cz
SUMMARY:Rock For Your Shock Vol.5
DESCRIPTION:Rock For Your Shock Vol.5 se uskuteční dne 2026-08-22 v 13:00 v Prostějov\, Zámek Prostějov. \n🎟️ Koupit vstupenku \n\nPřátelé a fanoušci! Ročník 2026 je již páty a to je důvod k oslavě!  Pět let uteklo jako voda a my budeme rádi\, když se na tuhle půlkulatinovou metalovou párty připojíte!  Festival již tradičně proběhne v prostorách zámku Prostějov 22.8.2026. \nNebudeme chodit kolem horké kaše. Ku příležitosti jubilejního ročníků jsme pro vás připravili kapely se skvělými metalovými zpěvačkami. Tyhle hrdinky metalu nejsou jen krásnými ozdobami\, ale předeším skutečný symbol ženské síly. \nPo 13 letech se do České republiky vrací italská upíří legenda Theatres Des Vampires\, která pojede své tour ke třiceti letům existence. Další energickou kapelou  z Itálie je nu metalová Exilia! Zástupci klasického poctivého hard rockou je kapela Vulvarine z Rakouska\, která je složena pouze z žen. Od našich slovenských sousedů dorazí uskupení Royal Question. Za česko dorazí Emerald Shine a samozřejmě zde vystoupí Abused & Neglected a také S.O.P. Poslední dvě zmíněné kapely budou jediné\, ve kterých se mikrofonu chopí muži a celý festival odstartují a ukončí. \nVYSTUPUJÍCÍ \nTheatres Des Vampires (ITA) \nExilia (ITA) \nVulvarine (AUT) \nEmerald Shine (CZ) \nRoyal Question (SK) \nAbused & Neglected (CZ) \nS.O.P. (CZ) \n  \n\nTento tip na kulturní akci v Prostějov najdete v přehledu na Dnesnivylet.cz spolu s dalšími koncerty\, festivaly a divadelními představeními.Každý si vybere co se mu líbí. Nezapomeňte koupit vstupenky včas\, stačí kliknout a budete přesměrování na oficiálního prodejce vstupenek.
URL:https://dnesnivylet.cz/event/rock-for-your-shock-vol-5/
LOCATION:Zámek Prostějov\, Prostějov\, Zámek Prostějov\, Prostějov\, Česká republika
CATEGORIES:Festival
ATTACH;FMTTYPE=image/jpeg:https://dnesnivylet.cz/wp-content/uploads/2025/10/320-cce58c808a204f53bbf0a7be81ef92a4.jpg
END:VEVENT
BEGIN:VEVENT
DTSTART;TZID=Europe/Prague:20260822T130000
DTEND;TZID=Europe/Prague:20260822T160000
DTSTAMP:20260420T021631
CREATED:20251103T152957Z
LAST-MODIFIED:20251103T152957Z
UID:11629-1787403600-1787414400@dnesnivylet.cz
SUMMARY:Chotěboř fest 2026
DESCRIPTION:Chotěboř fest 2026 se uskuteční dne 2026-08-22 v 13:00 v Chotěboř\, Plocha u zimního stadionu. \n🎟️ Koupit vstupenku \n\nJedná se o hudební akci s řadou doprovodných aktivit zaměřenou na velké i malé fanoušky rocku a festivalů pod širým nebem. \nVedlejší program pamatuje i na dětské návštěvníky\, dospělí mají šanci ochutnat místní pivo značky Chotěboř přímo od zdroje. \nDíky vašemu přispění opakujeme úspěšnou společenskou akci a jsme rádi\, že se na ní opět potkáme s vámi i vašimi přáteli. \n\nTento tip na kulturní akci v Chotěboř najdete v přehledu na Dnesnivylet.cz spolu s dalšími koncerty\, festivaly a divadelními představeními.Každý si vybere co se mu líbí. Nezapomeňte koupit vstupenky včas\, stačí kliknout a budete přesměrování na oficiálního prodejce vstupenek.
URL:https://dnesnivylet.cz/event/chotebor-fest-2026/
LOCATION:Plocha u zimního stadionu\, Chotěboř\, Plocha u zimního stadionu\, Chotěboř\, Česká republika
CATEGORIES:Festival
ATTACH;FMTTYPE=image/jpeg:https://dnesnivylet.cz/wp-content/uploads/2025/11/320-afe8b5f5ad92432b99ede3333f499bbe.jpg
END:VEVENT
BEGIN:VEVENT
DTSTART;TZID=Europe/Prague:20260822T140000
DTEND;TZID=Europe/Prague:20260822T170000
DTSTAMP:20260420T021631
CREATED:20260405T130752Z
LAST-MODIFIED:20260405T130753Z
UID:20275-1787407200-1787418000@dnesnivylet.cz
SUMMARY:Kroměřížské pivní slavnosti 2026
DESCRIPTION:Kroměřížské pivní slavnosti 2026 se uskuteční dne 2026-08-22 v 14:00 v Kroměříž\, Areál pivovaru Maxmilian. \n🎟️ Koupit vstupenku \n\nČtvrtý ročník skvělé hudby\, vyborného piva a perfektní zábavy v Pivovaru Maxmilian! \nZapište si datum 22. 8. 2026! \nVstup od 14:00! \nČekají na Vás skvělé kapely\, výborné jídlo z gastro zóny a vynikající pivo! \n\nTento tip na kulturní akci v Kroměříž najdete v přehledu na Dnesnivylet.cz spolu s dalšími koncerty\, festivaly a divadelními představeními.Každý si vybere co se mu líbí. Nezapomeňte koupit vstupenky včas\, stačí kliknout a budete přesměrování na oficiálního prodejce vstupenek.
URL:https://dnesnivylet.cz/event/kromerizske-pivni-slavnosti-2026/
LOCATION:Areál pivovaru Maxmilian\, Kroměříž\, Areál pivovaru Maxmilian\, Kroměříž\, Česká republika
CATEGORIES:Festival
ATTACH;FMTTYPE=image/jpeg:https://dnesnivylet.cz/wp-content/uploads/2026/04/320-a6fcc72b95d741afb7ac76dfae970f09.jpg
END:VEVENT
END:VCALENDAR