BEGIN:VCALENDAR
VERSION:2.0
PRODID:-//www.dnesnivylet.cz                                                                                                                        Tip na výlet pro celou rodinu. - ECPv6.15.13.1//NONSGML v1.0//EN
CALSCALE:GREGORIAN
METHOD:PUBLISH
X-ORIGINAL-URL:https://dnesnivylet.cz
X-WR-CALDESC:Akce na www.dnesnivylet.cz                                                                                                                        Tip na výlet pro celou rodinu.
REFRESH-INTERVAL;VALUE=DURATION:PT1H
X-Robots-Tag:noindex
X-PUBLISHED-TTL:PT1H
BEGIN:VTIMEZONE
TZID:Europe/Prague
BEGIN:DAYLIGHT
TZOFFSETFROM:+0100
TZOFFSETTO:+0200
TZNAME:CEST
DTSTART:20250330T010000
END:DAYLIGHT
BEGIN:STANDARD
TZOFFSETFROM:+0200
TZOFFSETTO:+0100
TZNAME:CET
DTSTART:20251026T010000
END:STANDARD
BEGIN:DAYLIGHT
TZOFFSETFROM:+0100
TZOFFSETTO:+0200
TZNAME:CEST
DTSTART:20260329T010000
END:DAYLIGHT
BEGIN:STANDARD
TZOFFSETFROM:+0200
TZOFFSETTO:+0100
TZNAME:CET
DTSTART:20261025T010000
END:STANDARD
BEGIN:DAYLIGHT
TZOFFSETFROM:+0100
TZOFFSETTO:+0200
TZNAME:CEST
DTSTART:20270328T010000
END:DAYLIGHT
BEGIN:STANDARD
TZOFFSETFROM:+0200
TZOFFSETTO:+0100
TZNAME:CET
DTSTART:20271031T010000
END:STANDARD
END:VTIMEZONE
BEGIN:VEVENT
DTSTART;TZID=Europe/Prague:20260904T160000
DTEND;TZID=Europe/Prague:20260904T190000
DTSTAMP:20260420T021630
CREATED:20260404T180039Z
LAST-MODIFIED:20260404T180040Z
UID:20057-1788537600-1788548400@dnesnivylet.cz
SUMMARY:DAROS FEST – charita & rock ze stavebnin
DESCRIPTION:DAROS FEST – charita & rock ze stavebnin se uskuteční dne 2026-09-04 v 16:00 v Dvůr Králové nad Labem\, areál stavebnin Daros profi s.r.o.. \n🎟️ Koupit vstupenku \n\nOblíbený rockový festival DAROS FEST se vrací v roce 2026! 💙 \nDvoudenní open-air akce s rodinnou atmosférou\, silnou dávkou rocku a charitním přesahem se uskuteční v pátek a sobotu 4.–5. září 2026 v areálu DAROS\, Dvůr Králové nad Labem. 📌 \nTěšit se můžete na pořádnou porci českého rocku napříč generacemi\, přátelskou atmosféru a tradičně bezkonkurenční vstupné. 🎟️ \nPotvrzenými kapelami jsou: \n\n\nKomunál \n\n\nWalda Gang \n\n\nMorčata na útěku \n\n\nKrucipüsk \n\n\nTurbo \n\n\nBastard \n\n\nVilém Čok & Bypass \n\n\nAlžběta \n\n\nAlibi Rock \n\n\nAlchymie \n\n\n​ \nDAROS FEST není jen festival – je to setkání lidí\, které spojuje hudba\, přátelství a dobrá věc.  \nBuďte u toho i v tomto roce! ⭐ \n\nTento tip na kulturní akci v Dvůr Králové nad Labem najdete v přehledu na Dnesnivylet.cz spolu s dalšími koncerty\, festivaly a divadelními představeními.Každý si vybere co se mu líbí. Nezapomeňte koupit vstupenky včas\, stačí kliknout a budete přesměrování na oficiálního prodejce vstupenek.
URL:https://dnesnivylet.cz/event/daros-fest-charita-rock-ze-stavebnin/
LOCATION:areál stavebnin Daros profi s.r.o.\, Dvůr Králové nad Labem\, areál stavebnin Daros profi s.r.o.\, Dvůr Králové nad Labem\, Česká republika
CATEGORIES:Festival
ATTACH;FMTTYPE=image/jpeg:https://dnesnivylet.cz/wp-content/uploads/2026/04/320-c3254ee1f24642af8cb24c6f9cd59624.jpg
END:VEVENT
END:VCALENDAR