BEGIN:VCALENDAR
VERSION:2.0
PRODID:-//www.dnesnivylet.cz                                                                                                                        Tip na výlet pro celou rodinu. - ECPv6.15.13.1//NONSGML v1.0//EN
CALSCALE:GREGORIAN
METHOD:PUBLISH
X-WR-CALNAME:www.dnesnivylet.cz                                                                                                                        Tip na výlet pro celou rodinu.
X-ORIGINAL-URL:https://dnesnivylet.cz
X-WR-CALDESC:Akce na www.dnesnivylet.cz                                                                                                                        Tip na výlet pro celou rodinu.
REFRESH-INTERVAL;VALUE=DURATION:PT1H
X-Robots-Tag:noindex
X-PUBLISHED-TTL:PT1H
BEGIN:VTIMEZONE
TZID:Europe/Prague
BEGIN:DAYLIGHT
TZOFFSETFROM:+0100
TZOFFSETTO:+0200
TZNAME:CEST
DTSTART:20240331T010000
END:DAYLIGHT
BEGIN:STANDARD
TZOFFSETFROM:+0200
TZOFFSETTO:+0100
TZNAME:CET
DTSTART:20241027T010000
END:STANDARD
BEGIN:DAYLIGHT
TZOFFSETFROM:+0100
TZOFFSETTO:+0200
TZNAME:CEST
DTSTART:20250330T010000
END:DAYLIGHT
BEGIN:STANDARD
TZOFFSETFROM:+0200
TZOFFSETTO:+0100
TZNAME:CET
DTSTART:20251026T010000
END:STANDARD
BEGIN:DAYLIGHT
TZOFFSETFROM:+0100
TZOFFSETTO:+0200
TZNAME:CEST
DTSTART:20260329T010000
END:DAYLIGHT
BEGIN:STANDARD
TZOFFSETFROM:+0200
TZOFFSETTO:+0100
TZNAME:CET
DTSTART:20261025T010000
END:STANDARD
END:VTIMEZONE
BEGIN:VEVENT
DTSTART;TZID=Europe/Prague:20251101T110000
DTEND;TZID=Europe/Prague:20251101T140000
DTSTAMP:20260419T233907
CREATED:20251025T143050Z
LAST-MODIFIED:20251025T143050Z
UID:10060-1761994800-1762005600@dnesnivylet.cz
SUMMARY:JiMi´s Fest vol.2
DESCRIPTION:JiMi´s Fest vol.2 se uskuteční dne 2025-11-01 v 11:00 v Praha\, Kayak Beach Bar. \n🎟️ Koupit vstupenku \n\nSvoláváme všechny dobrodruhy\, polárníky\, horolezce\, skialpinisty\, kitery\, hikery a další milovníky zimních dobrodružství! \nDruhý ročník JiMi´s Festu přesouváme na Kayak Beach Bar pod Železniční most. Opět se můžeš těšit na den plný mrazivých přednášek a worskhopů. Doraž načerpat inspiraci a zkušenosti před další zimní sezónou a potkat se s lidmi\, kteří jsou naladěni stejně jako vy. \nPo přednáškách bude afterparty\, abychom tu hromadu inspirace mohli společně probrat u drinku. Během večera proběhne jamovací sešlost v podání Mili Vaňkátové /trombon/\, Petra „Pítrse“ Kašpara /kytara/\, Toničky Pištorové /housle/ a Ivana Mitruse /kytara/. \nTěšíme se na Tebe! \nJirka&Mili z JiMi´s Adventure \nJiMi´s FEST startuje v 11:00 😉 \nPotvrzení speakeři: \nJirka Lichteneger a Milada Vaňkátová s přednáškou „Náruč Severu“ – jaké to je být na polární expedici se svým životním partnerem? Daleko v divočině\, mrazu a mimo civilizační vymoženosti našich každodenních životů? V Arktidě společně ušli přes 1 400 km a co si ze svých expedic odnesli do běžného života? \nKim Senger a přednáška „Můj život na Špicberkách“ – první Čech\, který přešel expedičně Špicberky z jihu na sever. Na lyžích\, pešky a na kole překonal celé Norsko. Profesor geologie přednášející na UNISu na Špicberkách\, kde podniknul nespočet vědeckých a dobrodružných expedic. Zřejmě nejkvalifikovanější česky mluvící osoba\, která ti tohle arktický souostroví dokáže přiblížit. \nAbhejali Bernardová – Extrémní plavecký výkon\, který dokázala zopakovat jen hrstka lidí na světě a  autorka knihy „Dokud voda neskončí“. Tahle neobvyklá kniha – stejně jako tohle povídání – není zdaleka jen o plavání. Je o výpravách do vlastního nitra a rozhodně vás nenechá v klidu. Přijďte se nechat přesvědčit\, že všichni dokážeme víc\, než si myslíme. Bude vám zima\, budete se houpat na vlnách\, budete objevovat\, budete na sobě chtít pracovat. A budete snít o vlastním dobrodružství. \nVáclav Pištora a přednáška „Zimní přechod legendární severozápadní pasáží v kanadském teritoriu Nunavut„ Zajímá Vás\, jak Václav tento pochod srovnává s dosavadními polárnickými zkušenostmi včetně dvěma cestami v Antarktidě? A jak pobyt v mrazivé arktické divočině změnil jeho pohled na své dosavadní a budoucí polární cesty? Přijďte! Václav se polárníkem neoznačuje. Naopak o sobě tvrdí\, že žádným není. “Prostě jdu – to dovede každý. Jenom chtít\,” říká. \nMiloš Bohoněk a přednáška „Skialpová expedice Denali“V červnu 2025 vystoupala česko-americká expedice na vrchol mrazivé Mt Denali (6190 m.n.m)\, nejvyšší hory Severní Ameriky. A potom přímo z vrcholu sjela na lyžích. Stejný postup pak zvolila i na sesterském North Peaku (5 934 m.n.m.)\, kde udělala letošní prvovýstup.Jak se lyžuje na střeše Aljašky? Proč Mt McKinley vytrestá i nejednoho pokořitele Everestu? A jak nepřijít o prsty u nohou v přezkáčích\, když je venku -35 °C? \nDavid Vencl – Muž pod ledem. Dvojnásobný světový rekordman v plavání pod ledem David Vencl přináší svou přednášku o síle dechu\, chladu a nastavení mysli. V příbězích z extrémních ponorů i běžného života ukazuje\, jak lze z práce s dechem a chladem čerpat klid\, energii i schopnost překonávat vlastní limity. \n\nTento tip na kulturní akci v Praha najdete v přehledu na Dnesnivylet.cz spolu s dalšími koncerty\, festivaly a divadelními představeními.Každý si vybere co se mu líbí. Nezapomeňte koupit vstupenky včas\, stačí kliknout a budete přesměrování na oficiálního prodejce vstupenek.
URL:https://dnesnivylet.cz/event/jimis-fest-vol-2/
LOCATION:Kayak Beach Bar\, Praha\, Kayak Beach Bar\, Praha\, Česká republika
CATEGORIES:Festival
ATTACH;FMTTYPE=image/jpeg:https://dnesnivylet.cz/wp-content/uploads/2025/10/320-97f4b2afb0654ab7a2ee0ae754514117.jpg
END:VEVENT
BEGIN:VEVENT
DTSTART;TZID=Europe/Prague:20251101T100000
DTEND;TZID=Europe/Prague:20251101T130000
DTSTAMP:20260419T233907
CREATED:20251020T103314Z
LAST-MODIFIED:20251020T103315Z
UID:9176-1761991200-1762002000@dnesnivylet.cz
SUMMARY:Mystico - záhadologický festival
DESCRIPTION:Mystico – záhadologický festival se uskuteční dne 2025-11-01 v 10:00 v Kolín\, MSD. \n🎟️ Koupit vstupenku \n\nJiž podruhé v tomto roce se Společenský dům v Kolíně stane místem setkání záhadologů z celé České republiky i ze Slovenska. Témata budou opět fascinující – budeme zkoumat vliv zvuku na náš organiumus\, zažijeme besedu s lovci duchů\, dostaneme informace o tom\, jak si programovat vodu\, nastane i polemika na téma: zda existuje duše\, v rámci kryptozologie se zaměříme na tajemné bytosti slovanské mytologie a probereme ještě mnoho dalších témat.  \nAkce proběhne v magickém období Dušiček\, které přímo vybízí ke zkoumání neviditelného světa\, tajemství a skrytých souvislostí. \nSoučástí programu budou nejen poutavé přednášky\, ale také hudební vystoupení\, tematické stánky a ukázky moderních omlazovacích technologií inspirovaných dávnou moudrostí našich předků. \nPROGRAM: \nVelký sál \n10:00 – Óm Chanting Veru Gíta \n10:20 – Zahájení Ava & David \n10:30 – Helena Heclová – Tajemství kosmického stromu \n11:40 – Hana Sahhu-Arah – Krystalické vědomí \n12:50 – pauza na oběd + příprava koncertu \n13:20 – Koncert Patrik Kee \n14:30 Jaroslav Drábek a Alexandra Naul – beseda \nParanormální jevy a jejich řešení \n16:10 – Otomar Dvořák – Tajemná území Boiohamea \n17:20 – Ava Brožová – Záhadná místa Evropy \n+ křest knihy Město draka \n  \nMalý sál \n10:30 – ukázky hry na křištálové kalichy \n10:50 – Helena Olmrová – Mystérium života na Zemi \n12:00 – Ondřej Brož – Existuje duše? \n13:00 – Ava Brožová – Strážci rovnováhy a Město draka \nčtení z knih\, autogramiáda\, interaktivní workshop \n14:00 – Jirka Šobr – Projení světla a zvuku \n15:00 – Vít Syrový – Skrytá tajemství vody \n16:20 – David Šubrt – Podzemní komplexy a říše Agharta \n\nTento tip na kulturní akci v Kolín najdete v přehledu na Dnesnivylet.cz spolu s dalšími koncerty\, festivaly a divadelními představeními.Každý si vybere co se mu líbí. Nezapomeňte koupit vstupenky včas\, stačí kliknout a budete přesměrování na oficiálního prodejce vstupenek.
URL:https://dnesnivylet.cz/event/mystico-zahadologicky-festival/
LOCATION:MSD\, Kolín\, MSD\, Kolín\, Česká republika
CATEGORIES:Festival
ATTACH;FMTTYPE=image/jpeg:https://dnesnivylet.cz/wp-content/uploads/2025/10/320-eccdd7312abb482099ab7aaec8680c4d.jpg
END:VEVENT
BEGIN:VEVENT
DTSTART;TZID=Europe/Prague:20251025T173000
DTEND;TZID=Europe/Prague:20251025T203000
DTSTAMP:20260419T233907
CREATED:20251020T090521Z
LAST-MODIFIED:20251020T090521Z
UID:8992-1761413400-1761424200@dnesnivylet.cz
SUMMARY:Youngfest Šumperk 2025
DESCRIPTION:Youngfest Šumperk 2025 se uskuteční dne 2025-10-25 v 17:30 v Šumperk\, H-Club. \n🎟️ Koupit vstupenku \n\nYoungfest Šumperk čeká 25.10. už svůj čtvrtý ročník\, na který přinese nejnabitější line-up své historie. V prostorách šumperského H-clubu se představí umělci The Silver Spoons\, Ventolin\, Byt číslo 4\, Kruh 19\, Luxfery a 301. \n\nTento tip na kulturní akci v Šumperk najdete v přehledu na Dnesnivylet.cz spolu s dalšími koncerty\, festivaly a divadelními představeními.Každý si vybere co se mu líbí. Nezapomeňte koupit vstupenky včas\, stačí kliknout a budete přesměrování na oficiálního prodejce vstupenek.
URL:https://dnesnivylet.cz/event/youngfest-sumperk-2025/
LOCATION:H-Club\, Šumperk\, H-Club\, Šumperk\, Česká republika
CATEGORIES:Festival
ATTACH;FMTTYPE=image/jpeg:https://dnesnivylet.cz/wp-content/uploads/2025/10/320-0255281d90fb493082061410c3de7237.jpg
END:VEVENT
BEGIN:VEVENT
DTSTART;TZID=Europe/Prague:20251025T170000
DTEND;TZID=Europe/Prague:20251025T200000
DTSTAMP:20260419T233907
CREATED:20251022T113456Z
LAST-MODIFIED:20251022T113456Z
UID:9622-1761411600-1761422400@dnesnivylet.cz
SUMMARY:Folk metal pilgrims 2025 vol.10
DESCRIPTION:Folk metal pilgrims 2025 vol.10 se uskuteční dne 2025-10-25 v 17:00 v Ostrava\, BARRÁK music club. \n🎟️ Koupit vstupenku \n\nDeset let legendy: Oslavte s námi jubileum metalového pohanství \nUž deset zim a deset sklizní se scházíme pod střechou ostravského Barráku\, abychom společně vzdali hold hudbě\, která prýští z hlubokých lesů\, horských řek a dávných příběhů. Folk Metal Pilgrims není jen koncert – je to rituál\, poutní cesta napříč žánry\, kulturami a emocemi. V roce 2025 nás čeká oslavná desetiletka\, a tak jsme pro vás připravili line-up\, jaký se rodí jednou za věk. \n🔥 Kdo rozezní srdce poutníků? \n🌿 Silent Stream of Godless Elegy (CZ) \nMoravští vládci melancholie\, jejichž hudba je jako víno z hlubokého sudu – zraje\, sílí a čaruje. Doom metal protkaný cimbálem\, folklorem a emocemi\, které vás rozloží i postaví. Kapela\, která získala Anděla a stala se pojmem. Letos na Pilgrims představí průřez svým epickým repertoárem. Připravte se na silnou dávku moravské duše. \n🪓 Folkrim (FI) \nZ temných severských lesů přichází finská výprava s viking metalem\, který volá po tanci\, plavbě a boji. Melodický\, vtipný\, ale i těžký jako medový sud. Jejich sety připomínají hostinu v síni padlých – všichni se baví\, ale žádný riff nezůstane neodbit. Pokud chcete zažít skutečný severský žár\, tady ho máte. \n🏹 Jerna (PL) \nPolská odpověď na Eluveitie či Ensiferum. Kapela\, která mistrně kombinuje fantasy atmosféru s tvrdými melodiemi. Výpravný folk/death metal\, kde každý tón kreslí příběh o čarodějích\, hrdinech a pradávných lesích. Představí zbrusu nové skladby\, které mají premiéru právě na Folk Metal Pilgrims. \n🛡️ Achsar (SK) \nSlovenský symphonic/folk metal s atmosférou středověkého dvora. Silné orchestrace\, hrdinské texty\, kytary ostré jako meč a melodie\, které zůstanou znít v hlavě. Rytířská kapela se zbrojí pro velkou show a přiváží i nový materiál z připravované desky. Nostalgie a síla v jednom štítu. \n🦌 Thanallian (CZ) \nDomácí bardové epického folk metalu. Skupina\, která sází na silné refrény\, fantasy lyriku a nekompromisní rytmiku. Jejich hudba je jako jízda na válečném jelenu lesní říší\, kde v každém taktu cítíte vůni mechu a vítr ve vlasech. \n🌘 Odraedir (CZ) \nTemný pagan/folk metal\, jehož skladby působí jako kouzlo šamanů. Tempa střídají ticho a rozervané pasáže nahlodávají duši. Tohle je přírodní mystika přetavená v metalový obřad. Ideální zakončení večera\, které vás přenese do jiného světa. \nVíce info: metalpilgrims.cz \n\nTento tip na kulturní akci v Ostrava najdete v přehledu na Dnesnivylet.cz spolu s dalšími koncerty\, festivaly a divadelními představeními.Každý si vybere co se mu líbí. Nezapomeňte koupit vstupenky včas\, stačí kliknout a budete přesměrování na oficiálního prodejce vstupenek.
URL:https://dnesnivylet.cz/event/folk-metal-pilgrims-2025-vol-10/
LOCATION:BARRÁK music club\, Ostrava\, BARRÁK music club\, Ostrava\, Česká republika
CATEGORIES:Festival
ATTACH;FMTTYPE=image/jpeg:https://dnesnivylet.cz/wp-content/uploads/2025/10/320-cc61ca61189e4fc9a3b526d0a240715e.jpg
END:VEVENT
BEGIN:VEVENT
DTSTART;TZID=Europe/Prague:20251025T170000
DTEND;TZID=Europe/Prague:20251025T200000
DTSTAMP:20260419T233907
CREATED:20251020T065518Z
LAST-MODIFIED:20251020T065518Z
UID:8413-1761411600-1761422400@dnesnivylet.cz
SUMMARY:Fullfest 2025
DESCRIPTION:Fullfest 2025 se uskuteční dne 2025-10-25 v 17:00 v Fulnek\, Městské kulturní centrum. \n🎟️ Koupit vstupenku \n\nHudební festival v srdci Fulneku. Těšíme se na vás! \n  \nHarmonogram: \n17:00 open door \n18:00 MIDNIGHT  \n19:30 LIMITY \n21:00 echo \n22:00 DJ Petrović \n\nTento tip na kulturní akci v Fulnek najdete v přehledu na Dnesnivylet.cz spolu s dalšími koncerty\, festivaly a divadelními představeními.Každý si vybere co se mu líbí. Nezapomeňte koupit vstupenky včas\, stačí kliknout a budete přesměrování na oficiálního prodejce vstupenek.
URL:https://dnesnivylet.cz/event/fullfest-2025/
LOCATION:Městské kulturní centrum\, Fulnek\, Městské kulturní centrum\, Fulnek\, Česká republika
CATEGORIES:Festival
ATTACH;FMTTYPE=image/jpeg:https://dnesnivylet.cz/wp-content/uploads/2025/10/320-4f72af9e3b4440f3b1848bf615429130.jpg
END:VEVENT
END:VCALENDAR