BEGIN:VCALENDAR
VERSION:2.0
PRODID:-//www.dnesnivylet.cz                                                                                                                        Tip na výlet pro celou rodinu. - ECPv6.15.13.1//NONSGML v1.0//EN
CALSCALE:GREGORIAN
METHOD:PUBLISH
X-ORIGINAL-URL:https://dnesnivylet.cz
X-WR-CALDESC:Akce na www.dnesnivylet.cz                                                                                                                        Tip na výlet pro celou rodinu.
REFRESH-INTERVAL;VALUE=DURATION:PT1H
X-Robots-Tag:noindex
X-PUBLISHED-TTL:PT1H
BEGIN:VTIMEZONE
TZID:Europe/Prague
BEGIN:DAYLIGHT
TZOFFSETFROM:+0100
TZOFFSETTO:+0200
TZNAME:CEST
DTSTART:20250330T010000
END:DAYLIGHT
BEGIN:STANDARD
TZOFFSETFROM:+0200
TZOFFSETTO:+0100
TZNAME:CET
DTSTART:20251026T010000
END:STANDARD
BEGIN:DAYLIGHT
TZOFFSETFROM:+0100
TZOFFSETTO:+0200
TZNAME:CEST
DTSTART:20260329T010000
END:DAYLIGHT
BEGIN:STANDARD
TZOFFSETFROM:+0200
TZOFFSETTO:+0100
TZNAME:CET
DTSTART:20261025T010000
END:STANDARD
BEGIN:DAYLIGHT
TZOFFSETFROM:+0100
TZOFFSETTO:+0200
TZNAME:CEST
DTSTART:20270328T010000
END:DAYLIGHT
BEGIN:STANDARD
TZOFFSETFROM:+0200
TZOFFSETTO:+0100
TZNAME:CET
DTSTART:20271031T010000
END:STANDARD
END:VTIMEZONE
BEGIN:VEVENT
DTSTART;TZID=Europe/Prague:20260412T170000
DTEND;TZID=Europe/Prague:20260412T200000
DTSTAMP:20260419T225209
CREATED:20260314T185919Z
LAST-MODIFIED:20260314T185920Z
UID:19456-1776013200-1776024000@dnesnivylet.cz
SUMMARY:Moravské klavírní trio a hity filmového plátna
DESCRIPTION:Moravské klavírní trio a hity filmového plátna se uskuteční dne 2026-04-12 v 17:00 v Brno\, KD Rubín. \n🎟️ Koupit vstupenku \n\nKoncert Moravského klavírního tria přináší hudební skvosty z nejslavnějších filmů. V podání hudebních mistrů zazní nezapomenutelné melodie z kultovních snímků. Celkový dojem z koncertu bude navíc umocněn videoprojekcí\, která propojuje hudbu s obrazem a přináší tak jedinečný audiovizuální zážitek. \nPo koncertu jsou všichni zváni na číši vína s umělci. \nUkázka: https://www.facebook.com/share/v/1MHCodNh7y/ \nMoravské klavírní trio – trojice mistrů\, která spolu hraje už čtvrtstoletí ve stejné sestavě!  \nKlavír Jany Ryšánkové\, virtuózní housle Jiřího Jahody a hluboké tóny violoncella Miroslava Zichy vás vezmou na cestu časem i emocemi – od klasických skvostů Beethovena až po ty nejkrásnější filmové melodie Ennia Morriconeho. \nStovky koncertů v ČR a zahraničí a spolupráce s hvězdami jako Eva Urbanová\, Štefan Margita\, Andrea Kalivodová\, Marian Vojtko\, Daniel Hůlka a další jsou zárukou skvělého uměleckého zážitku. \nwww.moravskeklavirnitrio.cz \n\nTento tip na kulturní akci v Brno najdete v přehledu na Dnesnivylet.cz spolu s dalšími koncerty\, festivaly a divadelními představeními.Každý si vybere co se mu líbí. Nezapomeňte koupit vstupenky včas\, stačí kliknout a budete přesměrování na oficiálního prodejce vstupenek.
URL:https://dnesnivylet.cz/event/moravske-klavirni-trio-a-hity-filmoveho-platna/
LOCATION:KD Rubín\, Brno\, KD Rubín\, Brno\, Česká republika
CATEGORIES:Koncert
ATTACH;FMTTYPE=image/jpeg:https://dnesnivylet.cz/wp-content/uploads/2026/03/320-0df13f905ef24327a493a1c5d93baf8d.jpg
END:VEVENT
END:VCALENDAR