BEGIN:VCALENDAR
VERSION:2.0
PRODID:-//www.dnesnivylet.cz                                                                                                                        Tip na výlet pro celou rodinu. - ECPv6.15.13.1//NONSGML v1.0//EN
CALSCALE:GREGORIAN
METHOD:PUBLISH
X-WR-CALNAME:www.dnesnivylet.cz                                                                                                                        Tip na výlet pro celou rodinu.
X-ORIGINAL-URL:https://dnesnivylet.cz
X-WR-CALDESC:Akce na www.dnesnivylet.cz                                                                                                                        Tip na výlet pro celou rodinu.
REFRESH-INTERVAL;VALUE=DURATION:PT1H
X-Robots-Tag:noindex
X-PUBLISHED-TTL:PT1H
BEGIN:VTIMEZONE
TZID:Europe/Prague
BEGIN:DAYLIGHT
TZOFFSETFROM:+0100
TZOFFSETTO:+0200
TZNAME:CEST
DTSTART:20250330T010000
END:DAYLIGHT
BEGIN:STANDARD
TZOFFSETFROM:+0200
TZOFFSETTO:+0100
TZNAME:CET
DTSTART:20251026T010000
END:STANDARD
BEGIN:DAYLIGHT
TZOFFSETFROM:+0100
TZOFFSETTO:+0200
TZNAME:CEST
DTSTART:20260329T010000
END:DAYLIGHT
BEGIN:STANDARD
TZOFFSETFROM:+0200
TZOFFSETTO:+0100
TZNAME:CET
DTSTART:20261025T010000
END:STANDARD
BEGIN:DAYLIGHT
TZOFFSETFROM:+0100
TZOFFSETTO:+0200
TZNAME:CEST
DTSTART:20270328T010000
END:DAYLIGHT
BEGIN:STANDARD
TZOFFSETFROM:+0200
TZOFFSETTO:+0100
TZNAME:CET
DTSTART:20271031T010000
END:STANDARD
END:VTIMEZONE
BEGIN:VEVENT
DTSTART;TZID=Europe/Prague:20260414T190000
DTEND;TZID=Europe/Prague:20260414T220000
DTSTAMP:20260419T195447
CREATED:20251027T154838Z
LAST-MODIFIED:20251027T154839Z
UID:10405-1776193200-1776204000@dnesnivylet.cz
SUMMARY:Václav Noid Bárta a Bek Bek Clan
DESCRIPTION:Václav Noid Bárta a Bek Bek Clan se uskuteční dne 2026-04-14 v 19:00 v Havlíčkův Brod\, Kulturní dům Ostrov. \n🎟️ Koupit vstupenku \n\nVáclav NOID Bárta v Havlíčkově Brodě! \nOd prvních kroků s kapelami Dolores Clan\, Noid Crew a Dymytry\, přes divadelní svět muzikálů až po jeho současnou sólovou tvorbu. Přijďte si projít dvacetiletou hudební cestu Václava NOIDA Bárty – charizmatického zpěváka\, autora filmové hudby a jedinečného hlasu české hudební scény. \nNa co se můžete těšit?Během večera zazní jak jeho autorské skladby\, tak i oblíbené převzaté songy\, které skvěle doplní energii a atmosféru celého koncertu. Tento výjimečný večer přinese nálož skvělé muziky\, pohody a neuvěřitelné energie\, která vás strhne! \nZažijte hudební show\, na kterou se nezapomíná! \n\nTento tip na kulturní akci v Havlíčkův Brod najdete v přehledu na Dnesnivylet.cz spolu s dalšími koncerty\, festivaly a divadelními představeními.Každý si vybere co se mu líbí. Nezapomeňte koupit vstupenky včas\, stačí kliknout a budete přesměrování na oficiálního prodejce vstupenek.
URL:https://dnesnivylet.cz/event/vaclav-noid-barta-a-bek-bek-clan-13/
LOCATION:Kulturní dům Ostrov\, Havlíčkův Brod\, Kulturní dům Ostrov\, Havlíčkův Brod\, Česká republika
CATEGORIES:Koncert
ATTACH;FMTTYPE=image/jpeg:https://dnesnivylet.cz/wp-content/uploads/2025/10/320-ea603bfca93a4dab9643636031580071.jpg
END:VEVENT
BEGIN:VEVENT
DTSTART;TZID=Europe/Prague:20260414T190000
DTEND;TZID=Europe/Prague:20260414T220000
DTSTAMP:20260419T195447
CREATED:20251212T185844Z
LAST-MODIFIED:20251212T185845Z
UID:14966-1776193200-1776204000@dnesnivylet.cz
SUMMARY:Srdce rytmu
DESCRIPTION:Srdce rytmu se uskuteční dne 2026-04-14 v 19:00 v Praha\, KD Ládví. \n🎟️ Koupit vstupenku \n\nPro velký úspěch v loňském roce se Maok vrací do KD Ládví\, kde vás společně s perkusionistou a bubeníkem Vladisem Leškovským roztančí v rytmu srdce.Pokud má někdo dar roztancovat tělo i srdce\, je to právě Maok v propojení s Vladisem.Velký sál v Ládví je dostatečně prostorný na to\, abyste si užili koncert podle svého vkusu – v sedě\, v leže či v tanci.Pokud na koncertě raději sedíte\, připravíme pro vás v přední části sálu židle. Pokud budete chtít prožít koncert v leže\, přineste si karimatku a můžete si ji rozprostřít ve střední části sálu. Ale jsou i tací z vás\, které hudba vyzve k tanci – pro vás bude vyhrazená zadní část sálu. \n\nTento tip na kulturní akci v Praha najdete v přehledu na Dnesnivylet.cz spolu s dalšími koncerty\, festivaly a divadelními představeními.Každý si vybere co se mu líbí. Nezapomeňte koupit vstupenky včas\, stačí kliknout a budete přesměrování na oficiálního prodejce vstupenek.
URL:https://dnesnivylet.cz/event/srdce-rytmu/
LOCATION:KD Ládví\, Praha\, KD Ládví\, Praha\, Česká republika
CATEGORIES:Koncert
ATTACH;FMTTYPE=image/jpeg:https://dnesnivylet.cz/wp-content/uploads/2025/12/320-58fed3f05b5d4ef0926daf8478d8191c.jpg
END:VEVENT
BEGIN:VEVENT
DTSTART;TZID=Europe/Prague:20260414T190000
DTEND;TZID=Europe/Prague:20260414T220000
DTSTAMP:20260419T195447
CREATED:20251215T161156Z
LAST-MODIFIED:20251215T161156Z
UID:15603-1776193200-1776204000@dnesnivylet.cz
SUMMARY:Hudba Bridgerton při svíčkách
DESCRIPTION:Hudba Bridgerton při svíčkách se uskuteční dne 2026-04-14 v 19:00 v Čelákovice\, KD Čelákovice. \n🎟️ Koupit vstupenku \n\nNenechte si ujít večer plný romantiky a elegance\, kde zazní ty nejznámější melodie a písně z oblíbeného seriálu Bridgerton. Světlo stovky svíček vytvoří okouzlující atmosféru koncertu. \nProgram v jedinečném provedení smyčcového kvarteta představí výběr hudebních skladeb z tohoto populárního seriálu\, inspirovaných klasickými díly i moderními popovými melodiemi\, které si získaly srdce diváků po celém světě. \nTento koncert nabídne víc než jen hudbu; stovky svíček rozzáří prostor a vytvoří atmosféru plnou noblesy\, romantiky a neodolatelného kouzla historické doby. \nAkce je přístupná od 12 let. Každý účastník musí předložit platnou vstupenku  zakoupenou výhradně v síti smsticket. \n\nTento tip na kulturní akci v Čelákovice najdete v přehledu na Dnesnivylet.cz spolu s dalšími koncerty\, festivaly a divadelními představeními.Každý si vybere co se mu líbí. Nezapomeňte koupit vstupenky včas\, stačí kliknout a budete přesměrování na oficiálního prodejce vstupenek.
URL:https://dnesnivylet.cz/event/hudba-bridgerton-pri-svickach-26/
LOCATION:KD Čelákovice\, Čelákovice\, KD Čelákovice\, Čelákovice\, Česká republika
CATEGORIES:Koncert
ATTACH;FMTTYPE=image/jpeg:https://dnesnivylet.cz/wp-content/uploads/2025/12/320-dcfdcfe90a7047848fc131b7beb70b0a.jpg
END:VEVENT
BEGIN:VEVENT
DTSTART;TZID=Europe/Prague:20260414T190000
DTEND;TZID=Europe/Prague:20260414T220000
DTSTAMP:20260419T195447
CREATED:20260110T155936Z
LAST-MODIFIED:20260110T155937Z
UID:16617-1776193200-1776204000@dnesnivylet.cz
SUMMARY:Koncert: Radůza
DESCRIPTION:Koncert: Radůza  se uskuteční dne 2026-04-14 v 19:00 v Humpolec\, Návštěvnické centrum Bernard. \n🎟️ Koupit vstupenku \n\nZveme vás na večer plný silných příběhů\, originálních melodií a jedinečného hlasu charismatické písničkářky a držitelky několika cen Anděl Radůzy. \nNa pódiu se střídavě doprovází na akordeon\, kytaru či klávesy a každou písní dokáže publikum vtáhnout do svých světů. U nás ve Sládkově sále představí průřez třemi desetiletími tvorby i skladby z čerstvého dvojalba „Bylo nebylo“. Čeká vás syrová energie\, poetická čeština a humor\, který umí mrazit i hřát. \nVstupenky zakoupíte online nebo na recepci návštěvnického centra.  \n\nTento tip na kulturní akci v Humpolec najdete v přehledu na Dnesnivylet.cz spolu s dalšími koncerty\, festivaly a divadelními představeními.Každý si vybere co se mu líbí. Nezapomeňte koupit vstupenky včas\, stačí kliknout a budete přesměrování na oficiálního prodejce vstupenek.
URL:https://dnesnivylet.cz/event/koncert-raduza/
LOCATION:Návštěvnické centrum Bernard\, Humpolec\, Návštěvnické centrum Bernard\, Humpolec\, Česká republika
CATEGORIES:Koncert
ATTACH;FMTTYPE=image/jpeg:https://dnesnivylet.cz/wp-content/uploads/2026/01/320-ddc2e61822414012b99923c6664e30aa.jpg
END:VEVENT
BEGIN:VEVENT
DTSTART;TZID=Europe/Prague:20260414T190000
DTEND;TZID=Europe/Prague:20260414T220000
DTSTAMP:20260419T195447
CREATED:20260306T173507Z
LAST-MODIFIED:20260306T173508Z
UID:19157-1776193200-1776204000@dnesnivylet.cz
SUMMARY:Václav Noid Bárta a Bek Bek Clan
DESCRIPTION:Václav Noid Bárta a Bek Bek Clan se uskuteční dne 2026-04-14 v 19:00 v Havlíčkův Brod\, Kulturní dům Ostrov. \n🎟️ Koupit vstupenku \n\nVáclav NOID Bárta v Havlíčkově Brodě! \nDo Kulturního domu Ostrov v Havlíčkově Brodě míří aktuální Zlatý slavík – Václav Noid Bárta. Jeho výrazný hlas\, přirozená energie a silné charisma budou hlavními prvky večera\, který nabídne nezapomenutelnou atmosféru v podání jednoho z nejvýraznějších interpretů současné české hudební scény. \nOd prvních kroků s kapelami Dolores Clan\, Noid Crew a Dymytry\, přes divadelní svět muzikálů až po jeho současnou sólovou tvorbu. Přijďte si projít dvacetiletou hudební cestu Václava NOIDA Bárty – charizmatického zpěváka\, autora filmové hudby a jedinečného hlasu české hudební scény. \nNa co se můžete těšit?Během večera zazní jak jeho autorské skladby\, tak i oblíbené převzaté songy\, které skvěle doplní energii a atmosféru celého koncertu. Tento výjimečný večer přinese nálož skvělé muziky\, pohody a neuvěřitelné energie\, která vás strhne! \nZažijte hudební show\, na kterou se nezapomíná! \n\nTento tip na kulturní akci v Havlíčkův Brod najdete v přehledu na Dnesnivylet.cz spolu s dalšími koncerty\, festivaly a divadelními představeními.Každý si vybere co se mu líbí. Nezapomeňte koupit vstupenky včas\, stačí kliknout a budete přesměrování na oficiálního prodejce vstupenek.
URL:https://dnesnivylet.cz/event/vaclav-noid-barta-a-bek-bek-clan-24/
LOCATION:Kulturní dům Ostrov\, Havlíčkův Brod\, Kulturní dům Ostrov\, Havlíčkův Brod\, Česká republika
CATEGORIES:Koncert
ATTACH;FMTTYPE=image/jpeg:https://dnesnivylet.cz/wp-content/uploads/2026/03/320-c6eeeccbf04e49ff91a018e71d27aebf.jpg
END:VEVENT
END:VCALENDAR