BEGIN:VCALENDAR
VERSION:2.0
PRODID:-//www.dnesnivylet.cz                                                                                                                        Tip na výlet pro celou rodinu. - ECPv6.15.13.1//NONSGML v1.0//EN
CALSCALE:GREGORIAN
METHOD:PUBLISH
X-WR-CALNAME:www.dnesnivylet.cz                                                                                                                        Tip na výlet pro celou rodinu.
X-ORIGINAL-URL:https://dnesnivylet.cz
X-WR-CALDESC:Akce na www.dnesnivylet.cz                                                                                                                        Tip na výlet pro celou rodinu.
REFRESH-INTERVAL;VALUE=DURATION:PT1H
X-Robots-Tag:noindex
X-PUBLISHED-TTL:PT1H
BEGIN:VTIMEZONE
TZID:Europe/Prague
BEGIN:DAYLIGHT
TZOFFSETFROM:+0100
TZOFFSETTO:+0200
TZNAME:CEST
DTSTART:20250330T010000
END:DAYLIGHT
BEGIN:STANDARD
TZOFFSETFROM:+0200
TZOFFSETTO:+0100
TZNAME:CET
DTSTART:20251026T010000
END:STANDARD
BEGIN:DAYLIGHT
TZOFFSETFROM:+0100
TZOFFSETTO:+0200
TZNAME:CEST
DTSTART:20260329T010000
END:DAYLIGHT
BEGIN:STANDARD
TZOFFSETFROM:+0200
TZOFFSETTO:+0100
TZNAME:CET
DTSTART:20261025T010000
END:STANDARD
BEGIN:DAYLIGHT
TZOFFSETFROM:+0100
TZOFFSETTO:+0200
TZNAME:CEST
DTSTART:20270328T010000
END:DAYLIGHT
BEGIN:STANDARD
TZOFFSETFROM:+0200
TZOFFSETTO:+0100
TZNAME:CET
DTSTART:20271031T010000
END:STANDARD
END:VTIMEZONE
BEGIN:VEVENT
DTSTART;TZID=Europe/Prague:20260415T190000
DTEND;TZID=Europe/Prague:20260415T220000
DTSTAMP:20260419T182555
CREATED:20251023T143330Z
LAST-MODIFIED:20251023T143330Z
UID:9821-1776279600-1776290400@dnesnivylet.cz
SUMMARY:NÁSTROJ ANDĚLŮ I SMRTI
DESCRIPTION:NÁSTROJ ANDĚLŮ I SMRTI se uskuteční dne 2026-04-15 v 19:00 v Brno\, Besední dům. \n🎟️ Koupit vstupenku \n\nPROGRAM: \nJohann Sebastian Bach: transkripce koncertů pro sólovou flétnu. \n  \nSOLI: \nMichaela Koudelková – flétny\, Dagmar Valentová – housle \n  \nVirtuózní sólový recitál Michaely Koudelkové představí Johanna Sebastiana Bacha v netradičním světle. Zazní transkripce jeho slavných instrumentálních koncertů pro sólovou flétnu\, které odhalí melodickou invenci a polyfonní mistrovství tohoto barokního génia. \n\nTento tip na kulturní akci v Brno najdete v přehledu na Dnesnivylet.cz spolu s dalšími koncerty\, festivaly a divadelními představeními.Každý si vybere co se mu líbí. Nezapomeňte koupit vstupenky včas\, stačí kliknout a budete přesměrování na oficiálního prodejce vstupenek.
URL:https://dnesnivylet.cz/event/nastroj-andelu-i-smrti/
LOCATION:Besední dům\, Brno\, Besední dům\, Brno\, Česká republika
CATEGORIES:Koncert
ATTACH;FMTTYPE=image/jpeg:https://dnesnivylet.cz/wp-content/uploads/2025/10/320-0b2c5b58e57d466fa49b1c8e6c17c5d4.jpg
END:VEVENT
BEGIN:VEVENT
DTSTART;TZID=Europe/Prague:20260415T190000
DTEND;TZID=Europe/Prague:20260415T220000
DTSTAMP:20260419T182555
CREATED:20251026T074318Z
LAST-MODIFIED:20251026T074319Z
UID:10136-1776279600-1776290400@dnesnivylet.cz
SUMMARY:Muzikály Josefa Vojtka v Mariánských Lázních
DESCRIPTION:Muzikály Josefa Vojtka v Mariánských Lázních se uskuteční dne 2026-04-15 v 19:00 v Mariánské Lázně\, Ensana Společenský dům CASINO. \n🎟️ Koupit vstupenku \n\n„MUZIKÁLY JOSEFA VOJTKA – Tak trochu rockově“ \nNenechte si ujít jedinečnou možnost zažít vystoupení jednoho z nejvýraznějších hlasů české rockové a muzikálové scény. Za doprovodu známé kapely Charlie Band zazní  písně z muzikálů ve kterých Josef Vojtek účinkoval. Tři Mušketýři\, Angelika\, Kleopatra\, Hamlet\, Dracula\, a mnoho dalších. Připravte se na velkolepý zážitek\, kde se srdce rockera potká s vášní pro muzikály.  \n\nTento tip na kulturní akci v Mariánské Lázně najdete v přehledu na Dnesnivylet.cz spolu s dalšími koncerty\, festivaly a divadelními představeními.Každý si vybere co se mu líbí. Nezapomeňte koupit vstupenky včas\, stačí kliknout a budete přesměrování na oficiálního prodejce vstupenek.
URL:https://dnesnivylet.cz/event/muzikaly-josefa-vojtka-v-marianskych-laznich/
LOCATION:Ensana Společenský dům CASINO\, Mariánské Lázně\, Ensana Společenský dům CASINO\, Mariánské Lázně\, Česká republika
CATEGORIES:Koncert
ATTACH;FMTTYPE=image/jpeg:https://dnesnivylet.cz/wp-content/uploads/2025/10/320-478e40b1e6454b8688b4ae862813a7dd.jpg
END:VEVENT
BEGIN:VEVENT
DTSTART;TZID=Europe/Prague:20260415T190000
DTEND;TZID=Europe/Prague:20260415T220000
DTSTAMP:20260419T182555
CREATED:20251026T075831Z
LAST-MODIFIED:20251026T075831Z
UID:10172-1776279600-1776290400@dnesnivylet.cz
SUMMARY:Václav Noid Bárta a Bek Bek Clan
DESCRIPTION:Václav Noid Bárta a Bek Bek Clan se uskuteční dne 2026-04-15 v 19:00 v Tábor\, Hotel Palcát. \n🎟️ Koupit vstupenku \n\nVáclav NOID Bárta v Táboře! \nOd prvních kroků s kapelami Dolores Clan\, Noid Crew a Dymytry\, přes divadelní svět muzikálů až po jeho současnou sólovou tvorbu. Přijďte si projít dvacetiletou hudební cestu Václava NOIDA Bárty – charizmatického zpěváka\, autora filmové hudby a jedinečného hlasu české hudební scény. \nNa co se můžete těšit?Během večera zazní jak jeho autorské skladby\, tak i oblíbené převzaté songy\, které skvěle doplní energii a atmosféru celého koncertu. Tento výjimečný večer přinese nálož skvělé muziky\, pohody a neuvěřitelné energie\, která vás strhne! \nZažijte hudební show\, na kterou se nezapomíná! \n\nTento tip na kulturní akci v Tábor najdete v přehledu na Dnesnivylet.cz spolu s dalšími koncerty\, festivaly a divadelními představeními.Každý si vybere co se mu líbí. Nezapomeňte koupit vstupenky včas\, stačí kliknout a budete přesměrování na oficiálního prodejce vstupenek.
URL:https://dnesnivylet.cz/event/vaclav-noid-barta-a-bek-bek-clan-8/
LOCATION:Hotel Palcát\, Tábor\, Hotel Palcát\, Tábor\, Česká republika
CATEGORIES:Koncert
ATTACH;FMTTYPE=image/jpeg:https://dnesnivylet.cz/wp-content/uploads/2025/10/320-2608bf0e35a94457be541d4373a55481.jpg
END:VEVENT
BEGIN:VEVENT
DTSTART;TZID=Europe/Prague:20260415T190000
DTEND;TZID=Europe/Prague:20260415T220000
DTSTAMP:20260419T182555
CREATED:20251030T145347Z
LAST-MODIFIED:20251030T145348Z
UID:10613-1776279600-1776290400@dnesnivylet.cz
SUMMARY:ABBA SHOW 50
DESCRIPTION:ABBA SHOW 50 se uskuteční dne 2026-04-15 v 19:00 v Náchod\, Městské divadlo Dr. Josefa Čížka. \n🎟️ Koupit vstupenku \n\nABBA WORLD Revival je desetičlenný soubor profesionálních hudebníků\, které spojuje obdiv k tvorbě světoznámé švédské skupiny ABBA.Tato tribute show patří mezi světovou špičku a přináší 100% živé vystoupení bez playbacků a half-playbacků. \nV repertoáru mají více než 30 nejznámějších hitů skupiny ABBA\, které jsou zahrány s takovou přesností\, že jsou téměř k nerozeznání od originálů. Celou show doplňují autentické dobové kostýmy\, image a choreografie. \nDíky svému charakteristickému zvuku a preciznímu hudebnímu provedení vystupuje ABBA WORLD Revival úspěšně po celé Evropě a oslovuje posluchače všech generací. Množství odehraných koncertů a léta úspěšné existence jsou toho nejlepším důkazem. \n\nTento tip na kulturní akci v Náchod najdete v přehledu na Dnesnivylet.cz spolu s dalšími koncerty\, festivaly a divadelními představeními.Každý si vybere co se mu líbí. Nezapomeňte koupit vstupenky včas\, stačí kliknout a budete přesměrování na oficiálního prodejce vstupenek.
URL:https://dnesnivylet.cz/event/abba-show-50/
LOCATION:Městské divadlo Dr. Josefa Čížka\, Náchod\, Městské divadlo Dr. Josefa Čížka\, Náchod\, Česká republika
CATEGORIES:Koncert
ATTACH;FMTTYPE=image/jpeg:https://dnesnivylet.cz/wp-content/uploads/2025/10/320-8d092c90f9034e3da34b0f121ae32240.jpg
END:VEVENT
BEGIN:VEVENT
DTSTART;TZID=Europe/Prague:20260415T190000
DTEND;TZID=Europe/Prague:20260415T220000
DTSTAMP:20260419T182555
CREATED:20260209T193959Z
LAST-MODIFIED:20260209T194000Z
UID:17855-1776279600-1776290400@dnesnivylet.cz
SUMMARY:Pocta Haně Hegerové v Liberci
DESCRIPTION:Pocta Haně Hegerové v Liberci se uskuteční dne 2026-04-15 v 19:00 v Liberec\, Dům Kultury. \n🎟️ Koupit vstupenku \n\nHudební zážitek\, na který jen tak nezapomenete. Budete plakat\, smát se\, a mít husí kůži po těle. \nLegendární dílo Hany Hegerové v podání Zuzany Němcové Šmejkalové. Zpěvačka s hlubokým\, sametovým hlasem a intenzivním hereckým projevem přináší osobitou interpretaci ikonických písní první dámy československého šansonu. \nVečer plný mistrovské klavírní hry Doubravky Linhartové a rafinovaných bubenických rytmů Jakuba Němce slibuje výjimečný umělecký zážitek\, který s úctou nahlédne do díla Hany Hegerové a zasáhne i ty nejcitlivější struny vaší duše. \nPřijďte vzdát hold legendě a prožít znovu její písně. \n„Ať žije Hegerová!“ \n\nTento tip na kulturní akci v Liberec najdete v přehledu na Dnesnivylet.cz spolu s dalšími koncerty\, festivaly a divadelními představeními.Každý si vybere co se mu líbí. Nezapomeňte koupit vstupenky včas\, stačí kliknout a budete přesměrování na oficiálního prodejce vstupenek.
URL:https://dnesnivylet.cz/event/pocta-hane-hegerove-v-liberci/
LOCATION:Dům Kultury\, Liberec\, Dům Kultury\, Liberec\, Česká republika
CATEGORIES:Koncert
ATTACH;FMTTYPE=image/jpeg:https://dnesnivylet.cz/wp-content/uploads/2026/02/320-f6c6307d006748f7a14eb8433be264b7.jpg
END:VEVENT
BEGIN:VEVENT
DTSTART;TZID=Europe/Prague:20260415T190000
DTEND;TZID=Europe/Prague:20260415T220000
DTSTAMP:20260419T182555
CREATED:20260321T195545Z
LAST-MODIFIED:20260321T195545Z
UID:19722-1776279600-1776290400@dnesnivylet.cz
SUMMARY:Grande Moravia
DESCRIPTION:Grande Moravia se uskuteční dne 2026-04-15 v 19:00 v Zlín\, Kongresové centrum. \n🎟️ Koupit vstupenku \n\n🎶✨ Jednoho dne se vrátíš – Galakoncert ✨🎶 \nUž samotný název galakoncertu napovídá\, že vás čeká ojedinělý koncert plný emocí\, romantiky i napětí\, ve kterém zazní světové i české písně a melodie\, které si získaly srdce posluchačů napříč generacemi. \n🎼 Publikum se může těšit na výjimečný hudební zážitek\, kde se propojí síla orchestru Grande Moravia s nádhernou barvou a harmonií čtyř výjimečných hlasů – Márií Bikárovou\, Eliškou Trtíkovou\, Leonou Klempárovou a Lucií Bikárovou. \n✨ Galakoncert\, který stojí za to zažít. \n\nTento tip na kulturní akci v Zlín najdete v přehledu na Dnesnivylet.cz spolu s dalšími koncerty\, festivaly a divadelními představeními.Každý si vybere co se mu líbí. Nezapomeňte koupit vstupenky včas\, stačí kliknout a budete přesměrování na oficiálního prodejce vstupenek.
URL:https://dnesnivylet.cz/event/grande-moravia/
LOCATION:Kongresové centrum\, Zlín\, Kongresové centrum\, Zlín\, Česká republika
CATEGORIES:Koncert
ATTACH;FMTTYPE=image/jpeg:https://dnesnivylet.cz/wp-content/uploads/2026/03/320-e81a6c653c83418bb14fc468acb24fba.jpg
END:VEVENT
BEGIN:VEVENT
DTSTART;TZID=Europe/Prague:20260415T200000
DTEND;TZID=Europe/Prague:20260415T230000
DTSTAMP:20260419T182555
CREATED:20251027T085051Z
LAST-MODIFIED:20251027T085052Z
UID:10204-1776283200-1776294000@dnesnivylet.cz
SUMMARY:Souboj Klavírů ve Žďáře nad Sázavou
DESCRIPTION:Souboj Klavírů ve Žďáře nad Sázavou se uskuteční dne 2026-04-15 v 20:00 v Žďár nad Sázavou\, Dům Kultury. \n🎟️ Koupit vstupenku \n\nZveme vás na jedinečný koncert dvou výjimečných klavíristů a hudebních skladatelů – Ondřeje Brzobohatého a Ondřeje Brouska! Tito celoživotní přátelé spojí své hudební mistrovství na pódiu v Domě kultury ve Žďáře nad Sázavou! Přijďte si užít večer plný virtuózní klavírní hry a nezapomenutelných melodií! \nJak by zněla „Osudová“\, kdyby byl Beethoven optimista? Proč pláčeme při banálním filmovém dialogu? Co je to „nevhodná“ hudba? Že se u klasické hudby nedá pořádně zasmát? Může mít „Souboj klavírů“ vítěze? \nNa tyto otázky vám stylově odpoví duo Brousek – Brzobohatý\, které připravilo nezapomenutelný večer plný hudebních vtipů s dvěma klavíry. \n\nTento tip na kulturní akci v Žďár nad Sázavou najdete v přehledu na Dnesnivylet.cz spolu s dalšími koncerty\, festivaly a divadelními představeními.Každý si vybere co se mu líbí. Nezapomeňte koupit vstupenky včas\, stačí kliknout a budete přesměrování na oficiálního prodejce vstupenek.
URL:https://dnesnivylet.cz/event/souboj-klaviru-ve-zdare-nad-sazavou/
LOCATION:Dům Kultury\, Žďár nad Sázavou\, Dům Kultury\, Žďár nad Sázavou\, Česká republika
CATEGORIES:Koncert
ATTACH;FMTTYPE=image/jpeg:https://dnesnivylet.cz/wp-content/uploads/2025/10/320-0534d049f2de4f08a44ab7dadb8ef2a6.jpg
END:VEVENT
BEGIN:VEVENT
DTSTART;TZID=Europe/Prague:20260415T200000
DTEND;TZID=Europe/Prague:20260415T230000
DTSTAMP:20260419T182555
CREATED:20260211T122910Z
LAST-MODIFIED:20260211T122910Z
UID:18026-1776283200-1776294000@dnesnivylet.cz
SUMMARY:MICHAL HORÁK: Cestou k Fóru
DESCRIPTION:MICHAL HORÁK: Cestou k Fóru se uskuteční dne 2026-04-15 v 20:00 v Ostrava\, BARRÁK music club. \n🎟️ Koupit vstupenku \n\nBeru celou kapelu a jedeme za vámi! Zazní novinky i klasiky\, folk v průřezu žánrů\, budou výpadky textu a možná i elektřiny\, takže nic co bychom neznali. Ale vás ještě neznáme\, tak se stavte a my se budem moc těšit\, když už Vaše město máme zrovinka po cestě do Fora Karlín. \nTak snad brzo na viděnou\, uctivě Čichal  \n\nTento tip na kulturní akci v Ostrava najdete v přehledu na Dnesnivylet.cz spolu s dalšími koncerty\, festivaly a divadelními představeními.Každý si vybere co se mu líbí. Nezapomeňte koupit vstupenky včas\, stačí kliknout a budete přesměrování na oficiálního prodejce vstupenek.
URL:https://dnesnivylet.cz/event/michal-horak-cestou-k-foru/
LOCATION:BARRÁK music club\, Ostrava\, BARRÁK music club\, Ostrava\, Česká republika
CATEGORIES:Koncert
ATTACH;FMTTYPE=image/jpeg:https://dnesnivylet.cz/wp-content/uploads/2026/02/320-153ae8e37f44478098c709b065b644cb.jpg
END:VEVENT
BEGIN:VEVENT
DTSTART;TZID=Europe/Prague:20260415T200000
DTEND;TZID=Europe/Prague:20260415T230000
DTSTAMP:20260419T182555
CREATED:20260306T172241Z
LAST-MODIFIED:20260306T172241Z
UID:19004-1776283200-1776294000@dnesnivylet.cz
SUMMARY:Space Of Variations + Up!Great
DESCRIPTION:Space Of Variations + Up!Great se uskuteční dne 2026-04-15 v 20:00 v Warszawa\, VooDoo club. \n🎟️ Koupit vstupenku \n\nSPACE OF VARIATIONS /UA/ \nUkraiński zespół grający nowoczesny metal SPACE OF VARIATIONS zawsze był synonimem niespożytej energii\, technicznej biegłości i agresywnego\, a zarazem melodyjnego brzmienia. Podpisując kontrakt z wpływową austriacką wytwórnią Napalm Records (domeną Powerwolf i Jinjer)\, zespół ugruntował swoją pozycję czołowego głosu w nowej fali heavy metalu z Europy Wschodniej.SPACE OF VARIATIONS płynnie łączy brutalny metalcore\, elementy elektroniczne iprogresywne struktury\, tworząc unikalny i porywający pejzaż dźwiękowy. Ich najnowszy album\, IMAGO (2022)\, był międzynarodowym przełomem\, zdobywając setki tysięcy odtworzeń i entuzjastyczne recenzje krytyków na całym świecie.Zespół słynie z wybuchowych występów na żywo\, dzięki czemu jest stałym elementemeuropejskiej trasy koncertowej. Jesteśmy gotowi na kolejny etap: globalną dominację we współpracy z najlepszymi.SOV ma 18 oficjalnych teledysków\, dwie EP-ki i dwa albumy LP.Premiera nowego albumu zespołu\, POISONED ART\, planowana jest na luty 2026 roku. Będzie zawierał 12 utworów i zostanie wydany przez wytwórnię Napalm Records.  \nUP!GREAT /CZ/ \nMix HC/rock/nu-metal napędzany absolutnie kobiecą energią wokalistki Veroniki. Up!Great uwielbia łączyć style nie tylko we własnej\, autorskiej muzyce\, ale także często występując na scenie z zespołami z różnych gatunków. Dzielili już scenę z ukraińskim zespołem progresywnego metalcore’u Jinjer oraz mołdawskim Infected Rain.Wydali cztery albumy\, a najnowszy\, MAD IMAGES\, został nagrany w DS Studio Davida Spilki. Dwa single z płyty zostały już wydane wraz z teledyskami — „Everyone Knows the Truth” i „Why?!”. Ich ostatnim dużym projektem była organizacja festiwalu ALTEROVA (2023)\, którego gwiazdą był fenomenalny Guano Apes. \n  \n  \n\nTento tip na kulturní akci v Warszawa najdete v přehledu na Dnesnivylet.cz spolu s dalšími koncerty\, festivaly a divadelními představeními.Každý si vybere co se mu líbí. Nezapomeňte koupit vstupenky včas\, stačí kliknout a budete přesměrování na oficiálního prodejce vstupenek.
URL:https://dnesnivylet.cz/event/space-of-variations-upgreat-3/
LOCATION:VooDoo club\, Warszawa\, VooDoo club\, Warszawa\, Česká republika
CATEGORIES:Koncert
ATTACH;FMTTYPE=image/jpeg:https://dnesnivylet.cz/wp-content/uploads/2026/03/320-34516fbc39a6414f863e233cfd123cb1.jpg
END:VEVENT
END:VCALENDAR