BEGIN:VCALENDAR
VERSION:2.0
PRODID:-//www.dnesnivylet.cz                                                                                                                        Tip na výlet pro celou rodinu. - ECPv6.15.13.1//NONSGML v1.0//EN
CALSCALE:GREGORIAN
METHOD:PUBLISH
X-ORIGINAL-URL:https://dnesnivylet.cz
X-WR-CALDESC:Akce na www.dnesnivylet.cz                                                                                                                        Tip na výlet pro celou rodinu.
REFRESH-INTERVAL;VALUE=DURATION:PT1H
X-Robots-Tag:noindex
X-PUBLISHED-TTL:PT1H
BEGIN:VTIMEZONE
TZID:Europe/Prague
BEGIN:DAYLIGHT
TZOFFSETFROM:+0100
TZOFFSETTO:+0200
TZNAME:CEST
DTSTART:20250330T010000
END:DAYLIGHT
BEGIN:STANDARD
TZOFFSETFROM:+0200
TZOFFSETTO:+0100
TZNAME:CET
DTSTART:20251026T010000
END:STANDARD
BEGIN:DAYLIGHT
TZOFFSETFROM:+0100
TZOFFSETTO:+0200
TZNAME:CEST
DTSTART:20260329T010000
END:DAYLIGHT
BEGIN:STANDARD
TZOFFSETFROM:+0200
TZOFFSETTO:+0100
TZNAME:CET
DTSTART:20261025T010000
END:STANDARD
BEGIN:DAYLIGHT
TZOFFSETFROM:+0100
TZOFFSETTO:+0200
TZNAME:CEST
DTSTART:20270328T010000
END:DAYLIGHT
BEGIN:STANDARD
TZOFFSETFROM:+0200
TZOFFSETTO:+0100
TZNAME:CET
DTSTART:20271031T010000
END:STANDARD
END:VTIMEZONE
BEGIN:VEVENT
DTSTART;TZID=Europe/Prague:20260416T170000
DTEND;TZID=Europe/Prague:20260416T200000
DTSTAMP:20260419T182658
CREATED:20251215T111510Z
LAST-MODIFIED:20251215T111510Z
UID:15476-1776358800-1776369600@dnesnivylet.cz
SUMMARY:MAOK - Vnitřní výlet
DESCRIPTION:MAOK – Vnitřní výlet se uskuteční dne 2026-04-16 v 17:00 v Ostrava\, Planetárium Ostrava. \n🎟️ Koupit vstupenku \n\nV tichu planetária sa rozoznie hudba\, ktorá sa spája s obrazom vesmíru.Maok vytvára zvukové krajiny napojené na prítomný okamih – hudbu\, ktorá plynie\, dýcha a necháva priestor na vnútorné stíšenie. \nPočas koncertu bude premietaná galaktická projekcia – pohľad do hlbín vesmíru\, kde sa pohyb planét\, hviezd a galaxií prelína so zvukom.Hudba a obraz sa stanú jedným celkom\, pozvaním k vnímaniu priestoru\, ticha a seba samých. \n\nTento tip na kulturní akci v Ostrava najdete v přehledu na Dnesnivylet.cz spolu s dalšími koncerty\, festivaly a divadelními představeními.Každý si vybere co se mu líbí. Nezapomeňte koupit vstupenky včas\, stačí kliknout a budete přesměrování na oficiálního prodejce vstupenek.
URL:https://dnesnivylet.cz/event/maok-vnitrni-vylet/
LOCATION:Planetárium Ostrava\, Ostrava\, Planetárium Ostrava\, Ostrava\, Česká republika
CATEGORIES:Koncert
ATTACH;FMTTYPE=image/jpeg:https://dnesnivylet.cz/wp-content/uploads/2025/12/320-ad78b9952856480d94ab4de43b8035fc.jpg
END:VEVENT
BEGIN:VEVENT
DTSTART;TZID=Europe/Prague:20260416T170000
DTEND;TZID=Europe/Prague:20260416T200000
DTSTAMP:20260419T182658
CREATED:20260310T173151Z
LAST-MODIFIED:20260310T173152Z
UID:19395-1776358800-1776369600@dnesnivylet.cz
SUMMARY:MAOK - Vnitřní výlet
DESCRIPTION:MAOK – Vnitřní výlet se uskuteční dne 2026-04-16 v 17:00 v Ostrava\, Planetárium Ostrava. \n🎟️ Koupit vstupenku \n\nV tichu planetária sa rozoznie hudba\, ktorá sa spája s obrazom vesmíru.Maok vytvára zvukové krajiny napojené na prítomný okamih – hudbu\, ktorá plynie\, dýcha a necháva priestor na vnútorné stíšenie. \nPočas koncertu bude premietaná galaktická projekcia – pohľad do hlbín vesmíru\, kde sa pohyb planét\, hviezd a galaxií prelína so zvukom.Hudba a obraz sa stanú jedným celkom\, pozvaním k vnímaniu priestoru\, ticha a seba samých. \n\nTento tip na kulturní akci v Ostrava najdete v přehledu na Dnesnivylet.cz spolu s dalšími koncerty\, festivaly a divadelními představeními.Každý si vybere co se mu líbí. Nezapomeňte koupit vstupenky včas\, stačí kliknout a budete přesměrování na oficiálního prodejce vstupenek.
URL:https://dnesnivylet.cz/event/maok-vnitrni-vylet-2/
LOCATION:Planetárium Ostrava\, Ostrava\, Planetárium Ostrava\, Ostrava\, Česká republika
CATEGORIES:Koncert
ATTACH;FMTTYPE=image/jpeg:https://dnesnivylet.cz/wp-content/uploads/2026/03/320-c8747988bf284e1e9f245e03f36dc8e4.jpg
END:VEVENT
BEGIN:VEVENT
DTSTART;TZID=Europe/Prague:20260416T180000
DTEND;TZID=Europe/Prague:20260416T210000
DTSTAMP:20260419T182658
CREATED:20251129T054705Z
LAST-MODIFIED:20251129T054706Z
UID:13922-1776362400-1776373200@dnesnivylet.cz
SUMMARY:Koncert Duo Jamaha - Hit Tour 2026 - Rýmařov
DESCRIPTION:Koncert Duo Jamaha – Hit Tour 2026 – Rýmařov se uskuteční dne 2026-04-16 v 18:00 v Rýmařov\, Velký sál Střediska volného času. \n🎟️ Koupit vstupenku \n\nZveme Vás na hudebně-zábavný program pro všechny generace! \nHudební skupina DUO JAMAHA přichází s HIT Tour – koncert složený z největších hitů hudební skupiny namíchaný s humorným slovem a to i záhoráckým Stand-Up vystoupením\, o které se postará právě jeden z členů hudební skupiny. \nSkupina je známá hlavně z televizních obrazovek a rádií. Získala za prodej nosiče zlaté a platinové desky\, Oscara Smago Awards\, a jiná ocenění… přichází Vás opět zabavit a připravili si nezapomenutelný zážitek plný hudby a humoru. Přijďte si zazpívat\, odreagovat se a načerpat tu správnou energii. Na koncertě zazní rytmické melodické písně\, starší a novější hity! \nTisíce lidí a fanoušků vidělo poslední turné po České a Slovenské republice. \nTěšíme se opět na Vás! Bude to skvělá jízda! \nDUO JAMAHA  \nYOUTUBE \nFACEBOOK \nINSTAGRAM \nTIKTOK \nCena vstupenky 350\,-Kč a v den konání akce na místě 390\,-Kč. \nZačátek koncertu: 18:00 hodin. \n\nTento tip na kulturní akci v Rýmařov najdete v přehledu na Dnesnivylet.cz spolu s dalšími koncerty\, festivaly a divadelními představeními.Každý si vybere co se mu líbí. Nezapomeňte koupit vstupenky včas\, stačí kliknout a budete přesměrování na oficiálního prodejce vstupenek.
URL:https://dnesnivylet.cz/event/koncert-duo-jamaha-hit-tour-2026-rymarov/
LOCATION:Velký sál Střediska volného času\, Rýmařov\, Velký sál Střediska volného času\, Rýmařov\, Česká republika
CATEGORIES:Koncert
ATTACH;FMTTYPE=image/jpeg:https://dnesnivylet.cz/wp-content/uploads/2025/11/320-c526b29e723448538a2d19e6021f67ef.jpg
END:VEVENT
BEGIN:VEVENT
DTSTART;TZID=Europe/Prague:20260416T190000
DTEND;TZID=Europe/Prague:20260416T220000
DTSTAMP:20260419T182658
CREATED:20251222T144542Z
LAST-MODIFIED:20251222T144542Z
UID:15804-1776366000-1776376800@dnesnivylet.cz
SUMMARY:Koncert Bratří Ebenů
DESCRIPTION:Koncert Bratří Ebenů se uskuteční dne 2026-04-16 v 19:00 v Postřelmov\, Kulturní dům. \n🎟️ Koupit vstupenku \n\nBratři Ebenové \nBratři Ebenové – kapela tří bratří Ebenových (Marek\, Kryštof\, David) a dalších předních českých hudebníků (Pavel Skála\, Jaromír Honzák a Jiří Zelenka). \nV době vydání prvního alba „Malé písně do tmy“ (1984) působila kapela jako bratrské trio – Marek\, Kryštof a David a byli na české hudební scéně svým přístupem zcela ojedinělí. Synové významného hudebního skladatele Petra Ebena (1929 – 2007) dostali klasické hudební vzdělání\, zároveň však vstřebávali vlivy moderní folkové\, jazzové a rockové muziky. Svou schopností čerpat ze všech těchto zdrojů a umění používat různé neobvyklé hudební nástroje\, vznikl absolutně netradiční\, na české scéně nenapodobitelný „ebenovský zvuk“. Navíc ve spojení s výjimečnými texty Marka byli a doposud jsou Bratři Ebenové na české hudební scéně jedineční. \n1.9.2023 vydala kapela již 6. řadové album s názvem „Co my víme“. Album obsahuje 13 nových skladeb (LP pak o jednu méně). Autorem všech (hudby i textu) je Marek Eben. Výjimku tvoří instrumentální skladba Clafoutis\, jejímž autorem je nejmladší z bratrů David. Album bylo natočeno ve studiu Birdland studios (Povážská Bystrica) kmenovým zvukařem kapely Tomášem Jaklem a za dozoru producenta a kytaristy kapely Pavla Skály. Kromě Marka\, Kryštofa a Davida Ebenových kapelu tvoří Pavel Skála (kytary)\, Jiří Zelenka (bicí a perkuse) a Jaromír Honzák (kontrabas a basová kytara). Na albu se objeví také několik hostů – Pavel Fischer na housle nebo dětský pěvecký sbor Radost Praha se sbormistrem Janem Pirnerem. Mixu alba se ujal legendární britský zvukař Phill Brown. Ten je v hudební branži velmi známou osobností – z výčtu ikon hudebního průmyslu\, pro které pracoval jmenujme Led Zeppelin\, David Bowie\, Cat Stevens\, Bob Marley\, Jimi Hendrix\, Pink Floyd nebo Dido a celá řada dalších. Mastering byl svěřen neméně slavnému britskému inženýrovi Denisovi Blackhamovi. Grafiky se ujal dlouholetý spolupracovník kapely\, Karel Haloun s Luďkem Kubíkem. Fotografie k albu pořídil Dušan Tománek. \n\nTento tip na kulturní akci v Postřelmov najdete v přehledu na Dnesnivylet.cz spolu s dalšími koncerty\, festivaly a divadelními představeními.Každý si vybere co se mu líbí. Nezapomeňte koupit vstupenky včas\, stačí kliknout a budete přesměrování na oficiálního prodejce vstupenek.
URL:https://dnesnivylet.cz/event/koncert-bratri-ebenu/
LOCATION:Kulturní dům\, Postřelmov\, Kulturní dům\, Postřelmov\, Česká republika
CATEGORIES:Koncert
ATTACH;FMTTYPE=image/jpeg:https://dnesnivylet.cz/wp-content/uploads/2025/12/320-67c64a1e6ea14fe2bd397aa73005d842.jpg
END:VEVENT
BEGIN:VEVENT
DTSTART;TZID=Europe/Prague:20260416T190000
DTEND;TZID=Europe/Prague:20260416T220000
DTSTAMP:20260419T182658
CREATED:20260405T125535Z
LAST-MODIFIED:20260405T125618Z
UID:20114-1776366000-1776376800@dnesnivylet.cz
SUMMARY:Żniwa & Szlakiem Starych Drzew v Praze
DESCRIPTION:Żniwa & Szlakiem Starych Drzew v Praze se uskuteční dne 2026-04-16 v 19:00 v Praha\, Futurum Music Bar. \n🎟️ Koupit vstupenku \n\nTour během níž Žniwa vystoupí v netradiční sestavě – se speciálním hostem Daphyd „CROW” (Omnia\, Deloraine). Součástí programu budou také výjimečné spolupráce všech vystupujících hudebníků. \n  \nVšechny vstupenky jsou rovnocenné (na stání\, bez číslovaných míst). Počet vstupenek v jednotlivých vlnách je omezený. \n  \nDatum: 16. 4. 2026  \n18:00 – otevření vstupu  \n19:00 – začátek koncertů  \n  \nMísto: Futurum Music Bar \nZborovská 82/7\, 150 00 Praha 5-Smíchov\, Česko \n  \nVstupenky:  \n350\,- Kč – I. vlna\, do 28. 2. 2026 \n450\,- Kč – II. vlna\, do 15. 4. 2026 \n550\,- Kč – III. vlna\, v den koncertu na místě nebo online. \n  \nZveme vás na zimní turné dwóch slovanských kapel. Vystoupí pro vás Żniwa se speciálním hostem Daphyd „CROW” (Omnia\, Deloraine) a Szlakiem Starych Drzew. Přijďte s námi do koncertního sálu a ponořte se do moře neobyčejných zvuků.  \n  \nNa koncertě jsou obzvlášť vítány kostýmy ladící s atmosférou – inspirované legendami\, fantasy či historickou rekonstrukcí. Především ale takové\, ve kterých se budete cítit dobře! \n  \nPo koncertě bude možnost setkat se s hudebníky\, popovídat si a zakoupit CD i další merch (trička\, mikiny\, přívěsky apod.). \n  \nVstupenky zakoupené předem jsou levnější! \n  \nPřijďte! \n  \nPerforming artists \nŻniwa (PL) – web / fb / insta / youtube / Spotify \nSzlakiem Starych Drzew (PL) – fb / insta / youtube / Spotify \nspeciální host Daphyd „CROW” Sens  – fb / insta / youtube \n  \n\nTento tip na kulturní akci v Praha najdete v přehledu na Dnesnivylet.cz spolu s dalšími koncerty\, festivaly a divadelními představeními.Každý si vybere co se mu líbí. Nezapomeňte koupit vstupenky včas\, stačí kliknout a budete přesměrování na oficiálního prodejce vstupenek.
URL:https://dnesnivylet.cz/event/zniwa-szlakiem-starych-drzew-v-praze/
LOCATION:Futurum Music Bar\, Praha\, Futurum Music Bar\, Praha\, Česká republika
CATEGORIES:Koncert
ATTACH;FMTTYPE=image/jpeg:https://dnesnivylet.cz/wp-content/uploads/2026/04/320-2875d4be4990430a935aa95d7b0095bd.jpg
END:VEVENT
BEGIN:VEVENT
DTSTART;TZID=Europe/Prague:20260416T190000
DTEND;TZID=Europe/Prague:20260416T220000
DTSTAMP:20260419T182658
CREATED:20260405T130754Z
LAST-MODIFIED:20260405T130755Z
UID:20288-1776366000-1776376800@dnesnivylet.cz
SUMMARY:Michal Hrůza x Imodium - JARO 2026 tour
DESCRIPTION:Michal Hrůza x Imodium – JARO 2026 tour se uskuteční dne 2026-04-16 v 19:00 v Brno\, Fléda. \n🎟️ Koupit vstupenku \n\nPo úspěšné podzimní sezóně obou kapel se Michal Hrůza s kapelou Imodium rozhodli pokračovat na jarní části turné společně. Zatímco Imodium navazuje na turné ke svému loňskému kritiky oceňovanému albu Horizont\, Michal Hrůza jede představit desku zbrusu novou – Kouzlo samoty. Společné koncerty nebudou jen audiovizuálním zážitkem\, spojeným s oblíbenými i novými hity obou kapel\, ale ponesou se ve znamení přátelské a pohodové atmosféry\, kterou potvrzuje i dosavadní spolupráce obou frontmanů např. už z roku 2010\, kdy Michal Hrůza hostoval na album Imodia Polarity. Jednotlivé zastávky a předprodej najdete na webu www.michalhruza.cz\, www.imodiumband.cz\, ale i na běžných předprodejních sítích vašeho oblíbeného klubu. \n\nTento tip na kulturní akci v Brno najdete v přehledu na Dnesnivylet.cz spolu s dalšími koncerty\, festivaly a divadelními představeními.Každý si vybere co se mu líbí. Nezapomeňte koupit vstupenky včas\, stačí kliknout a budete přesměrování na oficiálního prodejce vstupenek.
URL:https://dnesnivylet.cz/event/michal-hruza-x-imodium-jaro-2026-tour/
LOCATION:Fléda\, Brno\, Fléda\, Brno\, Česká republika
CATEGORIES:Koncert
ATTACH;FMTTYPE=image/jpeg:https://dnesnivylet.cz/wp-content/uploads/2026/04/320-40226c188fbc4158969e0f19469ddd55.jpg
END:VEVENT
BEGIN:VEVENT
DTSTART;TZID=Europe/Prague:20260416T193000
DTEND;TZID=Europe/Prague:20260416T223000
DTSTAMP:20260419T182658
CREATED:20251215T115607Z
LAST-MODIFIED:20251215T115608Z
UID:15568-1776367800-1776378600@dnesnivylet.cz
SUMMARY:Vesmírný výlet
DESCRIPTION:Vesmírný výlet se uskuteční dne 2026-04-16 v 19:30 v Ostrava\, Planetárium Ostrava. \n🎟️ Koupit vstupenku \n\nZvuk a ticho\, tma a priestor – všetko sa spája v jedinečnom okamihu.Maok svojou intuitívnou hudbou vytvára atmosféru\, v ktorej sa možno ponoriť do seba aj do nekonečna nad hlavou. \nPočas koncertu sa nad divákmi rozvinie galaktická projekcia – pohyb hviezd\, planét a galaxií v priestore kupoly planetária.Hudba a obraz sa prelínajú\, vytvárajú živý dialóg medzi človekom a vesmírom. \nTento raz otvárame dva koncertné časy\, aby si každý mohol nájsť svoj rytmus – pokojnejší podvečer o 17:00\, alebo hlbší ponor do nočnej oblohy o 19:30. \n  \n  \n  \n\nTento tip na kulturní akci v Ostrava najdete v přehledu na Dnesnivylet.cz spolu s dalšími koncerty\, festivaly a divadelními představeními.Každý si vybere co se mu líbí. Nezapomeňte koupit vstupenky včas\, stačí kliknout a budete přesměrování na oficiálního prodejce vstupenek.
URL:https://dnesnivylet.cz/event/vesmirny-vylet/
LOCATION:Planetárium Ostrava\, Ostrava\, Planetárium Ostrava\, Ostrava\, Česká republika
CATEGORIES:Koncert
ATTACH;FMTTYPE=image/jpeg:https://dnesnivylet.cz/wp-content/uploads/2025/12/320-50d385dadae8452fa6e5ba0b41a2b116.jpg
END:VEVENT
BEGIN:VEVENT
DTSTART;TZID=Europe/Prague:20260416T193000
DTEND;TZID=Europe/Prague:20260416T223000
DTSTAMP:20260419T182658
CREATED:20260310T173152Z
LAST-MODIFIED:20260310T173152Z
UID:19398-1776367800-1776378600@dnesnivylet.cz
SUMMARY:MAOK - Vesmírný výlet
DESCRIPTION:MAOK – Vesmírný výlet se uskuteční dne 2026-04-16 v 19:30 v Ostrava\, Planetárium Ostrava. \n🎟️ Koupit vstupenku \n\nZvuk a ticho\, tma a priestor – všetko sa spája v jedinečnom okamihu.Maok svojou intuitívnou hudbou vytvára atmosféru\, v ktorej sa možno ponoriť do seba aj do nekonečna nad hlavou. \nPočas koncertu sa nad divákmi rozvinie galaktická projekcia – pohyb hviezd\, planét a galaxií v priestore kupoly planetária.Hudba a obraz sa prelínajú\, vytvárajú živý dialóg medzi človekom a vesmírom. \nTento raz otvárame dva koncertné časy\, aby si každý mohol nájsť svoj rytmus – pokojnejší podvečer o 17:00\, alebo hlbší ponor do nočnej oblohy o 19:30. \n  \n  \n  \n\nTento tip na kulturní akci v Ostrava najdete v přehledu na Dnesnivylet.cz spolu s dalšími koncerty\, festivaly a divadelními představeními.Každý si vybere co se mu líbí. Nezapomeňte koupit vstupenky včas\, stačí kliknout a budete přesměrování na oficiálního prodejce vstupenek.
URL:https://dnesnivylet.cz/event/maok-vesmirny-vylet/
LOCATION:Planetárium Ostrava\, Ostrava\, Planetárium Ostrava\, Ostrava\, Česká republika
CATEGORIES:Koncert
ATTACH;FMTTYPE=image/jpeg:https://dnesnivylet.cz/wp-content/uploads/2026/03/320-f5ba8606509f4c69bea32a3267d100f0.jpg
END:VEVENT
BEGIN:VEVENT
DTSTART;TZID=Europe/Prague:20260416T200000
DTEND;TZID=Europe/Prague:20260416T230000
DTSTAMP:20260419T182658
CREATED:20260306T172239Z
LAST-MODIFIED:20260306T172240Z
UID:19001-1776369600-1776380400@dnesnivylet.cz
SUMMARY:Space Of Variations + Up!Great
DESCRIPTION:Space Of Variations + Up!Great se uskuteční dne 2026-04-16 v 20:00 v Bratislava\, Randal club. \n🎟️ Koupit vstupenku \n\nSPACE OF VARIATIONS /UA/ \nUkrajinská metalová kapela SPACE OF VARIATIONS byla vždy synonymem pro dravou energii\, technickou ekvilibristiku a svůj typický agresivní\, avšak melodický zvuk. Podepsáním smlouvy se známým rakouským labelem Napalm Records (domov kapel jako Powerwolf\, Jinjer) kapela stvrdila své postavení jako jednoho z hlavních hlasů nové vlny metalové hudby východní Evropy. \nSPACE OF VARIATIONS plynule kombinují brutální metalcore\, elektronické prvky a progresivní struktury\, čímž vytvářejí jedinečnou a smyslnou zvukovou krajinu. Jejich nejnovější album IMAGO (2022) zaznamenalo mezinárodní průlom\, získalo stovky tisíc streamů a nadšené recenze kritiků po celém světě. \nKapela je proslulá svými výbušnými živými vystoupeními\, díky nimž je stálicí na evropské koncertní scéně. Jsme připraveni na další fázi: uchopit světovou scénu společně s těmi nejlepšími. \nSOV mají na kontě 18 oficiálních videoklipů\, dvě EP a dvě LP. \nNové album kapely\, POISONED ART\, je plánováno na únor 2026. Bude obsahovat 12 skladeb a vyjde pod značkou Napalm Records. \n  \nUP!GREAT /CZ/HC /rock/ nu-metalový mix s absolutní ženskou energií v podobě frontwoman Veronicy. Up!Great milují míchání stylů nejen ve vlastní autorské tvorbě\, ale často spojují svá živá vystoupení s kapelami různých žánrů\, a tak již sdíleli pódia s ukrajinskou progresivní metalcorovou smrští Jinjer nebo po boku moldavských Infected Rain. Vydali čtyři desky\, přičemž poslední MAD IMAGES natočili v DS studiu Davida Spilky. Z alba je venku několik singlů doprovázené videoklipy – „Everyone Knows the Truth“\, „Why?!\, „Mad Man“ a „Fears“. Jejich zásadním počinem byla realizace festivalu ALTEROVA (2023)\, jehož headlinerem byli fenomenální Guano Apes.  \n\nTento tip na kulturní akci v Bratislava najdete v přehledu na Dnesnivylet.cz spolu s dalšími koncerty\, festivaly a divadelními představeními.Každý si vybere co se mu líbí. Nezapomeňte koupit vstupenky včas\, stačí kliknout a budete přesměrování na oficiálního prodejce vstupenek.
URL:https://dnesnivylet.cz/event/space-of-variations-upgreat-2/
LOCATION:Randal club\, Bratislava\, Randal club\, Bratislava\, Česká republika
CATEGORIES:Koncert
ATTACH;FMTTYPE=image/jpeg:https://dnesnivylet.cz/wp-content/uploads/2026/03/320-521a9895e61049b9826cd133231b8e98.jpg
END:VEVENT
BEGIN:VEVENT
DTSTART;TZID=Europe/Prague:20260416T200000
DTEND;TZID=Europe/Prague:20260416T230000
DTSTAMP:20260419T182658
CREATED:20260310T173309Z
LAST-MODIFIED:20260310T173309Z
UID:19417-1776369600-1776380400@dnesnivylet.cz
SUMMARY:Tomáš Kočko & Orchestr
DESCRIPTION:Tomáš Kočko & Orchestr se uskuteční dne 2026-04-16 v 20:00 v Brno\, Stará Pekárna. \n🎟️ Koupit vstupenku \n\nVýjimečný koncert k poctě básníka valašských hor a zbojnické svobody – Ladislava Nezdařila. Akustická a folková poloha kapely je takto ke slyšení tradičně na jaře ve Staré Pekárně. \n\nTento tip na kulturní akci v Brno najdete v přehledu na Dnesnivylet.cz spolu s dalšími koncerty\, festivaly a divadelními představeními.Každý si vybere co se mu líbí. Nezapomeňte koupit vstupenky včas\, stačí kliknout a budete přesměrování na oficiálního prodejce vstupenek.
URL:https://dnesnivylet.cz/event/tomas-kocko-orchestr-2/
LOCATION:Stará Pekárna\, Brno\, Stará Pekárna\, Brno\, Česká republika
CATEGORIES:Koncert
ATTACH;FMTTYPE=image/jpeg:https://dnesnivylet.cz/wp-content/uploads/2026/03/320-143f08b58a414334a756956718bbff5d.jpg
END:VEVENT
BEGIN:VEVENT
DTSTART;TZID=Europe/Prague:20260416T200000
DTEND;TZID=Europe/Prague:20260416T230000
DTSTAMP:20260419T182658
CREATED:20260405T130545Z
LAST-MODIFIED:20260405T130546Z
UID:20243-1776369600-1776380400@dnesnivylet.cz
SUMMARY:Notepecker „Do That!“ TOUR in Jazz Tibet
DESCRIPTION:Notepecker „Do That!“ TOUR in Jazz Tibet se uskuteční dne 2026-04-16 v 20:00 v Olomouc\, Jazz Tibet Club. \n🎟️ Koupit vstupenku \n\nSeskupení Notepecker se ve své tvorbě inspiruje především moderním jazzem. Nebojí se však zabrousit ani do jiných žánrů jako jazzrock\, fusion nebo funk. Dominantní je v jejich tvorbě kromě improvizace především zapojení experimentálnějších prvků. Během prvního roku svého působení už stihlo nahrát svou první desku „Do That!“. Tu pokřtili právě v klubu\, ve kterém se s ní objeví znova\, jejich domovský Jazz Tibet! \n  \nSložení: \n\nLukas Tariq – elektrická kytara\nJiří Kubica – klávesové nástroje\nJan Kolář – baskytara\, basový syntezátor\nPetr Dvořáček – saxofon\nJiří Panák – trubka\, křídlovka\nLubomír Pluskal – trubka\, křídlovka\nVojtěch Švarc – trombón\nAdam Jašek – bicí\, perkuse\nŠimon Procházka – perkuse\, bicí\n\n\nTento tip na kulturní akci v Olomouc najdete v přehledu na Dnesnivylet.cz spolu s dalšími koncerty\, festivaly a divadelními představeními.Každý si vybere co se mu líbí. Nezapomeňte koupit vstupenky včas\, stačí kliknout a budete přesměrování na oficiálního prodejce vstupenek.
URL:https://dnesnivylet.cz/event/notepecker-do-that-tour-in-jazz-tibet/
LOCATION:Jazz Tibet Club\, Olomouc\, Jazz Tibet Club\, Olomouc\, Česká republika
CATEGORIES:Koncert
ATTACH;FMTTYPE=image/jpeg:https://dnesnivylet.cz/wp-content/uploads/2026/04/320-3255fe599f4c4105a8b5f0937bdef471.jpg
END:VEVENT
END:VCALENDAR