BEGIN:VCALENDAR
VERSION:2.0
PRODID:-//www.dnesnivylet.cz                                                                                                                        Tip na výlet pro celou rodinu. - ECPv6.15.13.1//NONSGML v1.0//EN
CALSCALE:GREGORIAN
METHOD:PUBLISH
X-ORIGINAL-URL:https://dnesnivylet.cz
X-WR-CALDESC:Akce na www.dnesnivylet.cz                                                                                                                        Tip na výlet pro celou rodinu.
REFRESH-INTERVAL;VALUE=DURATION:PT1H
X-Robots-Tag:noindex
X-PUBLISHED-TTL:PT1H
BEGIN:VTIMEZONE
TZID:Europe/Prague
BEGIN:DAYLIGHT
TZOFFSETFROM:+0100
TZOFFSETTO:+0200
TZNAME:CEST
DTSTART:20250330T010000
END:DAYLIGHT
BEGIN:STANDARD
TZOFFSETFROM:+0200
TZOFFSETTO:+0100
TZNAME:CET
DTSTART:20251026T010000
END:STANDARD
BEGIN:DAYLIGHT
TZOFFSETFROM:+0100
TZOFFSETTO:+0200
TZNAME:CEST
DTSTART:20260329T010000
END:DAYLIGHT
BEGIN:STANDARD
TZOFFSETFROM:+0200
TZOFFSETTO:+0100
TZNAME:CET
DTSTART:20261025T010000
END:STANDARD
BEGIN:DAYLIGHT
TZOFFSETFROM:+0100
TZOFFSETTO:+0200
TZNAME:CEST
DTSTART:20270328T010000
END:DAYLIGHT
BEGIN:STANDARD
TZOFFSETFROM:+0200
TZOFFSETTO:+0100
TZNAME:CET
DTSTART:20271031T010000
END:STANDARD
END:VTIMEZONE
BEGIN:VEVENT
DTSTART;TZID=Europe/Prague:20260424T183000
DTEND;TZID=Europe/Prague:20260424T213000
DTSTAMP:20260419T195534
CREATED:20260419T123744Z
LAST-MODIFIED:20260419T123744Z
UID:21057-1777055400-1777066200@dnesnivylet.cz
SUMMARY:Kvety\, Klobásy a Vyvrhel – Literární beseda s koncertem
DESCRIPTION:Kvety\, Klobásy a Vyvrhel – Literární beseda s koncertem se uskuteční dne 2026-04-24 v 18:30 v Brno\, Sibiř. \n🎟️ Koupit vstupenku \n\nKvety\, Klobásy a Vyvrhel – Bruno Ferrari (Samir Hauser) // Jana Micenková (SK) // E Converso // Předkočky \nNejdřív vás na besedu intelektuálně naladí jazz/free/experimentální kapela E Converso. \nJana Micenková (SK) představí svou nejnovější sbírku povídek Kvety & Klobásy (2025)\, v níž s dávkou cynismu a ironie zkoumá hraniční podoby mateřství\, partnerství a sexuality a odhaluje různé podoby lidské zoufalosti. \nPokračovat bude Samir Hauser alias Brunno Ferrari – král zvrhlosti\, který ve svých kontroverzních autobiografiích Vyvrhel a Vyvrhel na tripu přináší nové příběhy plné temného humoru\, dekadence a absurdních zážitků. \nPo této náloži vám určitě dobře padne drink a možnost roztančit se na bizarní disco od kapely Předkočky. \n\nTento tip na kulturní akci v Brno najdete v přehledu na Dnesnivylet.cz spolu s dalšími koncerty\, festivaly a divadelními představeními.Každý si vybere co se mu líbí. Nezapomeňte koupit vstupenky včas\, stačí kliknout a budete přesměrování na oficiálního prodejce vstupenek.
URL:https://dnesnivylet.cz/event/kvety-klobasy-a-vyvrhel-literarni-beseda-s-koncertem/
LOCATION:Sibiř\, Brno\, Sibiř\, Brno\, Česká republika
CATEGORIES:Koncert
ATTACH;FMTTYPE=image/jpeg:https://dnesnivylet.cz/wp-content/uploads/2026/04/320-23eae3a1c627453d9ed3d0b6aa0934a8.jpg
END:VEVENT
BEGIN:VEVENT
DTSTART;TZID=Europe/Prague:20260424T190000
DTEND;TZID=Europe/Prague:20260424T220000
DTSTAMP:20260419T195534
CREATED:20251026T124409Z
LAST-MODIFIED:20251026T124410Z
UID:10190-1777057200-1777068000@dnesnivylet.cz
SUMMARY:Václav Noid Bárta a Bek Bek Clan
DESCRIPTION:Václav Noid Bárta a Bek Bek Clan se uskuteční dne 2026-04-24 v 19:00 v Jihlava\, DKO. \n🎟️ Koupit vstupenku \n\nVáclav NOID Bárta v Jihlavě! \nOd prvních kroků s kapelami Dolores Clan\, Noid Crew a Dymytry\, přes divadelní svět muzikálů až po jeho současnou sólovou tvorbu. Přijďte si projít dvacetiletou hudební cestu Václava NOIDA Bárty – charizmatického zpěváka\, autora filmové hudby a jedinečného hlasu české hudební scény. \nNa co se můžete těšit?Během večera zazní jak jeho autorské skladby\, tak i oblíbené převzaté songy\, které skvěle doplní energii a atmosféru celého koncertu. Tento výjimečný večer přinese nálož skvělé muziky\, pohody a neuvěřitelné energie\, která vás strhne! \nZažijte hudební show\, na kterou se nezapomíná! \n\nTento tip na kulturní akci v Jihlava najdete v přehledu na Dnesnivylet.cz spolu s dalšími koncerty\, festivaly a divadelními představeními.Každý si vybere co se mu líbí. Nezapomeňte koupit vstupenky včas\, stačí kliknout a budete přesměrování na oficiálního prodejce vstupenek.
URL:https://dnesnivylet.cz/event/vaclav-noid-barta-a-bek-bek-clan-11/
LOCATION:DKO\, Jihlava\, DKO\, Jihlava\, Česká republika
CATEGORIES:Koncert
ATTACH;FMTTYPE=image/jpeg:https://dnesnivylet.cz/wp-content/uploads/2025/10/320-50d68eb1cd6d4b4da92dc53f3646ce86.jpg
END:VEVENT
BEGIN:VEVENT
DTSTART;TZID=Europe/Prague:20260424T190000
DTEND;TZID=Europe/Prague:20260424T220000
DTSTAMP:20260419T195534
CREATED:20251215T161156Z
LAST-MODIFIED:20251215T161157Z
UID:15609-1777057200-1777068000@dnesnivylet.cz
SUMMARY:Rockové Balady při svíčkách
DESCRIPTION:Rockové Balady při svíčkách se uskuteční dne 2026-04-24 v 19:00 v Kladno\, Kino Sokol. \n🎟️ Koupit vstupenku \n\nZažij kouzlo největších rockových hitů během jedinečného večera\, kde legendární melodie zazní v podání smyčcového kvarteta za svitu stovek svíček. \nUslyšíš skladby světově proslulých kapel jako Queen\, Metallica\, Nirvana\, Aerosmith\, Guns N’ Roses\, Led Zeppelin\, Pink Floyd\, Deep Purple\, Bon Jovi a mnoha dalších. Smyčcové aranžmá otevírá těmto klasikám zcela nové emocionální hloubky. \nTeplé světlo svíček vytváří výjimečně intimní atmosféru – čeká tě nezapomenutelný hudební zážitek. \nAkce není doporučena pro děti mladší 6 let. \n\nTento tip na kulturní akci v Kladno najdete v přehledu na Dnesnivylet.cz spolu s dalšími koncerty\, festivaly a divadelními představeními.Každý si vybere co se mu líbí. Nezapomeňte koupit vstupenky včas\, stačí kliknout a budete přesměrování na oficiálního prodejce vstupenek.
URL:https://dnesnivylet.cz/event/rockove-balady-pri-svickach/
LOCATION:Kino Sokol\, Kladno\, Kino Sokol\, Kladno\, Česká republika
CATEGORIES:Koncert
ATTACH;FMTTYPE=image/jpeg:https://dnesnivylet.cz/wp-content/uploads/2025/12/320-a63fcc88fc4945ba8775bba09ad5311c.jpg
END:VEVENT
BEGIN:VEVENT
DTSTART;TZID=Europe/Prague:20260424T190000
DTEND;TZID=Europe/Prague:20260424T220000
DTSTAMP:20260419T195534
CREATED:20251215T161459Z
LAST-MODIFIED:20251215T161459Z
UID:15637-1777057200-1777068000@dnesnivylet.cz
SUMMARY:Miloš Meier - Drumming Syndrome
DESCRIPTION:Miloš Meier – Drumming Syndrome se uskuteční dne 2026-04-24 v 19:00 v Moravské Budějovice\, MKS Beseda\, velký sál. \n🎟️ Koupit vstupenku \n\nBubeník metalových Dymytry Miloš Meier Vás zve na vystoupení svého bubenického one-man show projektu s názvem „Drumming Syndrome“. Představí speciální program rozdělený do dvou částí\, ve kterých se můžete těšit na osobitě upravené rockové a metalové světové hity\, bubenická sóla\, filmové soundtracky\, unplugged část i na odklony do dalších hudebních žánrů. \nVysoká hráčská technika a zkušenosti z hraní např. s Michalem Pavlíčkem\, Kamilem Střihavkou\, Supergroup.cz\, Danielem Landou\, BSP\, Stromboli\, nebo Gusem G. a bubnování s tímto vystoupením na prestižních bubenických festivalech po celém světě\, dávají předpovídat výjimečnému hudebnímu zážitku. Očekávejte originální\, výbušnou a nesmírně energickou show! \nPředprodej vstupenek v síti smsticket.cz a turistickém informačním centru Moravské Budějovice. \n\nTento tip na kulturní akci v Moravské Budějovice najdete v přehledu na Dnesnivylet.cz spolu s dalšími koncerty\, festivaly a divadelními představeními.Každý si vybere co se mu líbí. Nezapomeňte koupit vstupenky včas\, stačí kliknout a budete přesměrování na oficiálního prodejce vstupenek.
URL:https://dnesnivylet.cz/event/milos-meier-drumming-syndrome/
LOCATION:MKS Beseda\, velký sál\, Moravské Budějovice\, MKS Beseda\, velký sál\, Moravské Budějovice\, Česká republika
CATEGORIES:Koncert
ATTACH;FMTTYPE=image/jpeg:https://dnesnivylet.cz/wp-content/uploads/2025/12/320-b2efff71e2194fcead9432b97a372433.jpg
END:VEVENT
BEGIN:VEVENT
DTSTART;TZID=Europe/Prague:20260424T190000
DTEND;TZID=Europe/Prague:20260424T220000
DTSTAMP:20260419T195534
CREATED:20251222T144710Z
LAST-MODIFIED:20251222T144710Z
UID:15827-1777057200-1777068000@dnesnivylet.cz
SUMMARY:Hudba Bridgerton při svíčkách
DESCRIPTION:Hudba Bridgerton při svíčkách se uskuteční dne 2026-04-24 v 19:00 v Opava\, kostel sv. Václava. \n🎟️ Koupit vstupenku \n\nNenechte si ujít večer plný romantiky a elegance\, kde zazní ty nejznámější melodie a písně z oblíbeného seriálu Bridgerton. Světlo stovky svíček vytvoří okouzlující atmosféru koncertu. \nProgram v jedinečném provedení smyčcového kvarteta představí výběr hudebních skladeb z tohoto populárního seriálu\, inspirovaných klasickými díly i moderními popovými melodiemi\, které si získaly srdce diváků po celém světě. \nTento koncert nabídne víc než jen hudbu; stovky svíček rozzáří prostor a vytvoří atmosféru plnou noblesy\, romantiky a neodolatelného kouzla historické doby. \nAkce je přístupná od 12 let. Každý účastník musí předložit platnou vstupenku  zakoupenou výhradně v síti smsticket. \n\nTento tip na kulturní akci v Opava najdete v přehledu na Dnesnivylet.cz spolu s dalšími koncerty\, festivaly a divadelními představeními.Každý si vybere co se mu líbí. Nezapomeňte koupit vstupenky včas\, stačí kliknout a budete přesměrování na oficiálního prodejce vstupenek.
URL:https://dnesnivylet.cz/event/hudba-bridgerton-pri-svickach-28/
LOCATION:kostel Sv. Václava\, Opava\, kostel Sv. Václava\, Opava\, Česká republika
CATEGORIES:Koncert
ATTACH;FMTTYPE=image/jpeg:https://dnesnivylet.cz/wp-content/uploads/2025/12/320-647bcb293440416ea89988e720cd484e.jpg
END:VEVENT
BEGIN:VEVENT
DTSTART;TZID=Europe/Prague:20260424T190000
DTEND;TZID=Europe/Prague:20260424T220000
DTSTAMP:20260419T195534
CREATED:20251226T110152Z
LAST-MODIFIED:20251226T110153Z
UID:15951-1777057200-1777068000@dnesnivylet.cz
SUMMARY:Pocta Haně Hegerové v Neratovicích
DESCRIPTION:Pocta Haně Hegerové v Neratovicích se uskuteční dne 2026-04-24 v 19:00 v Neratovice\, Společenský dům. \n🎟️ Koupit vstupenku \n\nHudební zážitek\, na který jen tak nezapomenete. Budete plakat\, smát se\, a mít husí kůži po těle. \nLegendární dílo Hany Hegerové v podání Zuzany Němcové Šmejkalové. Zpěvačka s hlubokým\, sametovým hlasem a intenzivním hereckým projevem přináší osobitou interpretaci ikonických písní první dámy československého šansonu. \nVečer plný mistrovské klavírní hry Doubravky Linhartové a rafinovaných bubenických rytmů Jakuba Němce slibuje výjimečný umělecký zážitek\, který s úctou nahlédne do díla Hany Hegerové a zasáhne i ty nejcitlivější struny vaší duše. \nPřijďte vzdát hold legendě a prožít znovu její písně. \n„Ať žije Hegerová!“ \n\nTento tip na kulturní akci v Neratovice najdete v přehledu na Dnesnivylet.cz spolu s dalšími koncerty\, festivaly a divadelními představeními.Každý si vybere co se mu líbí. Nezapomeňte koupit vstupenky včas\, stačí kliknout a budete přesměrování na oficiálního prodejce vstupenek.
URL:https://dnesnivylet.cz/event/pocta-hane-hegerove-v-neratovicich/
LOCATION:Společenský dům\, Neratovice\, Společenský dům\, Neratovice\, Česká republika
CATEGORIES:Koncert
ATTACH;FMTTYPE=image/jpeg:https://dnesnivylet.cz/wp-content/uploads/2025/12/320-e6f63208871044d49a6eb3ad07fdca20.jpg
END:VEVENT
BEGIN:VEVENT
DTSTART;TZID=Europe/Prague:20260424T190000
DTEND;TZID=Europe/Prague:20260424T220000
DTSTAMP:20260419T195534
CREATED:20260209T194516Z
LAST-MODIFIED:20260209T194517Z
UID:17923-1777057200-1777068000@dnesnivylet.cz
SUMMARY:Walda Gang & Tlustá Berta
DESCRIPTION:Walda Gang & Tlustá Berta se uskuteční dne 2026-04-24 v 19:00 v Telč\, Sokolovna. \n🎟️ Koupit vstupenku \n\nWalda Gang & Tlustá Berta jedou do TELČE !!! \n  \nWalda Gang \nWalda Gang je česká rocková skupina\, kterou založil zpěvák skupiny Harlej Vláďa Šafránek po smrti Waldemara Matušky. Je zaměřená na rockové předělávky skladeb Waldemara Matušky a dalších známých českých i zahraničních písní. \nTlustá Berta \nRocková energická\, živelná\, ohňová a světelná show. Rocková kapela z Jindřichova Hradce. Na hudební scéně působí již více než 30 let a na svém kontě má 5 řadových alb a dva výběry. Tlustá Berta hraje svůj vlastní repertoár s českými texty \nVSTUPENKY \n\n– na stání: předprodej 1. VLNA 549\,- Kč (100 ks)\n\nČASOVÝ HARMONOGRAM \n\n– 19:00 open door\n– 20:00 Tlustá Berta\n– 22:00 Walda Gang\n– 23:30 konec akce\n\n\nTento tip na kulturní akci v Telč najdete v přehledu na Dnesnivylet.cz spolu s dalšími koncerty\, festivaly a divadelními představeními.Každý si vybere co se mu líbí. Nezapomeňte koupit vstupenky včas\, stačí kliknout a budete přesměrování na oficiálního prodejce vstupenek.
URL:https://dnesnivylet.cz/event/walda-gang-tlusta-berta/
LOCATION:Sokolovna\, Telč\, Sokolovna\, Telč\, Česká republika
CATEGORIES:Koncert
ATTACH;FMTTYPE=image/jpeg:https://dnesnivylet.cz/wp-content/uploads/2026/02/320-739aafb218d041daa00bcfc53ae54e1d.jpg
END:VEVENT
BEGIN:VEVENT
DTSTART;TZID=Europe/Prague:20260424T190000
DTEND;TZID=Europe/Prague:20260424T220000
DTSTAMP:20260419T195534
CREATED:20260314T190752Z
LAST-MODIFIED:20260314T190753Z
UID:19578-1777057200-1777068000@dnesnivylet.cz
SUMMARY:Vzpomínka na Karla Gotta a českou písničku
DESCRIPTION:Vzpomínka na Karla Gotta a českou písničku se uskuteční dne 2026-04-24 v 19:00 v Hlučín\, Kulturní dům. \n🎟️ Koupit vstupenku \n\nVečerem provází kapela The People.  \n\nTento tip na kulturní akci v Hlučín najdete v přehledu na Dnesnivylet.cz spolu s dalšími koncerty\, festivaly a divadelními představeními.Každý si vybere co se mu líbí. Nezapomeňte koupit vstupenky včas\, stačí kliknout a budete přesměrování na oficiálního prodejce vstupenek.
URL:https://dnesnivylet.cz/event/vzpominka-na-karla-gotta-a-ceskou-pisnicku-2/
LOCATION:Kulturní dům\, Hlučín\, Kulturní dům\, Hlučín\, Česká republika
CATEGORIES:Koncert
ATTACH;FMTTYPE=image/jpeg:https://dnesnivylet.cz/wp-content/uploads/2026/03/320-7ea47680cd214e6ca2cbf595dcdbdd2a.jpg
END:VEVENT
BEGIN:VEVENT
DTSTART;TZID=Europe/Prague:20260424T190000
DTEND;TZID=Europe/Prague:20260424T220000
DTSTAMP:20260419T195534
CREATED:20260405T125622Z
LAST-MODIFIED:20260405T125622Z
UID:20126-1777057200-1777068000@dnesnivylet.cz
SUMMARY:Václav Hudeček & Musici Boemi
DESCRIPTION:Václav Hudeček & Musici Boemi se uskuteční dne 2026-04-24 v 19:00 v Rájec-Jestřebí\, Kulturní centrum – sokolovna. \n🎟️ Koupit vstupenku \n\nVÁCLAV HUDEČEK & komorní orchestr MUSICI BOEMIČtvero ročních dob.Charismatický houslový virtuos Václav Hudeček\, legenda české hudební scény\, se představí ve společném koncertu s vynikajícím komorním orchestrem Musici Boemi. \nVýjimečný ansámbl složený z předních českých hudebníků přináší interpretační preciznost\, energii\, stylovou rozmanitost a slibuje nezapomenutelný večer plný emocí\, technické brilance a hudební krásy. \n\nTento tip na kulturní akci v Rájec-Jestřebí najdete v přehledu na Dnesnivylet.cz spolu s dalšími koncerty\, festivaly a divadelními představeními.Každý si vybere co se mu líbí. Nezapomeňte koupit vstupenky včas\, stačí kliknout a budete přesměrování na oficiálního prodejce vstupenek.
URL:https://dnesnivylet.cz/event/vaclav-hudecek-musici-boemi/
LOCATION:Kulturní centrum – sokolovna\, Rájec-Jestřebí\, Kulturní centrum - sokolovna\, Rájec-Jestřebí\, Česká republika
CATEGORIES:Koncert
ATTACH;FMTTYPE=image/jpeg:https://dnesnivylet.cz/wp-content/uploads/2026/04/320-1a6202db0e804be49a288b79fa5a13dd.jpg
END:VEVENT
BEGIN:VEVENT
DTSTART;TZID=Europe/Prague:20260424T190000
DTEND;TZID=Europe/Prague:20260424T220000
DTSTAMP:20260419T195534
CREATED:20260419T120802Z
LAST-MODIFIED:20260419T120802Z
UID:20701-1777057200-1777068000@dnesnivylet.cz
SUMMARY:Muzikálový koktejl
DESCRIPTION:Muzikálový koktejl se uskuteční dne 2026-04-24 v 19:00 v Počátky\, Kino. \n🎟️ Koupit vstupenku \n\nMuzikálový koktejl \nAnotace: Muzikálový koktejl -namícháme vám to nejlepší z českých a zahraničních muzikálů\,  hudebních filmů a seriálů. \nBěhem večera zazní: hity z muzikálů\,  hudebních filmů a seriálů od interpretů: H.Vondráčková\, K.Gott\, M.David\, H.Zagorová\, Abba a  spoustu dalších. \nV PODÁNÍ ZPĚVÁKŮ Z ČESKÉ MUZIKÁLOVÉ SCÉNY! \nJedinečná show\, která vás dlouho nenechá sedět! \ndélka představení CCA 120 minut + přestávka 15 minut \n\nTento tip na kulturní akci v Počátky najdete v přehledu na Dnesnivylet.cz spolu s dalšími koncerty\, festivaly a divadelními představeními.Každý si vybere co se mu líbí. Nezapomeňte koupit vstupenky včas\, stačí kliknout a budete přesměrování na oficiálního prodejce vstupenek.
URL:https://dnesnivylet.cz/event/muzikalovy-koktejl-7/
LOCATION:Kino\, Počátky\, Kino\, Počátky\, Česká republika
CATEGORIES:Koncert
ATTACH;FMTTYPE=image/jpeg:https://dnesnivylet.cz/wp-content/uploads/2026/04/320-905c4b0af3524a1297540284ac1b01b1.jpg
END:VEVENT
BEGIN:VEVENT
DTSTART;TZID=Europe/Prague:20260424T193000
DTEND;TZID=Europe/Prague:20260424T223000
DTSTAMP:20260419T195534
CREATED:20260419T120613Z
LAST-MODIFIED:20260419T120613Z
UID:20674-1777059000-1777069800@dnesnivylet.cz
SUMMARY:Křest 301 + Zrcadla + Reservoar Dogz
DESCRIPTION:Křest 301 + Zrcadla + Reservoar Dogz se uskuteční dne 2026-04-24 v 19:30 v Brno\, Melodka na Střeláku. \n🎟️ Koupit vstupenku \n\nBrněnská rocková kapela 301 křtí své nové EP s názvem Detonace snění. Doprovází kapely Zrcadla a Reservoar Dogz. \nKoncert bude v legendárním klubu Melodka\, který má od března nové místo na Střeláku \n  \nZákladní vstupenka je za 199 Kč (včetně poplatku platební brány) \nVstupenka za 500 Kč je symbolickou podporou 301\, jako poděkování kupující dostane také ponožky\, plakát a především status absolutní legendy \n\nTento tip na kulturní akci v Brno najdete v přehledu na Dnesnivylet.cz spolu s dalšími koncerty\, festivaly a divadelními představeními.Každý si vybere co se mu líbí. Nezapomeňte koupit vstupenky včas\, stačí kliknout a budete přesměrování na oficiálního prodejce vstupenek.
URL:https://dnesnivylet.cz/event/krest-301-zrcadla-reservoar-dogz/
LOCATION:Melodka na Střeláku\, Brno\, Melodka na Střeláku\, Brno\, Česká republika
CATEGORIES:Koncert
ATTACH;FMTTYPE=image/jpeg:https://dnesnivylet.cz/wp-content/uploads/2026/04/320-8245fe5c819945868fec91fd7a29fc07.jpg
END:VEVENT
BEGIN:VEVENT
DTSTART;TZID=Europe/Prague:20260424T200000
DTEND;TZID=Europe/Prague:20260424T230000
DTSTAMP:20260419T195534
CREATED:20260306T172129Z
LAST-MODIFIED:20260306T172130Z
UID:18991-1777060800-1777071600@dnesnivylet.cz
SUMMARY:Nukleární hovada + STARTi + Přísun povolen
DESCRIPTION:Nukleární hovada + STARTi + Přísun povolen se uskuteční dne 2026-04-24 v 20:00 v Pardubice\, RC Ponorka. \n🎟️ Koupit vstupenku \n\nZveme vás na tuhle směsku do Ponorky Pardubice! \n  \nTěšit se můžete na: \nNukleární Hovada – PUNK Jičín \nSTARTi – punkrocková kapela z okolí VM \nPřísun povolen – punk Praha \n  \nVSTUP OD 20:00HODIN \n\nTento tip na kulturní akci v Pardubice najdete v přehledu na Dnesnivylet.cz spolu s dalšími koncerty\, festivaly a divadelními představeními.Každý si vybere co se mu líbí. Nezapomeňte koupit vstupenky včas\, stačí kliknout a budete přesměrování na oficiálního prodejce vstupenek.
URL:https://dnesnivylet.cz/event/nuklearni-hovada-starti-prisun-povolen/
LOCATION:RC Ponorka\, Pardubice\, RC Ponorka\, Pardubice\, Česká republika
CATEGORIES:Koncert
ATTACH;FMTTYPE=image/jpeg:https://dnesnivylet.cz/wp-content/uploads/2026/03/320-b102f111aff24bf59dc61cd74697ef7d.jpg
END:VEVENT
BEGIN:VEVENT
DTSTART;TZID=Europe/Prague:20260424T200000
DTEND;TZID=Europe/Prague:20260424T230000
DTSTAMP:20260419T195534
CREATED:20260314T185829Z
LAST-MODIFIED:20260314T185916Z
UID:19444-1777060800-1777071600@dnesnivylet.cz
SUMMARY:tAngerinecAt\, Jack the Hipper\, Mr. Pink and The Bad Thoughts
DESCRIPTION:tAngerinecAt\, Jack the Hipper\, Mr. Pink and The Bad Thoughts se uskuteční dne 2026-04-24 v 20:00 v Brno\, Klub Alterna. \n🎟️ Koupit vstupenku \n\ntAngerinecAt  \ntAngerinecAt je britské duo\, jehož silné zvukové rituály propojují šamanskou industriální elektroniku\, dark jazz\, folk\, post-metal\, alikvotní zpěv a sugestivní mluvené slovo do syrového\, žánry překračujícího zážitku. Projekt vznikl ze spolupráce Zhenii Purpurovsky (UA)\, působící v oblasti produkce\, zvukového umění\, autorské tvorby a multiinstrumentální hry\, a zvukového umělce Paula Chiltona (UK). Jejich tvorbu pohání výrazný anti-válečný\, anti-fašistický a anti-ekocidní postoj spolu s hlubokým závazkem k umělecké svobodě a inovaci. \nBěhem více než deseti let si duo vybudovalo mezinárodní publikum\, vydalo sedm alb a koncertovalo v patnácti zemích světa. Vystoupilo na řadě renomovaných festivalů\, jako jsou Wave-Gotik-Treffen\, Tallinn Music Week\, Menuo Juodaragis\, Hradby Samoty\, Ex Tenebris Lux\, Focus Wales\, Equinox\, Eden\, Willowman či Knockengorroch\, a mnoha dalších. V roce 2024 absolvovali turné po Německu a Česku po boku průkopníků dark-electra Project Pitchfork.  \nJack the Hipper  \nBrněnská parta Jack the Hipper spojuje post-punk s prvky shoegaze a atmosférickými syntezátory. Výsledkem jsou dynamické a hypnotické koncerty. Vydali dvě desky. Doomer Music vyšla v roce 2023 a navázala tak na debut Songs for David z roku 2018.  \nMr. Pink and The Bad Thoughts  \nZ rokenrolové kapely se vyvinulo něco\, co připomíná bedroom-pop na peří. Lyrické písně\, které berou za srdce\, se opírají o temné syntezátory\, klopýtající elektronické beaty a nevinné dívčí backing vokály. Depresivně snová atmosféra je dál podkreslená klepající kytarou\, která celému projektu dodává lehce westernový nádech. \nRůzní posluchači přirovnávají tohle uskupení k Berlínu 90. let — Rowland S. Howard\, Crime & the City Solution a podobné stíny té doby. V Kajfošově rádiu zaznělo dokonce přirovnání ke Caveovi po mrtvici. \n\nTento tip na kulturní akci v Brno najdete v přehledu na Dnesnivylet.cz spolu s dalšími koncerty\, festivaly a divadelními představeními.Každý si vybere co se mu líbí. Nezapomeňte koupit vstupenky včas\, stačí kliknout a budete přesměrování na oficiálního prodejce vstupenek.
URL:https://dnesnivylet.cz/event/tangerinecat-jack-the-hipper-mr-pink-and-the-bad-thoughts/
LOCATION:Klub Alterna\, Brno\, Klub Alterna\, Brno\, Česká republika
CATEGORIES:Koncert
ATTACH;FMTTYPE=image/jpeg:https://dnesnivylet.cz/wp-content/uploads/2026/03/320-e67e36845bde47e9a3a587981a7234c8.jpg
END:VEVENT
BEGIN:VEVENT
DTSTART;TZID=Europe/Prague:20260424T200000
DTEND;TZID=Europe/Prague:20260424T230000
DTSTAMP:20260419T195534
CREATED:20260321T195842Z
LAST-MODIFIED:20260321T195842Z
UID:19787-1777060800-1777071600@dnesnivylet.cz
SUMMARY:Fast Food Orchestra - Pardubice
DESCRIPTION:Fast Food Orchestra – Pardubice se uskuteční dne 2026-04-24 v 20:00 v Pardubice\, Music Club Žlutý pes. \n🎟️ Koupit vstupenku \n\nProtože to VIDÍME RŮŽOVĚ\, nemůže to dopadnout špatně. Zahrajeme hromadu starých provařených fláků\, ale nebude chybět ani poslední singl Přidej plyn\, který startuje novou éru ještě šílenějšího kabaretu. \nVšechny smutky a strasti společně utopíme v záři neónů a radosti. Přijďte si k nám pro kalorickou porci energie a přineste nám kus té své. Ať to zase v dalším roce táhneme dál.Tahle hostina bude legendární! \n\nTento tip na kulturní akci v Pardubice najdete v přehledu na Dnesnivylet.cz spolu s dalšími koncerty\, festivaly a divadelními představeními.Každý si vybere co se mu líbí. Nezapomeňte koupit vstupenky včas\, stačí kliknout a budete přesměrování na oficiálního prodejce vstupenek.
URL:https://dnesnivylet.cz/event/fast-food-orchestra-pardubice/
LOCATION:Music Club Žlutý pes\, Pardubice\, Music Club Žlutý pes\, Pardubice\, Česká republika
CATEGORIES:Koncert
ATTACH;FMTTYPE=image/jpeg:https://dnesnivylet.cz/wp-content/uploads/2026/03/320-5083686ca3f3412f8cbe6a270bd41302.jpg
END:VEVENT
BEGIN:VEVENT
DTSTART;TZID=Europe/Prague:20260424T210000
DTEND;TZID=Europe/Prague:20260425T000000
DTSTAMP:20260419T195534
CREATED:20260106T114558Z
LAST-MODIFIED:20260106T114558Z
UID:16471-1777064400-1777075200@dnesnivylet.cz
SUMMARY:Kamil Střihavka – 40 let na scéně | Litomyšl
DESCRIPTION:Kamil Střihavka – 40 let na scéně | Litomyšl se uskuteční dne 2026-04-24 v 21:00 v Litomyšl\, MC Kotelna. \n🎟️ Koupit vstupenku \n\nKamil Střihavka & The Leaders!Kamil Střihavka rocková legenda oslovující již dvě generace fanoušků\, majitel nezaměnitelného a fenomenálního hlasu vystoupí v Kotelně se svojí kapelou the Leaders!Obsazení kapely: Kamil Střihavka – zpěv\, Petr Henych – kytara\, Martin Ivan – basa\, Jan Nezval – bicí nástroje\, Michal Vejskal – klávesy \n\nTento tip na kulturní akci v Litomyšl najdete v přehledu na Dnesnivylet.cz spolu s dalšími koncerty\, festivaly a divadelními představeními.Každý si vybere co se mu líbí. Nezapomeňte koupit vstupenky včas\, stačí kliknout a budete přesměrování na oficiálního prodejce vstupenek.
URL:https://dnesnivylet.cz/event/kamil-strihavka-40-let-na-scene-litomysl/
LOCATION:MC Kotelna\, Litomyšl\, MC Kotelna\, Litomyšl\, Česká republika
CATEGORIES:Koncert
ATTACH;FMTTYPE=image/jpeg:https://dnesnivylet.cz/wp-content/uploads/2026/01/320-6d14ebdca2244ba1aa3e1faa443ad62f.jpg
END:VEVENT
END:VCALENDAR