BEGIN:VCALENDAR
VERSION:2.0
PRODID:-//www.dnesnivylet.cz                                                                                                                        Tip na výlet pro celou rodinu. - ECPv6.15.13.1//NONSGML v1.0//EN
CALSCALE:GREGORIAN
METHOD:PUBLISH
X-WR-CALNAME:www.dnesnivylet.cz                                                                                                                        Tip na výlet pro celou rodinu.
X-ORIGINAL-URL:https://dnesnivylet.cz
X-WR-CALDESC:Akce na www.dnesnivylet.cz                                                                                                                        Tip na výlet pro celou rodinu.
REFRESH-INTERVAL;VALUE=DURATION:PT1H
X-Robots-Tag:noindex
X-PUBLISHED-TTL:PT1H
BEGIN:VTIMEZONE
TZID:Europe/Prague
BEGIN:DAYLIGHT
TZOFFSETFROM:+0100
TZOFFSETTO:+0200
TZNAME:CEST
DTSTART:20250330T010000
END:DAYLIGHT
BEGIN:STANDARD
TZOFFSETFROM:+0200
TZOFFSETTO:+0100
TZNAME:CET
DTSTART:20251026T010000
END:STANDARD
BEGIN:DAYLIGHT
TZOFFSETFROM:+0100
TZOFFSETTO:+0200
TZNAME:CEST
DTSTART:20260329T010000
END:DAYLIGHT
BEGIN:STANDARD
TZOFFSETFROM:+0200
TZOFFSETTO:+0100
TZNAME:CET
DTSTART:20261025T010000
END:STANDARD
BEGIN:DAYLIGHT
TZOFFSETFROM:+0100
TZOFFSETTO:+0200
TZNAME:CEST
DTSTART:20270328T010000
END:DAYLIGHT
BEGIN:STANDARD
TZOFFSETFROM:+0200
TZOFFSETTO:+0100
TZNAME:CET
DTSTART:20271031T010000
END:STANDARD
END:VTIMEZONE
BEGIN:VEVENT
DTSTART;TZID=Europe/Prague:20260330T190000
DTEND;TZID=Europe/Prague:20260330T220000
DTSTAMP:20260419T193339
CREATED:20251215T113140Z
LAST-MODIFIED:20251215T113141Z
UID:15513-1774897200-1774908000@dnesnivylet.cz
SUMMARY:Tigran Hovakimyan - Tigran je ve městě - Kolín
DESCRIPTION:Tigran Hovakimyan – Tigran je ve městě – Kolín se uskuteční dne 2026-03-30 v 19:00 v Kolín\, MSD. \n🎟️ Koupit vstupenku \n\nTigran Hovakimyan pochází z Arménie\, mluví čtyřmi jazyky a za sebou má pestrou škálu životních i pracovních zkušeností. Než zakotvil u stand-up comedy\, vyzkoušel řadu zaměstnání a působil jako amatérský herec v dětském divadle. Právě tam se naučil vnímat publikum\, reagovat na jeho energii a přirozeně pracovat s humorem. \nZ dětského jeviště zamířil na stand-up pódia\, kde se může spolehnout jen na sebe – a to mu vyhovuje nejvíc. V roce 2026 vyráží na svou dosud největší stand-up tour napříč Českou republikou se svým speciálem Tigran je ve městě. \nČeká vás večer plný originálního humoru\, osobitých postřehů\, nečekaných point a energie\, která vás nenechá v klidu sedět! \nNa každém vystoupení se představí jako předskokan některý z českých stand-up komiků. \n\nTento tip na kulturní akci v Kolín najdete v přehledu na Dnesnivylet.cz spolu s dalšími koncerty\, festivaly a divadelními představeními.Každý si vybere co se mu líbí. Nezapomeňte koupit vstupenky včas\, stačí kliknout a budete přesměrování na oficiálního prodejce vstupenek.
URL:https://dnesnivylet.cz/event/tigran-hovakimyan-tigran-je-ve-meste-kolin/
LOCATION:MSD\, Kolín\, MSD\, Kolín\, Česká republika
CATEGORIES:Zábava
ATTACH;FMTTYPE=image/jpeg:https://dnesnivylet.cz/wp-content/uploads/2025/12/320-7812c46d940e4d0c9f23509ba1002eec.jpg
END:VEVENT
BEGIN:VEVENT
DTSTART;TZID=Europe/Prague:20260330T193000
DTEND;TZID=Europe/Prague:20260330T223000
DTSTAMP:20260419T193339
CREATED:20260211T131009Z
LAST-MODIFIED:20260211T131010Z
UID:18100-1774899000-1774909800@dnesnivylet.cz
SUMMARY:Tváře Petra Rychlého
DESCRIPTION:Tváře Petra Rychlého se uskuteční dne 2026-03-30 v 19:30 v Znojmo\, Klub Harvart. \n🎟️ Koupit vstupenku \n\nTalkshow TVÁŘE PETRA RYCHLÉHO \nPetr Rychlý – jedna z nejznámějších televizních tváří\, oblíbený divadelní herec\, populární moderátor\, bavič a příležitostný zpěvák vypráví historky nejen ze zákulisí divadla a televize. Během vystoupení baví diváky i svými hudebními čísly z TV soutěže Tvoje tvář má známý hlas. \n\nTento tip na kulturní akci v Znojmo najdete v přehledu na Dnesnivylet.cz spolu s dalšími koncerty\, festivaly a divadelními představeními.Každý si vybere co se mu líbí. Nezapomeňte koupit vstupenky včas\, stačí kliknout a budete přesměrování na oficiálního prodejce vstupenek.
URL:https://dnesnivylet.cz/event/tvare-petra-rychleho-2/
LOCATION:Klub Harvart\, Znojmo\, Klub Harvart\, Znojmo\, Česká republika
CATEGORIES:Zábava
ATTACH;FMTTYPE=image/jpeg:https://dnesnivylet.cz/wp-content/uploads/2026/02/320-28eae19df5914ee2890dc8d9dd2d5767.jpg
END:VEVENT
BEGIN:VEVENT
DTSTART;TZID=Europe/Prague:20260330T193000
DTEND;TZID=Europe/Prague:20260330T223000
DTSTAMP:20260419T193339
CREATED:20260211T131009Z
LAST-MODIFIED:20260211T131010Z
UID:18101-1774899000-1774909800@dnesnivylet.cz
SUMMARY:Tváře Petra Rychlého
DESCRIPTION:Tváře Petra Rychlého se uskuteční dne 2026-03-30 v 19:30 v Znojmo\, Klub Harvart. \n🎟️ Koupit vstupenku \n\nTalkshow TVÁŘE PETRA RYCHLÉHO \nPetr Rychlý – jedna z nejznámějších televizních tváří\, oblíbený divadelní herec\, populární moderátor\, bavič a příležitostný zpěvák vypráví historky nejen ze zákulisí divadla a televize. Během vystoupení baví diváky i svými hudebními čísly z TV soutěže Tvoje tvář má známý hlas. \n\nTento tip na kulturní akci v Znojmo najdete v přehledu na Dnesnivylet.cz spolu s dalšími koncerty\, festivaly a divadelními představeními.Každý si vybere co se mu líbí. Nezapomeňte koupit vstupenky včas\, stačí kliknout a budete přesměrování na oficiálního prodejce vstupenek.
URL:https://dnesnivylet.cz/event/tvare-petra-rychleho-2/
LOCATION:Klub Harvart\, Znojmo\, Klub Harvart\, Znojmo\, Česká republika
CATEGORIES:Zábava
ATTACH;FMTTYPE=image/jpeg:https://dnesnivylet.cz/wp-content/uploads/2026/02/320-28eae19df5914ee2890dc8d9dd2d5767-1.jpg
END:VEVENT
END:VCALENDAR