BEGIN:VCALENDAR
VERSION:2.0
PRODID:-//www.dnesnivylet.cz                                                                                                                        Tip na výlet pro celou rodinu. - ECPv6.15.13.1//NONSGML v1.0//EN
CALSCALE:GREGORIAN
METHOD:PUBLISH
X-ORIGINAL-URL:https://dnesnivylet.cz
X-WR-CALDESC:Akce na www.dnesnivylet.cz                                                                                                                        Tip na výlet pro celou rodinu.
REFRESH-INTERVAL;VALUE=DURATION:PT1H
X-Robots-Tag:noindex
X-PUBLISHED-TTL:PT1H
BEGIN:VTIMEZONE
TZID:Europe/Prague
BEGIN:DAYLIGHT
TZOFFSETFROM:+0100
TZOFFSETTO:+0200
TZNAME:CEST
DTSTART:20250330T010000
END:DAYLIGHT
BEGIN:STANDARD
TZOFFSETFROM:+0200
TZOFFSETTO:+0100
TZNAME:CET
DTSTART:20251026T010000
END:STANDARD
BEGIN:DAYLIGHT
TZOFFSETFROM:+0100
TZOFFSETTO:+0200
TZNAME:CEST
DTSTART:20260329T010000
END:DAYLIGHT
BEGIN:STANDARD
TZOFFSETFROM:+0200
TZOFFSETTO:+0100
TZNAME:CET
DTSTART:20261025T010000
END:STANDARD
BEGIN:DAYLIGHT
TZOFFSETFROM:+0100
TZOFFSETTO:+0200
TZNAME:CEST
DTSTART:20270328T010000
END:DAYLIGHT
BEGIN:STANDARD
TZOFFSETFROM:+0200
TZOFFSETTO:+0100
TZNAME:CET
DTSTART:20271031T010000
END:STANDARD
END:VTIMEZONE
BEGIN:VEVENT
DTSTART;TZID=Europe/Prague:20260331T190000
DTEND;TZID=Europe/Prague:20260331T220000
DTSTAMP:20260419T193413
CREATED:20251022T113541Z
LAST-MODIFIED:20251022T113542Z
UID:9645-1774983600-1774994400@dnesnivylet.cz
SUMMARY:Tigran je ve městě
DESCRIPTION:Tigran je ve městě se uskuteční dne 2026-03-31 v 19:00 v Hodonín\, Dům kultury. \n🎟️ Koupit vstupenku \n\nStand-Up komik z televizního pořadu Comedy Club Tigran Hovakimyan přijíždí do Hodonína se svým speciálem. Přijďte se pobavit. Čeká vás nezapomenutelný stand-up večer plný humoru\, energie a skvělých vtipů!  \nTigranův předskokan bude český stand-up komik\, herec\, režisér a scenárista Jiří Jakima. \nTěšte se na večer plný smíchu\, nekorektního i hrubozrnného humoru 😉 \n  \nPředprodej  490 Kč / Na místě 590 Kč  \n\nTento tip na kulturní akci v Hodonín najdete v přehledu na Dnesnivylet.cz spolu s dalšími koncerty\, festivaly a divadelními představeními.Každý si vybere co se mu líbí. Nezapomeňte koupit vstupenky včas\, stačí kliknout a budete přesměrování na oficiálního prodejce vstupenek.
URL:https://dnesnivylet.cz/event/tigran-je-ve-meste-3/
LOCATION:Dům kultury\, Hodonín\, Dům kultury\, Hodonín\, Česká republika
CATEGORIES:Zábava
ATTACH;FMTTYPE=image/jpeg:https://dnesnivylet.cz/wp-content/uploads/2025/10/320-6253e6ff5bdd4953b18af7e4bb52cef5.jpg
END:VEVENT
BEGIN:VEVENT
DTSTART;TZID=Europe/Prague:20260331T190000
DTEND;TZID=Europe/Prague:20260331T220000
DTSTAMP:20260419T193413
CREATED:20251108T171146Z
LAST-MODIFIED:20251108T171146Z
UID:13010-1774983600-1774994400@dnesnivylet.cz
SUMMARY:ŠVANCI SHOW - JÁ SU JÁ - Uherské Hradiště
DESCRIPTION:ŠVANCI SHOW – JÁ SU JÁ – Uherské Hradiště se uskuteční dne 2026-03-31 v 19:00 v Uherské Hradiště\, Klub kultury. \n🎟️ Koupit vstupenku \n\nNová zábavná show „JÁ SU JÁ“ vyráží na TOUR po celé České republice. \nČekají vás vtipné historky\, od kariéry fotbalisty\, velkolepé rozlučky za Lužánkami\, návštěv různých zábavních pořadů\, až po účast v reality show Survivor. Dále se těšte na prostor pro otázky na tělo\, autogramiádu\, focení a mnoho dalšího. \nJak moc dobře mě znáš? Jak vypadá můj život po kariéře fotbalisty? Chceš znát více informací o reality show Surviror? \nNejen to se dozvíš ve zbrusu nové zábavné show „JÁ SU JÁ“. \nPřijď se podívat a užít si legraci\, popovídat si s legendou fotbalu\, moderátorem\, bavičem a dát si třeba fotku\, nebo si nechat cokoliv podepsat. \nPořad není vhodný mladším 15 let! \n\nTento tip na kulturní akci v Uherské Hradiště najdete v přehledu na Dnesnivylet.cz spolu s dalšími koncerty\, festivaly a divadelními představeními.Každý si vybere co se mu líbí. Nezapomeňte koupit vstupenky včas\, stačí kliknout a budete přesměrování na oficiálního prodejce vstupenek.
URL:https://dnesnivylet.cz/event/svanci-show-ja-su-ja-uherske-hradiste/
LOCATION:Klub kultury\, Uherské Hradiště\, Klub kultury\, Uherské Hradiště\, Česká republika
CATEGORIES:Zábava
ATTACH;FMTTYPE=image/jpeg:https://dnesnivylet.cz/wp-content/uploads/2025/11/320-258a44202908422abbec03b7c7045fe5.jpg
END:VEVENT
END:VCALENDAR