BEGIN:VCALENDAR
VERSION:2.0
PRODID:-//www.dnesnivylet.cz                                                                                                                        Tip na výlet pro celou rodinu. - ECPv6.15.13.1//NONSGML v1.0//EN
CALSCALE:GREGORIAN
METHOD:PUBLISH
X-ORIGINAL-URL:https://dnesnivylet.cz
X-WR-CALDESC:Akce na www.dnesnivylet.cz                                                                                                                        Tip na výlet pro celou rodinu.
REFRESH-INTERVAL;VALUE=DURATION:PT1H
X-Robots-Tag:noindex
X-PUBLISHED-TTL:PT1H
BEGIN:VTIMEZONE
TZID:Europe/Prague
BEGIN:DAYLIGHT
TZOFFSETFROM:+0100
TZOFFSETTO:+0200
TZNAME:CEST
DTSTART:20250330T010000
END:DAYLIGHT
BEGIN:STANDARD
TZOFFSETFROM:+0200
TZOFFSETTO:+0100
TZNAME:CET
DTSTART:20251026T010000
END:STANDARD
BEGIN:DAYLIGHT
TZOFFSETFROM:+0100
TZOFFSETTO:+0200
TZNAME:CEST
DTSTART:20260329T010000
END:DAYLIGHT
BEGIN:STANDARD
TZOFFSETFROM:+0200
TZOFFSETTO:+0100
TZNAME:CET
DTSTART:20261025T010000
END:STANDARD
BEGIN:DAYLIGHT
TZOFFSETFROM:+0100
TZOFFSETTO:+0200
TZNAME:CEST
DTSTART:20270328T010000
END:DAYLIGHT
BEGIN:STANDARD
TZOFFSETFROM:+0200
TZOFFSETTO:+0100
TZNAME:CET
DTSTART:20271031T010000
END:STANDARD
END:VTIMEZONE
BEGIN:VEVENT
DTSTART;TZID=Europe/Prague:20260402T200000
DTEND;TZID=Europe/Prague:20260402T230000
DTSTAMP:20260419T194212
CREATED:20260306T173838Z
LAST-MODIFIED:20260306T173840Z
UID:19198-1775160000-1775170800@dnesnivylet.cz
SUMMARY:FÚZE
DESCRIPTION:FÚZE se uskuteční dne 2026-04-02 v 20:00 v Brno\, Tržnice Brno. \n🎟️ Koupit vstupenku \n\nFÚZE se vrací v plné síle na Tržnici Brno do klubů Exit a Perpetuum! 🔥 \nTermínem bude 2.4.2026\, tedy Zelený čtvrtek\, v den před státním svátkem. \nTěšte se opět na spojení brněnských crew a klubů\, zahraniční headlinery a symbolické vstupné! ✊ \n‼️ Vstupenka = vstup do 3 klubů  \n  \n▌FÚZE▌Čt. 2.4.2026▌Tržnice + EXIT + Perpetuum▌Start 20:00 / end 05:00 \nL̶i̶n̶e̶-̶u̶p̶:̶𝐓𝐑𝐙𝐍𝐈𝐂𝐄TBA \n𝐄𝐗𝐈𝐓TBA \n𝐏𝐄𝐑𝐏𝐄𝐓𝐔𝐔𝐌 \nTBA \n\nTento tip na kulturní akci v Brno najdete v přehledu na Dnesnivylet.cz spolu s dalšími koncerty\, festivaly a divadelními představeními.Každý si vybere co se mu líbí. Nezapomeňte koupit vstupenky včas\, stačí kliknout a budete přesměrování na oficiálního prodejce vstupenek.
URL:https://dnesnivylet.cz/event/fuze/
LOCATION:Tržnice Brno\, Brno\, Tržnice Brno\, Brno\, Česká republika
CATEGORIES:Zábava
ATTACH;FMTTYPE=image/jpeg:https://dnesnivylet.cz/wp-content/uploads/2026/03/320-191e1844d4394287b5015b6dda328dd3.jpg
END:VEVENT
END:VCALENDAR