BEGIN:VCALENDAR
VERSION:2.0
PRODID:-//www.dnesnivylet.cz                                                                                                                        Tip na výlet pro celou rodinu. - ECPv6.15.13.1//NONSGML v1.0//EN
CALSCALE:GREGORIAN
METHOD:PUBLISH
X-WR-CALNAME:www.dnesnivylet.cz                                                                                                                        Tip na výlet pro celou rodinu.
X-ORIGINAL-URL:https://dnesnivylet.cz
X-WR-CALDESC:Akce na www.dnesnivylet.cz                                                                                                                        Tip na výlet pro celou rodinu.
REFRESH-INTERVAL;VALUE=DURATION:PT1H
X-Robots-Tag:noindex
X-PUBLISHED-TTL:PT1H
BEGIN:VTIMEZONE
TZID:Europe/Prague
BEGIN:DAYLIGHT
TZOFFSETFROM:+0100
TZOFFSETTO:+0200
TZNAME:CEST
DTSTART:20250330T010000
END:DAYLIGHT
BEGIN:STANDARD
TZOFFSETFROM:+0200
TZOFFSETTO:+0100
TZNAME:CET
DTSTART:20251026T010000
END:STANDARD
BEGIN:DAYLIGHT
TZOFFSETFROM:+0100
TZOFFSETTO:+0200
TZNAME:CEST
DTSTART:20260329T010000
END:DAYLIGHT
BEGIN:STANDARD
TZOFFSETFROM:+0200
TZOFFSETTO:+0100
TZNAME:CET
DTSTART:20261025T010000
END:STANDARD
BEGIN:DAYLIGHT
TZOFFSETFROM:+0100
TZOFFSETTO:+0200
TZNAME:CEST
DTSTART:20270328T010000
END:DAYLIGHT
BEGIN:STANDARD
TZOFFSETFROM:+0200
TZOFFSETTO:+0100
TZNAME:CET
DTSTART:20271031T010000
END:STANDARD
END:VTIMEZONE
BEGIN:VEVENT
DTSTART;TZID=Europe/Prague:20260411T100000
DTEND;TZID=Europe/Prague:20260411T130000
DTSTAMP:20260419T194151
CREATED:20251107T092926Z
LAST-MODIFIED:20251107T092934Z
UID:12805-1775901600-1775912400@dnesnivylet.cz
SUMMARY:Muzikál Tlapkové patroly | Frýdek-Místek
DESCRIPTION:Muzikál Tlapkové patroly | Frýdek-Místek se uskuteční dne 2026-04-11 v 10:00 v Frýdek-Místek\, Národní dům. \n🎟️ Koupit vstupenku \n\nOblíbení hrdinové z Tlapkové patroly se chystají na své jediné rodinné muzikálové turné v České republice\, které se už nikdy nebude opakovat!Populární psí záchranáři přinášejí show\, která nadchne malé i velké diváky.🐶 \nČeká vás nezapomenutelný rodinný muzikál plný hudby\, tance a dobrodružství!Děti se mohou těšit na Chase\, Marshalla\, Skye i další statečné pejsky\, kteří předvedou napínavý příběh v doprovodu pohádkové atmosféry 🌈 \nMuzikál Tlapkové patroly vykouzlí úsměv na tváři každému dítěti a nabídne jedinečnou možnost zažít jejich dobrodružství naživo! 🎭 \n🚨 POZOR! 🚨👉 JEDINÉ turné v ČR\, které se už nikdy nebude opakovat! \n🕤 Otevření sálu: od 9:30🎬 Představení: 10:00 – 11:00⏰ Konec programu: přibližně v 11:30 \nNepropásněte tuto jedinečnou příležitost a zajistěte si své vstupenky včas! 🎟️🌟 \n\nTento tip na kulturní akci v Frýdek-Místek najdete v přehledu na Dnesnivylet.cz spolu s dalšími koncerty\, festivaly a divadelními představeními.Každý si vybere co se mu líbí. Nezapomeňte koupit vstupenky včas\, stačí kliknout a budete přesměrování na oficiálního prodejce vstupenek.
URL:https://dnesnivylet.cz/event/muzikal-tlapkove-patroly-frydek-mistek/
LOCATION:Národní dům\, Frýdek-Místek\, Národní dům\, Frýdek-Místek\, Česká republika
CATEGORIES:Zábava
ATTACH;FMTTYPE=image/jpeg:https://dnesnivylet.cz/wp-content/uploads/2025/11/320-d7721e406d8b46538d3dde355331dc3f.jpg
END:VEVENT
BEGIN:VEVENT
DTSTART;TZID=Europe/Prague:20260411T120000
DTEND;TZID=Europe/Prague:20260411T150000
DTSTAMP:20260419T194151
CREATED:20260208T144908Z
LAST-MODIFIED:20260208T144909Z
UID:17671-1775908800-1775919600@dnesnivylet.cz
SUMMARY:Natural Wine Fest 2026
DESCRIPTION:Natural Wine Fest 2026 se uskuteční dne 2026-04-11 v 12:00 v Brno\, Opatství Staré Brno. \n🎟️ Koupit vstupenku \n\nZveme vás na další ročník NWF v Brně! \n//  for ENG scroll down  // \nA je to tady\, blíží se 6. ročník největšího moravského festivalu přírodních vín. Do Brna se chystá přijet a představit svá vína až na osm desítek výjimečných vinařských osobností nejen z Moravy a Čech\, ale i celé Evropy. \nUžili jste si předchozí dva ročníky v prostorech Augustiánského opatství na Mendlově náměstí? Tak to vám uděláme radost\, protože se tam vrátíme i nyní. \nNa co se můžete těšit?– neomezená volná degustace všech vín (až 600 vzorků) v rámci jedné vstupenky– osobní účast 80+ vinařů a vinařek včetně věhlasných jmen\, která jen tak nepotkáte– výběr z té nejlepší brněnské gastronomie– páteční warm-up party a sobotní afterparty s vinaři– pofestivalová sleva na nákup vín v Natural Wine Shopu \nSeznam aktuálně potvrzených vinařství budeme zveřejňovat na stránkách festivalu od ledna. \nVSTUPENKY \n1. vlna v prodeji od 1.12. do 31.12. za 990 Kč2. vlna v prodeji od 1.1. do 28.2. za 1190 Kč3. vlna v prodeji od 1.3. do 10.4. za 1290 Kč \nOhledně možností vstupů pro profesionály z vinného a gastro odvětví nás kontaktujte přímo na: info@naturalwinefest.cz \nV ceně vstupného je neomezená konzumace prezentovaných vín v čase 12:00 – 19:00. Prodej vstupenek probíhá do jejich vyprodání – kapacita je omezená. \nAktuality a organizační informace můžete sledovat na našem Instagramu nebo v události na Facebooku. Průběžně budeme zveřejňovat jména potvrzených vinařství\, která se oproti minulým ročníkům zase trochu obmění\, a tak bude rozhodně co objevovat. \nTěšíme se na viděnou v sobotu 11. dubna\, \nNWF tým \nStránky festivalu: www.naturalwinefest.cz \nFestival organizuje brněnský distributor a prodejce přírodních vín Natural Wine Shop: www.naturalwineshop.cz \nAkce se uskutečňuje pod záštitou primátorky statutárního města Brna JUDr. Markéty Vaňkové a za finanční podpory statutárního města Brna. \n\nTento tip na kulturní akci v Brno najdete v přehledu na Dnesnivylet.cz spolu s dalšími koncerty\, festivaly a divadelními představeními.Každý si vybere co se mu líbí. Nezapomeňte koupit vstupenky včas\, stačí kliknout a budete přesměrování na oficiálního prodejce vstupenek.
URL:https://dnesnivylet.cz/event/natural-wine-fest-2026/
LOCATION:Opatství Staré Brno\, Brno\, Opatství Staré Brno\, Brno\, Česká republika
CATEGORIES:Zábava
ATTACH;FMTTYPE=image/jpeg:https://dnesnivylet.cz/wp-content/uploads/2026/02/320-afef03ce565b48d384c2518167d68b12.jpg
END:VEVENT
BEGIN:VEVENT
DTSTART;TZID=Europe/Prague:20260411T180000
DTEND;TZID=Europe/Prague:20260411T210000
DTSTAMP:20260419T194151
CREATED:20260405T130344Z
LAST-MODIFIED:20260405T130344Z
UID:20216-1775930400-1775941200@dnesnivylet.cz
SUMMARY:Hovory ze země naživo
DESCRIPTION:Hovory ze země naživo se uskuteční dne 2026-04-11 v 18:00 v Tábor\, Univerzita. \n🎟️ Koupit vstupenku \n\nSetkání a povídání se Štěpánem a Melanie Mějkovými proběhne v duchu bylinkaření\, detoxikaci organismu\, psychické rovnováze\, dentosofii o tom jak vidí svět. Popovídáme si společně o jejich cestě\, která může druhé inspirovat.Jako další host bude přítomen Dominik Mrvík se kterým se podíváme více do hloubky naší společnosti\, ve které žijeme a jakými mechanismy se řídí. O symbolismu a o tom proč mu věnovat důležitou pozoronost. Nebude chybět ani téma toho\, jak vnímá svět ve kterém žije a jak je historie záměrným způsobem manipulována. Během tohoto setkání si spolu i zazpíváme a zahrajeme .O hudební kulisu se postará Marek Jelínek a Matěj Šťastko. Těšíme se.  \n\nTento tip na kulturní akci v Tábor najdete v přehledu na Dnesnivylet.cz spolu s dalšími koncerty\, festivaly a divadelními představeními.Každý si vybere co se mu líbí. Nezapomeňte koupit vstupenky včas\, stačí kliknout a budete přesměrování na oficiálního prodejce vstupenek.
URL:https://dnesnivylet.cz/event/hovory-ze-zeme-nazivo-3/
LOCATION:Univerzita\, Tábor\, Univerzita\, Tábor\, Česká republika
CATEGORIES:Zábava
ATTACH;FMTTYPE=image/jpeg:https://dnesnivylet.cz/wp-content/uploads/2026/04/320-1556ac44c5b04ee9a66a99f34aa4aba8.jpg
END:VEVENT
BEGIN:VEVENT
DTSTART;TZID=Europe/Prague:20260411T183000
DTEND;TZID=Europe/Prague:20260411T213000
DTSTAMP:20260419T194151
CREATED:20260404T180155Z
LAST-MODIFIED:20260404T180156Z
UID:20077-1775932200-1775943000@dnesnivylet.cz
SUMMARY:Předmájová veselice - oslava pěstounských srdcí
DESCRIPTION:Předmájová veselice – oslava pěstounských srdcí se uskuteční dne 2026-04-11 v 18:30 v Olomouc\, RCO. \n🎟️ Koupit vstupenku \n\nPŘEDMÁJOVÁ VESELICE – oslava pěstounských srdcí \n4. ročník \nNáruč dětem vás srdečně zve na Předmájovou veselici\, slavnostní večer věnovaný pěstounství\, vděku a společnému setkání lidí s otevřeným srdcem. Přijďte se s námi pobavit\, potkat inspirativní osobnosti a oslavit ty\, kteří dávají dětem domov\, lásku a bezpečí. \nVečerem vás provede Simona Babčáková\, která přinese humor\, nadhled i lidskost. O hudební doprovod k tanci i poslechu se postará kapela The Gardeners. Čeká vás příjemná atmosféra\, prostor pro setkání i program plný milých překvapení. Můžete se také těšit na vystoupení vícenásobného mistra ve Slampoetry Jury Juráně a na taneční vystoupení studia Tomáše Komendy. Samozřejmě nebude chybět ani tombola. \nPěstounství si zaslouží víc pozornosti – pojďme o něm mluvit\, slavit ho a poděkovat těm\, kteří se této náročné a krásné role ujali. \nDress code: neformálníOtevření sálu: od 18:30Zahájení: 19:00  \nCena vstupenky na místě: 400 Kč \nAkci pořádá Náruč dětem\, z.s. za podpory Nadace Heleny Morávkové. \nZároveň se koná pod záštitou hejtmana Olomouckého kraje pana Ladislava Oklešťka a pana JUDr. Martina Škůrka\, Ph.D.\, náměstka hejtmana pro sociální oblast a záležitosti seniorů. \nTěšíme se na společně strávený večer plný radosti\, hudby a lidské blízkosti. \n\nTento tip na kulturní akci v Olomouc najdete v přehledu na Dnesnivylet.cz spolu s dalšími koncerty\, festivaly a divadelními představeními.Každý si vybere co se mu líbí. Nezapomeňte koupit vstupenky včas\, stačí kliknout a budete přesměrování na oficiálního prodejce vstupenek.
URL:https://dnesnivylet.cz/event/predmajova-veselice-oslava-pestounskych-srdci/
LOCATION:RCO\, Olomouc\, RCO\, Olomouc\, Česká republika
CATEGORIES:Zábava
ATTACH;FMTTYPE=image/jpeg:https://dnesnivylet.cz/wp-content/uploads/2026/04/320-de0a6d8826384ff5a4bced462ebae82b.jpg
END:VEVENT
BEGIN:VEVENT
DTSTART;TZID=Europe/Prague:20260411T190000
DTEND;TZID=Europe/Prague:20260411T220000
DTSTAMP:20260419T194151
CREATED:20260103T100612Z
LAST-MODIFIED:20260103T100612Z
UID:16231-1775934000-1775944800@dnesnivylet.cz
SUMMARY:Mafie na podpatcích
DESCRIPTION:Mafie na podpatcích se uskuteční dne 2026-04-11 v 19:00 v Brno\, Cabaret des Péchés. \n🎟️ Koupit vstupenku \n\nMafie na podpatcích: Bladed Heels \nKabaret\, co tě odrovná. \nRok 1927. Londýn. Elegance\, zločin a třpyt burlesky. V klubu plném svůdných tanečnic a podezřelých úsměvů se rozehrává příběh\, kde vysoké podpatky klapou jako výstřely a každé mrknutí oka může být poslední varování. Diváci od začátku tuší: někdo ukradl vzácný safír – a kufřík s ním se pohybuje mezi postavami… i vámi. \n\n\nMadam La Rouge – burleska s ďáblem v očích a plánem v srdci \n\n\nNebezpečný boss mafie \n\n\nA jeden večer\, kde zločin voní po parfému a šampaňském \n\n\n  \nKdy začínáme: \n\nProgram: 19:00 – 23:00 ( Bar otevřen od 18:00)\nShow: 20:00\n\n  \nCo čekat: \n\n\ncelovečerní program v mafiánském stylu  \n\n\nkabaretní show s příběhem  \n\n\ninteraktivní hry – soutěže\, bingo\, kolo osudu \n\n\ntématické kostýmy\, fotokoutek a exkluzivní koktejly pro pravé mafiány \n\n\n  \nO show: \n„Mafie na podpatcích“ je parodická kabaretní show v podobě tanečního divadla a revue\, kde se mísí humor\, svůdnost a nadsázka. Děj sleduje propracovaný příběh plný intrik\, komických zvratů a stylizovaných mafiánských postav. Každý umělec ztvárňuje vlastní roli a skrze tanec\, herectví a kabaretní čísla vtahuje diváky do světa podpatků\, kouře a gangsterské elegance. \n  \nZločin nikdy nevypadal tak svůdně! \n  \nDoporučený dresscode – gangsterská elegance ve stylu 20. let – mafiánský šmrnc\, burleskní glamour a večerní outfit\, který by obstál v londýnském podsvětí roku 1927 \nShow je určena výhradně pro publikum starší 18 let – vstup osobám mladším 18 let není povolen \nUpozornění pro divákyTato inscenace obsahuje světelné efekty\, včetně stroboskopických záblesků a rychle se měnících světelných sekvencí. U osob s fotosenzitivní epilepsií nebo zvýšenou citlivostí na intenzivní světelné podněty mohou tyto efekty vyvolat nepříznivé zdravotní reakce. Divákům\, kterých by se tato skutečnost mohla týkat\, se doporučuje zvýšená opatrnost. \n\nTento tip na kulturní akci v Brno najdete v přehledu na Dnesnivylet.cz spolu s dalšími koncerty\, festivaly a divadelními představeními.Každý si vybere co se mu líbí. Nezapomeňte koupit vstupenky včas\, stačí kliknout a budete přesměrování na oficiálního prodejce vstupenek.
URL:https://dnesnivylet.cz/event/mafie-na-podpatcich-9/
LOCATION:Cabaret des Péchés\, Brno\, Cabaret des Péchés\, Brno\, Česká republika
CATEGORIES:Zábava
ATTACH;FMTTYPE=image/jpeg:https://dnesnivylet.cz/wp-content/uploads/2026/01/320-2161a7f09a764209bc4148791d244c17.jpg
END:VEVENT
END:VCALENDAR