BEGIN:VCALENDAR
VERSION:2.0
PRODID:-//www.dnesnivylet.cz                                                                                                                        Tip na výlet pro celou rodinu. - ECPv6.15.13.1//NONSGML v1.0//EN
CALSCALE:GREGORIAN
METHOD:PUBLISH
X-WR-CALNAME:www.dnesnivylet.cz                                                                                                                        Tip na výlet pro celou rodinu.
X-ORIGINAL-URL:https://dnesnivylet.cz
X-WR-CALDESC:Akce na www.dnesnivylet.cz                                                                                                                        Tip na výlet pro celou rodinu.
REFRESH-INTERVAL;VALUE=DURATION:PT1H
X-Robots-Tag:noindex
X-PUBLISHED-TTL:PT1H
BEGIN:VTIMEZONE
TZID:Europe/Prague
BEGIN:DAYLIGHT
TZOFFSETFROM:+0100
TZOFFSETTO:+0200
TZNAME:CEST
DTSTART:20250330T010000
END:DAYLIGHT
BEGIN:STANDARD
TZOFFSETFROM:+0200
TZOFFSETTO:+0100
TZNAME:CET
DTSTART:20251026T010000
END:STANDARD
BEGIN:DAYLIGHT
TZOFFSETFROM:+0100
TZOFFSETTO:+0200
TZNAME:CEST
DTSTART:20260329T010000
END:DAYLIGHT
BEGIN:STANDARD
TZOFFSETFROM:+0200
TZOFFSETTO:+0100
TZNAME:CET
DTSTART:20261025T010000
END:STANDARD
BEGIN:DAYLIGHT
TZOFFSETFROM:+0100
TZOFFSETTO:+0200
TZNAME:CEST
DTSTART:20270328T010000
END:DAYLIGHT
BEGIN:STANDARD
TZOFFSETFROM:+0200
TZOFFSETTO:+0100
TZNAME:CET
DTSTART:20271031T010000
END:STANDARD
END:VTIMEZONE
BEGIN:VEVENT
DTSTART;TZID=Europe/Prague:20260424T180000
DTEND;TZID=Europe/Prague:20260424T210000
DTSTAMP:20260419T194152
CREATED:20260404T175459Z
LAST-MODIFIED:20260404T175459Z
UID:20020-1777053600-1777064400@dnesnivylet.cz
SUMMARY:Škola čepování piva v Rodinném pivovaru Bernard
DESCRIPTION:Škola čepování piva v Rodinném pivovaru Bernard se uskuteční dne 2026-04-24 v 18:00 v Humpolec\, Návštěvnické centrum Bernard. \n🎟️ Koupit vstupenku \n\nČepujte jako profík! Jak poznat dobré pivo\, jak připravit sklo na pivo\, co je to šnyt\, hladinka\, čochtan a mlíko\, jak poladit výčep\, aby všechno perfektně chodilo… \nVšechno si tu v pohodě vyzkoušíte\, poradíme\, podpoříme\, trénovat pak můžete doma nebo vám to dovolí váš hospodský. \nOtevíráme školu čepování pro veřejnost – ideální pro všechny milovníky piva! \nNaučíme vás vše potřebné\, vypijete si\, co jste si načepovali\, pobavíte se a získáte certifikát o absolvované škole čepování. Prostě zážitek k nezaplacení. \nŠkola čepování bude podle počtu účastníků trvat 90–120 minut. Cena zahrnuje drobné občerstvení. \nVstupenky na konkrétní termíny pořídíte jednoduše online nebo na recepci centra každý den od 9 do 20 hodin. \nTěšíme se na vás. \n\nTento tip na kulturní akci v Humpolec najdete v přehledu na Dnesnivylet.cz spolu s dalšími koncerty\, festivaly a divadelními představeními.Každý si vybere co se mu líbí. Nezapomeňte koupit vstupenky včas\, stačí kliknout a budete přesměrování na oficiálního prodejce vstupenek.
URL:https://dnesnivylet.cz/event/skola-cepovani-piva-v-rodinnem-pivovaru-bernard-2/
LOCATION:Návštěvnické centrum Bernard\, Humpolec\, Návštěvnické centrum Bernard\, Humpolec\, Česká republika
CATEGORIES:Zábava
ATTACH;FMTTYPE=image/jpeg:https://dnesnivylet.cz/wp-content/uploads/2026/04/320-0dc3cae70fbd42659458a347d7422b5b.jpg
END:VEVENT
BEGIN:VEVENT
DTSTART;TZID=Europe/Prague:20260424T190000
DTEND;TZID=Europe/Prague:20260424T220000
DTSTAMP:20260419T194152
CREATED:20251214T073110Z
LAST-MODIFIED:20251214T073110Z
UID:15203-1777057200-1777068000@dnesnivylet.cz
SUMMARY:Travesti show Divoké kočky v KD Nýřany
DESCRIPTION:Travesti show Divoké kočky v KD Nýřany se uskuteční dne 2026-04-24 v 19:00 v Nýřany\, Společenské a kulturní centrum. \n🎟️ Koupit vstupenku \n\nTravesti skupina Divoké kočky z Ostravy přijíždí se svým novým programem do kulturního domu Nýřany\, kde vystoupí 24.4.2026 v 19:00 pro své věrné publikum a diváky ze širokého okolí. \nSkupina Divoké kočky do západních Čech jezdí od roku 2010 a pravidelně vystupuje v okolí Plzně. \nCelovečerní zábavný program je plný nezapomenutelných legračních scének\, písniček\, známých zpěvaček\, krásných kostýmů\, situačního humoru\, smíchu a je vhodný jak pro ženské tak pánské publikum. Jejich vystoupení se těší stálé větší oblibě a tak si každý divák přijde na své. Přijdte se sami přesvědčit\, že na travesti představení není nic špatného a v podání ostravských umělců se budete určitě dobře bavit. \nDivoké kočky v Nýřanech již několikrát učinkovali se svým celovečerním programem\, a proto se těší opět na úžasné místní publikum\, atmosféru a skvělý večer. \nNa závěr programu Vám členové souboru ukážou svou pravou tvář. \n\nTento tip na kulturní akci v Nýřany najdete v přehledu na Dnesnivylet.cz spolu s dalšími koncerty\, festivaly a divadelními představeními.Každý si vybere co se mu líbí. Nezapomeňte koupit vstupenky včas\, stačí kliknout a budete přesměrování na oficiálního prodejce vstupenek.
URL:https://dnesnivylet.cz/event/travesti-show-divoke-kocky-v-kd-nyrany/
LOCATION:Společenské a kulturní centrum\, Nýřany\, Společenské a kulturní centrum\, Nýřany\, Česká republika
CATEGORIES:Zábava
ATTACH;FMTTYPE=image/jpeg:https://dnesnivylet.cz/wp-content/uploads/2025/12/320-f4712fc902be4d39972605cff8ca32ba.jpg
END:VEVENT
BEGIN:VEVENT
DTSTART;TZID=Europe/Prague:20260424T190000
DTEND;TZID=Europe/Prague:20260424T220000
DTSTAMP:20260419T194152
CREATED:20251215T162643Z
LAST-MODIFIED:20251215T162643Z
UID:15683-1777057200-1777068000@dnesnivylet.cz
SUMMARY:IVO ŠMOLDAS  s hosty
DESCRIPTION:IVO ŠMOLDAS  s hosty se uskuteční dne 2026-04-24 v 19:00 v Opava\, Kulturní dům Na Rybníčku. \n🎟️ Koupit vstupenku \n\nPořad je založený na humorném a originálním vyprávění životních příběhů jak ze soukromého\, tak pracovního života Ivo Šmoldase a hostů Petra Jablonského a Lukáše Langmajera.  \n\nTento tip na kulturní akci v Opava najdete v přehledu na Dnesnivylet.cz spolu s dalšími koncerty\, festivaly a divadelními představeními.Každý si vybere co se mu líbí. Nezapomeňte koupit vstupenky včas\, stačí kliknout a budete přesměrování na oficiálního prodejce vstupenek.
URL:https://dnesnivylet.cz/event/ivo-smoldas-s-hosty/
LOCATION:Kulturní dům Na Rybníčku\, Opava\, Kulturní dům Na Rybníčku\, Opava\, Česká republika
CATEGORIES:Zábava
ATTACH;FMTTYPE=image/jpeg:https://dnesnivylet.cz/wp-content/uploads/2025/12/320-a185a4782d054c71bdda5af22a07c50c.jpg
END:VEVENT
BEGIN:VEVENT
DTSTART;TZID=Europe/Prague:20260424T190000
DTEND;TZID=Europe/Prague:20260424T220000
DTSTAMP:20260419T194152
CREATED:20251222T145338Z
LAST-MODIFIED:20251222T145338Z
UID:15874-1777057200-1777068000@dnesnivylet.cz
SUMMARY:Mafie na podpatcích
DESCRIPTION:Mafie na podpatcích se uskuteční dne 2026-04-24 v 19:00 v Brno\, Cabaret des Péchés. \n🎟️ Koupit vstupenku \n\nMafie na podpatcích: Bladed Heels \nKabaret\, co tě odrovná. \nRok 1927. Londýn. Elegance\, zločin a třpyt burlesky. V klubu plném svůdných tanečnic a podezřelých úsměvů se rozehrává příběh\, kde vysoké podpatky klapou jako výstřely a každé mrknutí oka může být poslední varování. Diváci od začátku tuší: někdo ukradl vzácný safír – a kufřík s ním se pohybuje mezi postavami… i vámi. \n\n\nMadam La Rouge – burleska s ďáblem v očích a plánem v srdci \n\n\nNebezpečný boss mafie \n\n\nA jeden večer\, kde zločin voní po parfému a šampaňském \n\n\n  \nKdy začínáme: \n\nProgram: 19:00 – 23:00 ( Bar otevřen od 18:00)\nShow: 20:00\n\n  \nCo čekat: \n\n\ncelovečerní program v mafiánském stylu  \n\n\nkabaretní show s příběhem  \n\n\ninteraktivní hry – soutěže\, bingo\, kolo osudu \n\n\ntématické kostýmy\, fotokoutek a exkluzivní koktejly pro pravé mafiány \n\n\n  \nO show: \n„Mafie na podpatcích“ je parodická kabaretní show v podobě tanečního divadla a revue\, kde se mísí humor\, svůdnost a nadsázka. Děj sleduje propracovaný příběh plný intrik\, komických zvratů a stylizovaných mafiánských postav. Každý umělec ztvárňuje vlastní roli a skrze tanec\, herectví a kabaretní čísla vtahuje diváky do světa podpatků\, kouře a gangsterské elegance. \n  \nZločin nikdy nevypadal tak svůdně! \n  \nUpozornění pro divákyTato inscenace obsahuje světelné efekty\, včetně stroboskopických záblesků a rychle se měnících světelných sekvencí. U osob s fotosenzitivní epilepsií nebo zvýšenou citlivostí na intenzivní světelné podněty mohou tyto efekty vyvolat nepříznivé zdravotní reakce. Divákům\, kterých by se tato skutečnost mohla týkat\, se doporučuje zvýšená opatrnost. \n\nTento tip na kulturní akci v Brno najdete v přehledu na Dnesnivylet.cz spolu s dalšími koncerty\, festivaly a divadelními představeními.Každý si vybere co se mu líbí. Nezapomeňte koupit vstupenky včas\, stačí kliknout a budete přesměrování na oficiálního prodejce vstupenek.
URL:https://dnesnivylet.cz/event/mafie-na-podpatcich-6/
LOCATION:Cabaret des Péchés\, Brno\, Cabaret des Péchés\, Brno\, Česká republika
CATEGORIES:Zábava
ATTACH;FMTTYPE=image/jpeg:https://dnesnivylet.cz/wp-content/uploads/2025/12/320-4bea6a4f6e264d708060de66180a3f5c.jpg
END:VEVENT
END:VCALENDAR