BEGIN:VCALENDAR
VERSION:2.0
PRODID:-//www.dnesnivylet.cz                                                                                                                        Tip na výlet pro celou rodinu. - ECPv6.15.13.1//NONSGML v1.0//EN
CALSCALE:GREGORIAN
METHOD:PUBLISH
X-WR-CALNAME:www.dnesnivylet.cz                                                                                                                        Tip na výlet pro celou rodinu.
X-ORIGINAL-URL:https://dnesnivylet.cz
X-WR-CALDESC:Akce na www.dnesnivylet.cz                                                                                                                        Tip na výlet pro celou rodinu.
REFRESH-INTERVAL;VALUE=DURATION:PT1H
X-Robots-Tag:noindex
X-PUBLISHED-TTL:PT1H
BEGIN:VTIMEZONE
TZID:Europe/Prague
BEGIN:DAYLIGHT
TZOFFSETFROM:+0100
TZOFFSETTO:+0200
TZNAME:CEST
DTSTART:20250330T010000
END:DAYLIGHT
BEGIN:STANDARD
TZOFFSETFROM:+0200
TZOFFSETTO:+0100
TZNAME:CET
DTSTART:20251026T010000
END:STANDARD
BEGIN:DAYLIGHT
TZOFFSETFROM:+0100
TZOFFSETTO:+0200
TZNAME:CEST
DTSTART:20260329T010000
END:DAYLIGHT
BEGIN:STANDARD
TZOFFSETFROM:+0200
TZOFFSETTO:+0100
TZNAME:CET
DTSTART:20261025T010000
END:STANDARD
BEGIN:DAYLIGHT
TZOFFSETFROM:+0100
TZOFFSETTO:+0200
TZNAME:CEST
DTSTART:20270328T010000
END:DAYLIGHT
BEGIN:STANDARD
TZOFFSETFROM:+0200
TZOFFSETTO:+0100
TZNAME:CET
DTSTART:20271031T010000
END:STANDARD
END:VTIMEZONE
BEGIN:VEVENT
DTSTART;TZID=Europe/Prague:20260425T080000
DTEND;TZID=Europe/Prague:20260425T110000
DTSTAMP:20260419T194151
CREATED:20260419T122710Z
LAST-MODIFIED:20260419T122710Z
UID:20973-1777104000-1777114800@dnesnivylet.cz
SUMMARY:Amateur Jump Tour - Hořovice
DESCRIPTION:Amateur Jump Tour – Hořovice se uskuteční dne 2026-04-25 v 08:00 v Hořovice\, Ranch Hořovice. \n🎟️ Koupit vstupenku \n\nS potěšením Vás zveme na jedinečnou událost v jezdeckém kalendáři roku 2026 – Amateur Jump Tour\, která se koná v krásném prostředí areálu Ranch Hořovice ve dnech 25. – 26. dubna. \nTato prestižní soutěž v parkurovém skákání přivítá jezdce všech úrovní a slibuje nezapomenutelné zážitky pro všechny milovníky jezdeckého sportu. \nTěšit se můžete na napínavé soutěže\, kde se představí děti\, junioři a talentovaní amatéři\, kteří předvedou své dovednosti na překážkách různé obtížnosti až do výšky parkurů 130 cm \nNenechte si ujít příležitost být součástí této výjimečné akce\, která nabízí nejen soutěžní vzrušení\, ale také skvělou příležitost k navázání nových kontaktů v jezdecké komunitě. \n  \n\nTento tip na kulturní akci v Hořovice najdete v přehledu na Dnesnivylet.cz spolu s dalšími koncerty\, festivaly a divadelními představeními.Každý si vybere co se mu líbí. Nezapomeňte koupit vstupenky včas\, stačí kliknout a budete přesměrování na oficiálního prodejce vstupenek.
URL:https://dnesnivylet.cz/event/amateur-jump-tour-horovice/
LOCATION:Ranch Hořovice\, Hořovice\, Ranch Hořovice\, Hořovice\, Česká republika
CATEGORIES:Zábava
ATTACH;FMTTYPE=image/jpeg:https://dnesnivylet.cz/wp-content/uploads/2026/04/320-fd4f201de0ea4e8699dc1a03ad3f7c8e.jpg
END:VEVENT
BEGIN:VEVENT
DTSTART;TZID=Europe/Prague:20260425T100000
DTEND;TZID=Europe/Prague:20260425T130000
DTSTAMP:20260419T194151
CREATED:20251107T092936Z
LAST-MODIFIED:20251107T092936Z
UID:12819-1777111200-1777122000@dnesnivylet.cz
SUMMARY:Muzikál Tlapkové patroly | ČELÁKOVICE
DESCRIPTION:Muzikál Tlapkové patroly | ČELÁKOVICE se uskuteční dne 2026-04-25 v 10:00 v Čelákovice\, KD Čelákovice. \n🎟️ Koupit vstupenku \n\nOblíbení hrdinové z Tlapkové patroly se chystají na své jediné rodinné muzikálové turné v České republice\, které se už nikdy nebude opakovat!Populární psí záchranáři přinášejí show\, která nadchne malé i velké diváky.🐶 \nČeká vás nezapomenutelný rodinný muzikál plný hudby\, tance a dobrodružství!Děti se mohou těšit na Chase\, Marshalla\, Skye i další statečné pejsky\, kteří předvedou napínavý příběh v doprovodu pohádkové atmosféry 🌈 \nMuzikál Tlapkové patroly vykouzlí úsměv na tváři každému dítěti a nabídne jedinečnou možnost zažít jejich dobrodružství naživo! 🎭 \n🚨 POZOR! 🚨👉 JEDINÉ turné v ČR\, které se už nikdy nebude opakovat! \n🕤 Otevření sálu: od 9:30🎬 Představení: 10:00 – 11:00⏰ Konec programu: přibližně v 11:30 \nNepropásněte tuto jedinečnou příležitost a zajistěte si své vstupenky včas! 🎟️🌟 \n\nTento tip na kulturní akci v Čelákovice najdete v přehledu na Dnesnivylet.cz spolu s dalšími koncerty\, festivaly a divadelními představeními.Každý si vybere co se mu líbí. Nezapomeňte koupit vstupenky včas\, stačí kliknout a budete přesměrování na oficiálního prodejce vstupenek.
URL:https://dnesnivylet.cz/event/muzikal-tlapkove-patroly-celakovice/
LOCATION:KD Čelákovice\, Čelákovice\, KD Čelákovice\, Čelákovice\, Česká republika
CATEGORIES:Zábava
ATTACH;FMTTYPE=image/jpeg:https://dnesnivylet.cz/wp-content/uploads/2025/11/320-b5111ded380144718760fae53f890f60.jpg
END:VEVENT
BEGIN:VEVENT
DTSTART;TZID=Europe/Prague:20260425T100000
DTEND;TZID=Europe/Prague:20260425T130000
DTSTAMP:20260419T194151
CREATED:20260321T195241Z
LAST-MODIFIED:20260321T195241Z
UID:19685-1777111200-1777122000@dnesnivylet.cz
SUMMARY:Mezinárodní výstava Kočky Praha 2026
DESCRIPTION:Mezinárodní výstava Kočky Praha 2026 se uskuteční dne 2026-04-25 v 10:00 v Praha\, Kongresové centrum TOP hotel Praha. \n🎟️ Koupit vstupenku \n\nPropagační výstava koček je určena pro všechny milovníky koček\, kteří si chtějí kočky nejen prohlédnout\, ale i pohladit. Pro děti bude tradičně připraveno mnoho zábavy\, soutěží a radosti s kočičí tématikou. \nPro širokou veřejnost pak samostatná útulková expozice\, vzdělávací přednášky\, ukázky felinoterapie a výcviku koček atd. \n\nTento tip na kulturní akci v Praha najdete v přehledu na Dnesnivylet.cz spolu s dalšími koncerty\, festivaly a divadelními představeními.Každý si vybere co se mu líbí. Nezapomeňte koupit vstupenky včas\, stačí kliknout a budete přesměrování na oficiálního prodejce vstupenek.
URL:https://dnesnivylet.cz/event/mezinarodni-vystava-kocky-praha-2026/
LOCATION:Kongresové centrum TOP hotel Praha\, Praha\, Kongresové centrum TOP hotel Praha\, Praha\, Česká republika
CATEGORIES:Zábava
ATTACH;FMTTYPE=image/jpeg:https://dnesnivylet.cz/wp-content/uploads/2026/03/320-b1c02955838545f1b42c53908f23ec03.jpg
END:VEVENT
BEGIN:VEVENT
DTSTART;TZID=Europe/Prague:20260425T190000
DTEND;TZID=Europe/Prague:20260425T220000
DTSTAMP:20260419T194151
CREATED:20251214T083538Z
LAST-MODIFIED:20251214T083538Z
UID:15407-1777143600-1777154400@dnesnivylet.cz
SUMMARY:ŠESTÝ SMYSL
DESCRIPTION:ŠESTÝ SMYSL se uskuteční dne 2026-04-25 v 19:00 v Brno\, Cabaret des Péchés. \n🎟️ Koupit vstupenku \n\nŠESTÝ SMYSL — NEJVĚTŠÍ ŽENSKÁ SHOW V CABARETU DES PÉCHÉS!  \nVstupte do světa\, kde se ženské tajemství stává hlavní zbraní a fantazie realitou. Cabaret des Péchés uvádí svou dosud nejodvážnější a nejvíc sexy show: ŠESTÝ SMYSL. \nVečer plný ženských paradoxů\, tajemství a rafinovaného humoru\, který vás vtáhne do hlubin ženského myšlení – i když mu možná nikdy úplně neporozumíte. \n Těšte se na:  \n• smyslné tanečnice  \n• živý zpěv  \n• dechberoucí akrobacii  \n• svůdnou burlesku  \n• extravagantní drag show \n• interaktivní část \n• věštbu vašich osudů \n  \nBěhem večera budete mít možnost navštívit i tajemnou interaktivní část\, která vás donutí zamyslet se na důležitostí každého smyslu. Připravte se\, že ženská logika vás vtáhne do hry! \nA navíc – jen ti nejodvážnější okusí pokušení nahlédnout do budoucnosti. V ceně vstupenky je možnost setkání s věštkyní\, která vám bez zábran odkryje váš osud… pokud si troufnete. \nCelým večerem vás provede okouzlující moderátorka Daina Divad.  \n  \nŠESTÝ SMYSL není jen show — je to zážitek\, na který se nezapomíná. Připravte se na noc\, kdy zjistíte\, že ženy možná nemají vždy pravdu… ale rozhodně vždy vědí proč. \n  \nVšechny interaktivní aktivity i věštby berte\, prosím\, s nadhledem a špetkou humoru. Nejedná se o skutečné předtuchy\, ale o součást jedinečné show. \n  \nUpozornění pro divákyTato inscenace obsahuje světelné efekty\, včetně stroboskopických záblesků a rychle se měnících světelných sekvencí. U osob s fotosenzitivní epilepsií nebo zvýšenou citlivostí na intenzivní světelné podněty mohou tyto efekty vyvolat nepříznivé zdravotní reakce. Divákům\, kterých by se tato skutečnost mohla týkat\, se doporučuje zvýšená opatrnost. \n\nTento tip na kulturní akci v Brno najdete v přehledu na Dnesnivylet.cz spolu s dalšími koncerty\, festivaly a divadelními představeními.Každý si vybere co se mu líbí. Nezapomeňte koupit vstupenky včas\, stačí kliknout a budete přesměrování na oficiálního prodejce vstupenek.
URL:https://dnesnivylet.cz/event/sesty-smysl-7/
LOCATION:Cabaret des Péchés\, Brno\, Cabaret des Péchés\, Brno\, Česká republika
CATEGORIES:Zábava
ATTACH;FMTTYPE=image/jpeg:https://dnesnivylet.cz/wp-content/uploads/2025/12/320-fb5f7a2c7b5848298b13a4e66db7e893.jpg
END:VEVENT
BEGIN:VEVENT
DTSTART;TZID=Europe/Prague:20260425T190000
DTEND;TZID=Europe/Prague:20260425T220000
DTSTAMP:20260419T194151
CREATED:20260419T121253Z
LAST-MODIFIED:20260419T121254Z
UID:20789-1777143600-1777154400@dnesnivylet.cz
SUMMARY:One man show Jardy Krušiny
DESCRIPTION:One man show Jardy Krušiny  se uskuteční dne 2026-04-25 v 19:00 v Hradec Králové\, Kongresové centrum ALDIS. \n🎟️ Koupit vstupenku \n\nTentokrát v kongresovém centru ALDIS v Hradci Králové\, vystoupí Jarda Krušina ( stárnoucí fotr) se svou Stand Up show. Dvě hodinky plné energie a hlavně humoru\, který nezná hranic. \nTrojnásobný vítěz Na Stojáka akademie a dlouholetý Stand up komik. Zažijete spoustu sarkasmu a nečekaných zvratů. Staňte se součástí natáčení jeho DVD. Slzy smíchy a namožene bránice jsou tím pravým kořením. \n\nTento tip na kulturní akci v Hradec Králové najdete v přehledu na Dnesnivylet.cz spolu s dalšími koncerty\, festivaly a divadelními představeními.Každý si vybere co se mu líbí. Nezapomeňte koupit vstupenky včas\, stačí kliknout a budete přesměrování na oficiálního prodejce vstupenek.
URL:https://dnesnivylet.cz/event/one-man-show-jardy-krusiny/
LOCATION:Kongresové centrum ALDIS\, Hradec Králové\, Kongresové centrum ALDIS\, Hradec Králové\, Česká republika
CATEGORIES:Zábava
ATTACH;FMTTYPE=image/jpeg:https://dnesnivylet.cz/wp-content/uploads/2026/04/320-0136eff33f95452997ba890436c17d00.jpg
END:VEVENT
END:VCALENDAR