BEGIN:VCALENDAR
VERSION:2.0
PRODID:-//www.dnesnivylet.cz                                                                                                                        Tip na výlet pro celou rodinu. - ECPv6.15.13.1//NONSGML v1.0//EN
CALSCALE:GREGORIAN
METHOD:PUBLISH
X-WR-CALNAME:www.dnesnivylet.cz                                                                                                                        Tip na výlet pro celou rodinu.
X-ORIGINAL-URL:https://dnesnivylet.cz
X-WR-CALDESC:Akce na www.dnesnivylet.cz                                                                                                                        Tip na výlet pro celou rodinu.
REFRESH-INTERVAL;VALUE=DURATION:PT1H
X-Robots-Tag:noindex
X-PUBLISHED-TTL:PT1H
BEGIN:VTIMEZONE
TZID:Europe/Prague
BEGIN:DAYLIGHT
TZOFFSETFROM:+0100
TZOFFSETTO:+0200
TZNAME:CEST
DTSTART:20250330T010000
END:DAYLIGHT
BEGIN:STANDARD
TZOFFSETFROM:+0200
TZOFFSETTO:+0100
TZNAME:CET
DTSTART:20251026T010000
END:STANDARD
BEGIN:DAYLIGHT
TZOFFSETFROM:+0100
TZOFFSETTO:+0200
TZNAME:CEST
DTSTART:20260329T010000
END:DAYLIGHT
BEGIN:STANDARD
TZOFFSETFROM:+0200
TZOFFSETTO:+0100
TZNAME:CET
DTSTART:20261025T010000
END:STANDARD
BEGIN:DAYLIGHT
TZOFFSETFROM:+0100
TZOFFSETTO:+0200
TZNAME:CEST
DTSTART:20270328T010000
END:DAYLIGHT
BEGIN:STANDARD
TZOFFSETFROM:+0200
TZOFFSETTO:+0100
TZNAME:CET
DTSTART:20271031T010000
END:STANDARD
END:VTIMEZONE
BEGIN:VEVENT
DTSTART;TZID=Europe/Prague:20260427T190000
DTEND;TZID=Europe/Prague:20260427T220000
DTSTAMP:20260419T194151
CREATED:20251102T182100Z
LAST-MODIFIED:20251102T182101Z
UID:11169-1777316400-1777327200@dnesnivylet.cz
SUMMARY:TOMEŠOU 2: The best of Pavel Tomeš (stand-up speciál)
DESCRIPTION:TOMEŠOU 2: The best of Pavel Tomeš (stand-up speciál) se uskuteční dne 2026-04-27 v 19:00 v Olomouc\, Kino Metropol. \n🎟️ Koupit vstupenku \n\nTOMEŠOU 2: The best of Pavel Tomeš (stand up speciál). \nTomešou je celovečerní one man show Pavla Tomeše\, kterého můžete znát z TV pořadů Comedy club nebo Na stojáka. Tematicky pestrá stand-up comedy show\, která nabídne to nejlepší z posledních let\, prostě The best of Pavel Tomeš. Něco možná znáte\, ale chcete to slyšet naživo\, a zbytek znát určitě nebudete. \nPřijďte se od srdce zasmát. \nPokud jste byli na Tomešou\, nebojte! Tomešou 2 bude obsahovat jiné standupy.  \n\nTento tip na kulturní akci v Olomouc najdete v přehledu na Dnesnivylet.cz spolu s dalšími koncerty\, festivaly a divadelními představeními.Každý si vybere co se mu líbí. Nezapomeňte koupit vstupenky včas\, stačí kliknout a budete přesměrování na oficiálního prodejce vstupenek.
URL:https://dnesnivylet.cz/event/tomesou-2-the-best-of-pavel-tomes-stand-up-special-2/
LOCATION:Kino Metropol\, Olomouc\, Kino Metropol\, Olomouc\, Česká republika
CATEGORIES:Zábava
ATTACH;FMTTYPE=image/jpeg:https://dnesnivylet.cz/wp-content/uploads/2025/11/320-f79c1be542ff4873b611600e496a832f.jpg
END:VEVENT
BEGIN:VEVENT
DTSTART;TZID=Europe/Prague:20260427T190000
DTEND;TZID=Europe/Prague:20260427T220000
DTSTAMP:20260419T194151
CREATED:20251108T170410Z
LAST-MODIFIED:20251108T170410Z
UID:12917-1777316400-1777327200@dnesnivylet.cz
SUMMARY:Martin Hranáč - CRAZY SHOW - Plzeň
DESCRIPTION:Martin Hranáč – CRAZY SHOW – Plzeň se uskuteční dne 2026-04-27 v 19:00 v Plzeň\, Šeříkovka. \n🎟️ Koupit vstupenku \n\nChcete vstoupit do světa humoru a improvizace? Tak je CRAZY SHOW právě pro VÁS! Připravte se na nezapomenutelný večer plný smíchu s Martinem Hranáčem – komikem\, hercem\, číšníkem a optimistou\, který svým jedinečným smyslem pro humor baví lidi na sociálních sítích. Martinův příběh číšníka a jeho každodenní zážitky z gastronomie se stávají zábavným vyprávěním\, které osloví naprosto všechny. \nKaždé vystoupení je unikátní a plné improvizace\, protože Martin miluje improvizaci a scénáře mění v průběhu večera\, což občas vykolejí jeho sestru Štěpánku Šmídovou\, která mu dělá skvělou společnost během celé show. Všechny scénky a historky vychází z Martinových zkušeností a zážitků\, jak profesního\, tak soukromého života. Jeho humor je nekorektní\, sebeironický a nebojí se jít na hranu – právě to dělá jeho show nezapomenutelnou! \nNenechte si ujít tento jedinečný zážitek! Vstupenky v prodeji! \nPořad není vhodný mladším 15 let! \n\nTento tip na kulturní akci v Plzeň najdete v přehledu na Dnesnivylet.cz spolu s dalšími koncerty\, festivaly a divadelními představeními.Každý si vybere co se mu líbí. Nezapomeňte koupit vstupenky včas\, stačí kliknout a budete přesměrování na oficiálního prodejce vstupenek.
URL:https://dnesnivylet.cz/event/martin-hranac-crazy-show-plzen-3/
LOCATION:Šeřikovka\, Plzeň\, Šeřikovka\, Plzeň\, Česká republika
CATEGORIES:Zábava
ATTACH;FMTTYPE=image/jpeg:https://dnesnivylet.cz/wp-content/uploads/2025/11/320-3dfc0737ef4848cda1e84e3459fd49d9.jpg
END:VEVENT
BEGIN:VEVENT
DTSTART;TZID=Europe/Prague:20260427T190000
DTEND;TZID=Europe/Prague:20260427T220000
DTSTAMP:20260419T194151
CREATED:20251215T113726Z
LAST-MODIFIED:20251215T113726Z
UID:15519-1777316400-1777327200@dnesnivylet.cz
SUMMARY:Tigran Hovakimyan - Tigran je ve městě - Žatec
DESCRIPTION:Tigran Hovakimyan – Tigran je ve městě – Žatec se uskuteční dne 2026-04-27 v 19:00 v Žatec\, Městské divadlo. \n🎟️ Koupit vstupenku \n\nTigran Hovakimyan pochází z Arménie\, mluví čtyřmi jazyky a za sebou má pestrou škálu životních i pracovních zkušeností. Než zakotvil u stand-up comedy\, vyzkoušel řadu zaměstnání a působil jako amatérský herec v dětském divadle. Právě tam se naučil vnímat publikum\, reagovat na jeho energii a přirozeně pracovat s humorem. \nZ dětského jeviště zamířil na stand-up pódia\, kde se může spolehnout jen na sebe – a to mu vyhovuje nejvíc. V roce 2026 vyráží na svou dosud největší stand-up tour napříč Českou republikou se svým speciálem Tigran je ve městě. \nČeká vás večer plný originálního humoru\, osobitých postřehů\, nečekaných point a energie\, která vás nenechá v klidu sedět! \nNa každém vystoupení se představí jako předskokan některý z českých stand-up komiků. \n\nTento tip na kulturní akci v Žatec najdete v přehledu na Dnesnivylet.cz spolu s dalšími koncerty\, festivaly a divadelními představeními.Každý si vybere co se mu líbí. Nezapomeňte koupit vstupenky včas\, stačí kliknout a budete přesměrování na oficiálního prodejce vstupenek.
URL:https://dnesnivylet.cz/event/tigran-hovakimyan-tigran-je-ve-meste-zatec/
LOCATION:Městské divadlo\, Žatec\, Městské divadlo\, Žatec\, Česká republika
CATEGORIES:Zábava
ATTACH;FMTTYPE=image/jpeg:https://dnesnivylet.cz/wp-content/uploads/2025/12/320-12bed4eba2c94b16be299c6a460007db.jpg
END:VEVENT
END:VCALENDAR