BEGIN:VCALENDAR
VERSION:2.0
PRODID:-//www.dnesnivylet.cz                                                                                                                        Tip na výlet pro celou rodinu. - ECPv6.15.13.1//NONSGML v1.0//EN
CALSCALE:GREGORIAN
METHOD:PUBLISH
X-ORIGINAL-URL:https://dnesnivylet.cz
X-WR-CALDESC:Akce na www.dnesnivylet.cz                                                                                                                        Tip na výlet pro celou rodinu.
REFRESH-INTERVAL;VALUE=DURATION:PT1H
X-Robots-Tag:noindex
X-PUBLISHED-TTL:PT1H
BEGIN:VTIMEZONE
TZID:Europe/Prague
BEGIN:DAYLIGHT
TZOFFSETFROM:+0100
TZOFFSETTO:+0200
TZNAME:CEST
DTSTART:20250330T010000
END:DAYLIGHT
BEGIN:STANDARD
TZOFFSETFROM:+0200
TZOFFSETTO:+0100
TZNAME:CET
DTSTART:20251026T010000
END:STANDARD
BEGIN:DAYLIGHT
TZOFFSETFROM:+0100
TZOFFSETTO:+0200
TZNAME:CEST
DTSTART:20260329T010000
END:DAYLIGHT
BEGIN:STANDARD
TZOFFSETFROM:+0200
TZOFFSETTO:+0100
TZNAME:CET
DTSTART:20261025T010000
END:STANDARD
BEGIN:DAYLIGHT
TZOFFSETFROM:+0100
TZOFFSETTO:+0200
TZNAME:CEST
DTSTART:20270328T010000
END:DAYLIGHT
BEGIN:STANDARD
TZOFFSETFROM:+0200
TZOFFSETTO:+0100
TZNAME:CET
DTSTART:20271031T010000
END:STANDARD
END:VTIMEZONE
BEGIN:VEVENT
DTSTART;TZID=Europe/Prague:20260428T190000
DTEND;TZID=Europe/Prague:20260428T220000
DTSTAMP:20260419T194305
CREATED:20251105T191740Z
LAST-MODIFIED:20251105T191740Z
UID:12528-1777402800-1777413600@dnesnivylet.cz
SUMMARY:Martin Hranáč - CRAZY SHOW - Klatovy
DESCRIPTION:Martin Hranáč – CRAZY SHOW – Klatovy se uskuteční dne 2026-04-28 v 19:00 v Klatovy\, Dům kultury. \n🎟️ Koupit vstupenku \n\nChcete vstoupit do světa humoru a improvizace? Tak je CRAZY SHOW právě pro VÁS! Připravte se na nezapomenutelný večer plný smíchu s Martinem Hranáčem – komikem\, hercem\, číšníkem a optimistou\, který svým jedinečným smyslem pro humor baví lidi na sociálních sítích. Martinův příběh číšníka a jeho každodenní zážitky z gastronomie se stávají zábavným vyprávěním\, které osloví naprosto všechny. \nKaždé vystoupení je unikátní a plné improvizace\, protože Martin miluje improvizaci a scénáře mění v průběhu večera\, což občas vykolejí jeho sestru Štěpánku Šmídovou\, která mu dělá skvělou společnost během celé show. Všechny scénky a historky vychází z Martinových zkušeností a zážitků\, jak profesního\, tak soukromého života. Jeho humor je nekorektní\, sebeironický a nebojí se jít na hranu – právě to dělá jeho show nezapomenutelnou! \nNenechte si ujít tento jedinečný zážitek! Vstupenky v prodeji! \nPořad není vhodný mladším 15 let! \n\nTento tip na kulturní akci v Klatovy najdete v přehledu na Dnesnivylet.cz spolu s dalšími koncerty\, festivaly a divadelními představeními.Každý si vybere co se mu líbí. Nezapomeňte koupit vstupenky včas\, stačí kliknout a budete přesměrování na oficiálního prodejce vstupenek.
URL:https://dnesnivylet.cz/event/martin-hranac-crazy-show-klatovy/
LOCATION:Dům kultury\, Klatovy\, Dům kultury\, Klatovy\, Česká republika
CATEGORIES:Zábava
ATTACH;FMTTYPE=image/jpeg:https://dnesnivylet.cz/wp-content/uploads/2025/11/320-de67003ca5bd4d608b2b987350f6a65d.jpg
END:VEVENT
BEGIN:VEVENT
DTSTART;TZID=Europe/Prague:20260428T190000
DTEND;TZID=Europe/Prague:20260428T220000
DTSTAMP:20260419T194305
CREATED:20251215T113726Z
LAST-MODIFIED:20251215T113726Z
UID:15522-1777402800-1777413600@dnesnivylet.cz
SUMMARY:Tigran Hovakimyan - Tigran je ve městě - Neratovice
DESCRIPTION:Tigran Hovakimyan – Tigran je ve městě – Neratovice se uskuteční dne 2026-04-28 v 19:00 v Neratovice\, Společenský dům. \n🎟️ Koupit vstupenku \n\nTigran Hovakimyan pochází z Arménie\, mluví čtyřmi jazyky a za sebou má pestrou škálu životních i pracovních zkušeností. Než zakotvil u stand-up comedy\, vyzkoušel řadu zaměstnání a působil jako amatérský herec v dětském divadle. Právě tam se naučil vnímat publikum\, reagovat na jeho energii a přirozeně pracovat s humorem. \nZ dětského jeviště zamířil na stand-up pódia\, kde se může spolehnout jen na sebe – a to mu vyhovuje nejvíc. V roce 2026 vyráží na svou dosud největší stand-up tour napříč Českou republikou se svým speciálem Tigran je ve městě. \nČeká vás večer plný originálního humoru\, osobitých postřehů\, nečekaných point a energie\, která vás nenechá v klidu sedět! \nNa každém vystoupení se představí jako předskokan některý z českých stand-up komiků. \n\nTento tip na kulturní akci v Neratovice najdete v přehledu na Dnesnivylet.cz spolu s dalšími koncerty\, festivaly a divadelními představeními.Každý si vybere co se mu líbí. Nezapomeňte koupit vstupenky včas\, stačí kliknout a budete přesměrování na oficiálního prodejce vstupenek.
URL:https://dnesnivylet.cz/event/tigran-hovakimyan-tigran-je-ve-meste-neratovice/
LOCATION:Společenský dům\, Neratovice\, Společenský dům\, Neratovice\, Česká republika
CATEGORIES:Zábava
ATTACH;FMTTYPE=image/jpeg:https://dnesnivylet.cz/wp-content/uploads/2025/12/320-ab2c622444a242beba25e4300c5be76c.jpg
END:VEVENT
BEGIN:VEVENT
DTSTART;TZID=Europe/Prague:20260428T190000
DTEND;TZID=Europe/Prague:20260428T220000
DTSTAMP:20260419T194305
CREATED:20260208T143400Z
LAST-MODIFIED:20260208T143400Z
UID:17467-1777402800-1777413600@dnesnivylet.cz
SUMMARY:TIKI TAKA na cestách - České Budějovice
DESCRIPTION:TIKI TAKA na cestách – České Budějovice se uskuteční dne 2026-04-28 v 19:00 v České Budějovice\, DK Metropol – společenský sál. \n🎟️ Koupit vstupenku \n\nZábavná talkshow pro fanynky a fanoušky nejen fotbalu. Protagonisté populární televizní talkshow Tiki-Taka\, která má za sebou na stanici Oneplay Sport už 300 odvysílaných epizod\, vyrážejí s živou verzí pořadu do všech koutů Česka. Petr Svěcený\, Petr Švancara\, Luděk Zelenka a jejich hosté jsou připraveni servírovat fotbal prostě jinak. A hlavně vás pobavit. \n\nTento tip na kulturní akci v České Budějovice najdete v přehledu na Dnesnivylet.cz spolu s dalšími koncerty\, festivaly a divadelními představeními.Každý si vybere co se mu líbí. Nezapomeňte koupit vstupenky včas\, stačí kliknout a budete přesměrování na oficiálního prodejce vstupenek.
URL:https://dnesnivylet.cz/event/tiki-taka-na-cestach-ceske-budejovice/
LOCATION:DK Metropol – společenský sál\, České Budějovice\, DK Metropol - společenský sál\, České Budějovice\, Česká republika
CATEGORIES:Zábava
ATTACH;FMTTYPE=image/jpeg:https://dnesnivylet.cz/wp-content/uploads/2026/02/320-965b4d70d9c041fa87c6e81f5b6f2535.jpg
END:VEVENT
BEGIN:VEVENT
DTSTART;TZID=Europe/Prague:20260428T190000
DTEND;TZID=Europe/Prague:20260428T220000
DTSTAMP:20260419T194305
CREATED:20260321T195841Z
LAST-MODIFIED:20260321T195842Z
UID:19784-1777402800-1777413600@dnesnivylet.cz
SUMMARY:Adéla Elbel - Trojjediná - Brno
DESCRIPTION:Adéla Elbel – Trojjediná – Brno se uskuteční dne 2026-04-28 v 19:00 v Brno\, První Patro. \n🎟️ Koupit vstupenku \n\nKomička Adéla Elbel ve svém novém celovečerním stand-up pořadu volně navazuje na svůj předchozí úspěšný program „První poločas rozpadu“. \nMluví totiž opět o sobě – otevřeně a na komoru! Rozvedená čtyřicítka je velký terno. Zase na startu. Jak najít své štěstí ve věku zralejším než hruška máslovka? Vrhnout se opět do vztahu nebo se jen stát milenkou a pozorovat život z dálky? Čeká snad štěstí na ezo kurzech a v motivačních knihách? Pomůže mi vyplnit prázdné dny kalendář Krásné paní? A jak si pak poradit s novým vztahem na dálku do kterého přijde další dítě? Snadné cesty jsou pro amatéry. Na všechno ostatní je tady Adéla…… \nPřijďte se přesvědčit \, pobavit a případně se stát i spolutvůrci této originální a jedinečné 80 minutové one woman show . \nAdéla Elbel je stand-up komička a moderátorka\, pravidelně vystupuje s pořadem Na stojáka a v televizním pořadu Comedy club.  \n\nTento tip na kulturní akci v Brno najdete v přehledu na Dnesnivylet.cz spolu s dalšími koncerty\, festivaly a divadelními představeními.Každý si vybere co se mu líbí. Nezapomeňte koupit vstupenky včas\, stačí kliknout a budete přesměrování na oficiálního prodejce vstupenek.
URL:https://dnesnivylet.cz/event/adela-elbel-trojjedina-brno-2/
LOCATION:První Patro\, Brno\, První Patro\, Brno\, Česká republika
CATEGORIES:Zábava
ATTACH;FMTTYPE=image/jpeg:https://dnesnivylet.cz/wp-content/uploads/2026/03/320-6116cba88b464f30840b6bffd9a8cf05.jpg
END:VEVENT
END:VCALENDAR