BEGIN:VCALENDAR
VERSION:2.0
PRODID:-//www.dnesnivylet.cz                                                                                                                        Tip na výlet pro celou rodinu. - ECPv6.15.13.1//NONSGML v1.0//EN
CALSCALE:GREGORIAN
METHOD:PUBLISH
X-ORIGINAL-URL:https://dnesnivylet.cz
X-WR-CALDESC:Akce na www.dnesnivylet.cz                                                                                                                        Tip na výlet pro celou rodinu.
REFRESH-INTERVAL;VALUE=DURATION:PT1H
X-Robots-Tag:noindex
X-PUBLISHED-TTL:PT1H
BEGIN:VTIMEZONE
TZID:Europe/Prague
BEGIN:DAYLIGHT
TZOFFSETFROM:+0100
TZOFFSETTO:+0200
TZNAME:CEST
DTSTART:20250330T010000
END:DAYLIGHT
BEGIN:STANDARD
TZOFFSETFROM:+0200
TZOFFSETTO:+0100
TZNAME:CET
DTSTART:20251026T010000
END:STANDARD
BEGIN:DAYLIGHT
TZOFFSETFROM:+0100
TZOFFSETTO:+0200
TZNAME:CEST
DTSTART:20260329T010000
END:DAYLIGHT
BEGIN:STANDARD
TZOFFSETFROM:+0200
TZOFFSETTO:+0100
TZNAME:CET
DTSTART:20261025T010000
END:STANDARD
BEGIN:DAYLIGHT
TZOFFSETFROM:+0100
TZOFFSETTO:+0200
TZNAME:CEST
DTSTART:20270328T010000
END:DAYLIGHT
BEGIN:STANDARD
TZOFFSETFROM:+0200
TZOFFSETTO:+0100
TZNAME:CET
DTSTART:20271031T010000
END:STANDARD
END:VTIMEZONE
BEGIN:VEVENT
DTSTART;TZID=Europe/Prague:20260506T170000
DTEND;TZID=Europe/Prague:20260506T200000
DTSTAMP:20260419T212210
CREATED:20251108T170122Z
LAST-MODIFIED:20251108T170123Z
UID:12899-1778086800-1778097600@dnesnivylet.cz
SUMMARY:Škola vaření s Romanem Paulusem - Středomořská kuchyně
DESCRIPTION:Škola vaření s Romanem Paulusem – Středomořská kuchyně se uskuteční dne 2026-05-06 v 17:00 v Olomouc\, Bistro Paulus. \n🎟️ Koupit vstupenku \n\nVítejte ve škole vaření s Romanem Paulusem! \nTentokrát se v kurzu vaření zaměříme na středomořskou kuchyni.  \nMůžete se těšit na ragú z králíka s olivami a sušenými rajčaty\, steak z tuňáka s lilkovým kaviárem\, jehněčí kebab a tzatziki\, domácí pita chleba a nakonec sladkou tečku – citrónový koláč. \nStředomořská gastronomie má i v našich zeměpisných šířkách velmi dobrý zvuk a potěší každého milovníka dobrého jídla. Procházka po zemích kolem Středozemního moře vám nabídne pohled do kuchyní Francie\, Itálie i Orientu a připraví spoustu zajímavých inspirací. \nV kurzu se pod vedením michelinského šéfa Romana Pauluse a šéfkuchaře Petra Stokláska naučíte připravit výtečné 4-chodové menu. Kromě příjemně strávených chvil u plotny si odnesete i spoustu užitečných praktických znalostí\, krásných zážitků\, sadu receptů a podepsaný certifikát.  \nO alko a nealko režim bude po celou dobu postaráno. \nKurzy probíhají od 17 do 21 hodin v malých skupinkách a díky tomu budete mít plnou pozornost našich šéfů.  \nTěšíme se na vás ve stylových prostorách Bistro Paulus. \nPartnerem školy vaření s Romanem Paulusem je Tescoma. \n—- \n  \nNa každé akci bude pořizován obrazový záznam pro marketingové účely. Pořízené záznamy můžou být použity zejména na našem webu a sociálních sítích. \n\nTento tip na kulturní akci v Olomouc najdete v přehledu na Dnesnivylet.cz spolu s dalšími koncerty\, festivaly a divadelními představeními.Každý si vybere co se mu líbí. Nezapomeňte koupit vstupenky včas\, stačí kliknout a budete přesměrování na oficiálního prodejce vstupenek.
URL:https://dnesnivylet.cz/event/skola-vareni-s-romanem-paulusem-stredomorska-kuchyne/
LOCATION:Bistro Paulus\, Olomouc\, Bistro Paulus\, Olomouc\, Česká republika
CATEGORIES:Zábava
ATTACH;FMTTYPE=image/jpeg:https://dnesnivylet.cz/wp-content/uploads/2025/11/320-e3fcdf10059c401fa76ce762e2cf560a.jpg
END:VEVENT
BEGIN:VEVENT
DTSTART;TZID=Europe/Prague:20260506T180000
DTEND;TZID=Europe/Prague:20260506T210000
DTSTAMP:20260419T212210
CREATED:20260321T195948Z
LAST-MODIFIED:20260321T195948Z
UID:19793-1778090400-1778101200@dnesnivylet.cz
SUMMARY:Pavel Moric: Odvaha
DESCRIPTION:Pavel Moric: Odvaha se uskuteční dne 2026-05-06 v 18:00 v Praha\, Kino Dlabačov. \n🎟️ Koupit vstupenku \n\nŽivot nás občas podrobí zkouškám odvahy. Jsou nám nabídnuty nejrůznější lekce a je na nás\, jak obstojíme a kolik si dovolíme vydat ze sebe úsilí na oltář své spokojenosti.Schopnost zvládat\, aktivně tvořit nebo přijímat výzvy osudu se dá kultivovat a zdokonalovat. \nJenže série “zatažených ručních brzd” naší psyché často nedovolují vstoupit do vyšších sfér naplněného žití. Upřímně mi je líto\, když vidím lidského ducha se topit v podprůměrnosti\, zoufalství a neschopnosti žít autenticky a naplňovat svůj jedinečný životní příběh. Příčin osobního utrpení je mnoho\, ale jako základní ingredienci selhávání vidím za nedostatkem odvahy a neznalost universálních principů. \nMým hlavním cílem je s Vámi sdílet smysluplné know-how na téma ODVAHA. Srozumitelně a prakticky vysvětlit různé souvislosti\, životní principy a inspirovat Vás k ryzejší verzi sebe sama. Rád se s vámi podělím o zkušenosti\, příběhy a výživné příklady vedoucí k probouzení odvahy. Je čas oprášit svůj královský meč a vydat se prozkoumat temná místa našich království. Zblízka uvidět anatomii mechanismů\, jenž nám brání v rozletu a začít uzdravovat polámaná křídla našeho odhodlání. \nZvu Vás na společnou cestu dobrodružného objevování\, kde budu servírovat pestré menu osobního rozvoje se zaměřením na: \n\nOdvahu postavit se za sebe a žít autenticky.\nTvořit od každodennosti až po životní rozhodnutí\nDovolit experimentovat a poznávat sama sebe i z bolavých a temnějších míst své osobnosti.\nPozvat do svého života více lásky\, hojnosti a klidu skrze ochotu a otevřenost.\nInspirace z výletů mimo komfortní zónu.\nJak aktivovat vnitřní disciplínu a vůli a zároveň nebýt sebe-trýznitel.\nOsobní sílu jako nástroj na překonávání překážek a životních výzev.\n\nMůžete se těšit na humor\, nadhled i hloubku. Objevení zdrojů\, odkud je možné odvahu čerpat a pěstovat\, je klíčem k celistvému a naplněnému životu. \n  \n\nTento tip na kulturní akci v Praha najdete v přehledu na Dnesnivylet.cz spolu s dalšími koncerty\, festivaly a divadelními představeními.Každý si vybere co se mu líbí. Nezapomeňte koupit vstupenky včas\, stačí kliknout a budete přesměrování na oficiálního prodejce vstupenek.
URL:https://dnesnivylet.cz/event/pavel-moric-odvaha-6/
LOCATION:Kino Dlabačov\, Praha\, Kino Dlabačov\, Praha\, Česká republika
CATEGORIES:Zábava
ATTACH;FMTTYPE=image/jpeg:https://dnesnivylet.cz/wp-content/uploads/2026/03/320-b8b070cbf66c4634a700e48ac68aa5b3.jpg
END:VEVENT
BEGIN:VEVENT
DTSTART;TZID=Europe/Prague:20260506T190000
DTEND;TZID=Europe/Prague:20260506T220000
DTSTAMP:20260419T212210
CREATED:20251215T114203Z
LAST-MODIFIED:20251215T114204Z
UID:15531-1778094000-1778104800@dnesnivylet.cz
SUMMARY:Tigran Hovakimyan - Tigran je ve městě - Bohumin
DESCRIPTION:Tigran Hovakimyan – Tigran je ve městě – Bohumin se uskuteční dne 2026-05-06 v 19:00 v Bohumín\, K3 Bohumín – Kino. \n🎟️ Koupit vstupenku \n\nTigran Hovakimyan pochází z Arménie\, mluví čtyřmi jazyky a za sebou má pestrou škálu životních i pracovních zkušeností. Než zakotvil u stand-up comedy\, vyzkoušel řadu zaměstnání a působil jako amatérský herec v dětském divadle. Právě tam se naučil vnímat publikum\, reagovat na jeho energii a přirozeně pracovat s humorem. \nZ dětského jeviště zamířil na stand-up pódia\, kde se může spolehnout jen na sebe – a to mu vyhovuje nejvíc. V roce 2026 vyráží na svou dosud největší stand-up tour napříč Českou republikou se svým speciálem Tigran je ve městě. \nČeká vás večer plný originálního humoru\, osobitých postřehů\, nečekaných point a energie\, která vás nenechá v klidu sedět! \nNa každém vystoupení se představí jako předskokan některý z českých stand-up komiků. \n\nTento tip na kulturní akci v Bohumín najdete v přehledu na Dnesnivylet.cz spolu s dalšími koncerty\, festivaly a divadelními představeními.Každý si vybere co se mu líbí. Nezapomeňte koupit vstupenky včas\, stačí kliknout a budete přesměrování na oficiálního prodejce vstupenek.
URL:https://dnesnivylet.cz/event/tigran-hovakimyan-tigran-je-ve-meste-bohumin/
LOCATION:K3 Bohumín – Kino\, Bohumín\, K3 Bohumín - Kino\, Bohumín\, Česká republika
CATEGORIES:Zábava
ATTACH;FMTTYPE=image/jpeg:https://dnesnivylet.cz/wp-content/uploads/2025/12/320-4e97c5fe234c467cad298c95524407d1.jpg
END:VEVENT
BEGIN:VEVENT
DTSTART;TZID=Europe/Prague:20260506T190000
DTEND;TZID=Europe/Prague:20260506T220000
DTSTAMP:20260419T212210
CREATED:20260103T100126Z
LAST-MODIFIED:20260103T100126Z
UID:16187-1778094000-1778104800@dnesnivylet.cz
SUMMARY:Na hradě se Zdeňkem Troškou
DESCRIPTION:Na hradě se Zdeňkem Troškou se uskuteční dne 2026-05-06 v 19:00 v Švihov\, Vodní hrad Švihov. \n🎟️ Koupit vstupenku \n\nPřijďte zažít výjimečný večer se Zdeňkem Troškou\, legendou české filmové komedie a pohádek\, a to přímo v historických kulisách vodního hradu Švihov! \nV moderované talkshow se můžete těšit na jeho typické\, živelné a upřímné vyprávění a bohaté historky z natáčení. Zdeněk Troška promluví o tom\, co je pro něj klíčové při tvorbě filmů pro celou rodinu\, kde bere nevyčerpatelnou životní energii a jaký má názor na moderní filmové řemeslo. Nebudou chybět ani jeho známé kuchařské a cestovatelské zážitky. Připravte se na vtipný\, laskavý a pohlazující večer plný filmových vzpomínek v magické atmosféře hradu. \n  \nAkce proběhne v sále ve špýcharu. \n\nTento tip na kulturní akci v Švihov najdete v přehledu na Dnesnivylet.cz spolu s dalšími koncerty\, festivaly a divadelními představeními.Každý si vybere co se mu líbí. Nezapomeňte koupit vstupenky včas\, stačí kliknout a budete přesměrování na oficiálního prodejce vstupenek.
URL:https://dnesnivylet.cz/event/na-hrade-se-zdenkem-troskou/
LOCATION:Vodní hrad Švihov\, Švihov\, Vodní hrad Švihov\, Švihov\, Česká republika
CATEGORIES:Zábava
ATTACH;FMTTYPE=image/jpeg:https://dnesnivylet.cz/wp-content/uploads/2026/01/320-6ce0456a5f0c4da48cc84ec205831010.jpg
END:VEVENT
BEGIN:VEVENT
DTSTART;TZID=Europe/Prague:20260506T190000
DTEND;TZID=Europe/Prague:20260506T220000
DTSTAMP:20260419T212210
CREATED:20260404T180041Z
LAST-MODIFIED:20260404T180041Z
UID:20068-1778094000-1778104800@dnesnivylet.cz
SUMMARY:TADY VARY - Co nám zbylo z lásky
DESCRIPTION:TADY VARY – Co nám zbylo z lásky se uskuteční dne 2026-05-06 v 19:00 v Humpolec\, Kino. \n🎟️ Koupit vstupenku \n\nNa islandské vysočině pomalu odkvétá fialový vřes – a s ním i vztah Magnuse a Anny\, rybáře a výtvarnice\, kteří mezi drsnou krajinou hledají cestu ze svého manželského ticha. Režisér Hlynur Pálmason (Bílý bílý den\, Zapomenutá země) s typickou poezií ukazuje\, kolik může z lásky zůstat\, i když se zdá být pryč; melancholie se tu přirozeně prolíná s jemným magickým realismem i humorem. Autentické herecké výkony dodávají filmu mimořádnou něhu a věrohodnost. \n109 min / TITULKY \n\nTento tip na kulturní akci v Humpolec najdete v přehledu na Dnesnivylet.cz spolu s dalšími koncerty\, festivaly a divadelními představeními.Každý si vybere co se mu líbí. Nezapomeňte koupit vstupenky včas\, stačí kliknout a budete přesměrování na oficiálního prodejce vstupenek.
URL:https://dnesnivylet.cz/event/tady-vary-co-nam-zbylo-z-lasky/
LOCATION:Kino\, Humpolec\, Kino\, Humpolec\, Česká republika
CATEGORIES:Zábava
ATTACH;FMTTYPE=image/jpeg:https://dnesnivylet.cz/wp-content/uploads/2026/04/320-cfc9f5fd4d1a4153926f726e072a26ac.jpg
END:VEVENT
BEGIN:VEVENT
DTSTART;TZID=Europe/Prague:20260506T190000
DTEND;TZID=Europe/Prague:20260506T220000
DTSTAMP:20260419T212211
CREATED:20260405T125838Z
LAST-MODIFIED:20260405T125838Z
UID:20147-1778094000-1778104800@dnesnivylet.cz
SUMMARY:Léčba smíchem - Talk show / Bubílková\, Pitkin\, Šimůnek
DESCRIPTION:Léčba smíchem – Talk show / Bubílková\, Pitkin\, Šimůnek se uskuteční dne 2026-05-06 v 19:00 v Krnov\, Kofola Music Club. \n🎟️ Koupit vstupenku \n\nLÉČBA SMÍCHEM – ZUZANA BUBÍLKOVÁ\, MILAN PITKIN A MIROSLAV ŠIMŮNEK \n  \nTalkshow Zuzany Bubílkové\, Milana Pitkina a Miroslava Šimůnka.  \nVtipné vyprávění plné historek ze soukromého i profesního života protagonistů\, glosy na aktuální témata současného dění a bezpočet vtipů Milana Pitkina s písničkami Waldemara Matušky.  \nDélka: 110 minut plus autogramiáda \n  \n  \nV sále je nečíslované sezení. \nSál bude otevřen 30 minut před začátkem představení. \n\nTento tip na kulturní akci v Krnov najdete v přehledu na Dnesnivylet.cz spolu s dalšími koncerty\, festivaly a divadelními představeními.Každý si vybere co se mu líbí. Nezapomeňte koupit vstupenky včas\, stačí kliknout a budete přesměrování na oficiálního prodejce vstupenek.
URL:https://dnesnivylet.cz/event/lecba-smichem-talk-show-bubilkova-pitkin-simunek-6/
LOCATION:Kofola Music Club\, Krnov\, Kofola Music Club\, Krnov\, Česká republika
CATEGORIES:Zábava
ATTACH;FMTTYPE=image/jpeg:https://dnesnivylet.cz/wp-content/uploads/2026/04/320-530fdb08928f491a9bc1342b32de560b.jpg
END:VEVENT
END:VCALENDAR