BEGIN:VCALENDAR
VERSION:2.0
PRODID:-//www.dnesnivylet.cz                                                                                                                        Tip na výlet pro celou rodinu. - ECPv6.15.13.1//NONSGML v1.0//EN
CALSCALE:GREGORIAN
METHOD:PUBLISH
X-ORIGINAL-URL:https://dnesnivylet.cz
X-WR-CALDESC:Akce na www.dnesnivylet.cz                                                                                                                        Tip na výlet pro celou rodinu.
REFRESH-INTERVAL;VALUE=DURATION:PT1H
X-Robots-Tag:noindex
X-PUBLISHED-TTL:PT1H
BEGIN:VTIMEZONE
TZID:Europe/Prague
BEGIN:DAYLIGHT
TZOFFSETFROM:+0100
TZOFFSETTO:+0200
TZNAME:CEST
DTSTART:20250330T010000
END:DAYLIGHT
BEGIN:STANDARD
TZOFFSETFROM:+0200
TZOFFSETTO:+0100
TZNAME:CET
DTSTART:20251026T010000
END:STANDARD
BEGIN:DAYLIGHT
TZOFFSETFROM:+0100
TZOFFSETTO:+0200
TZNAME:CEST
DTSTART:20260329T010000
END:DAYLIGHT
BEGIN:STANDARD
TZOFFSETFROM:+0200
TZOFFSETTO:+0100
TZNAME:CET
DTSTART:20261025T010000
END:STANDARD
BEGIN:DAYLIGHT
TZOFFSETFROM:+0100
TZOFFSETTO:+0200
TZNAME:CEST
DTSTART:20270328T010000
END:DAYLIGHT
BEGIN:STANDARD
TZOFFSETFROM:+0200
TZOFFSETTO:+0100
TZNAME:CET
DTSTART:20271031T010000
END:STANDARD
END:VTIMEZONE
BEGIN:VEVENT
DTSTART;TZID=Europe/Prague:20260511T190000
DTEND;TZID=Europe/Prague:20260511T220000
DTSTAMP:20260419T212209
CREATED:20251103T192732Z
LAST-MODIFIED:20251103T192733Z
UID:11964-1778526000-1778536800@dnesnivylet.cz
SUMMARY:Osmany Show
DESCRIPTION:Osmany Show se uskuteční dne 2026-05-11 v 19:00 v Svitavy\, Fabrika. \n🎟️ Koupit vstupenku \n\nOriginální zábavný pořad populárního módního návrháře kubánského původu Osmanyho Laffity se zbrusu novými historkami a příběhy. \nDevadesát minut nekorektního humoru a zábavy\, která Vás bezesporu pobaví. Osmany Vám dá nahlédnout do svého soukromí a ukáže\, že je také člověk z masa a kostí. I mnohdy smutnou historku dovede podat neodolatelným způsobem\, který pobaví. \nShow\, která polechtá Vaši bránici! \nModeruje: Eva DECASTELO \nÚčinkuje: Osmany LAFFITA \nDélka představení 90 až 120 minut (obvykle + přestávka) \nPředstavení nedoporučujeme divákům mladším 15 let. \n\nTento tip na kulturní akci v Svitavy najdete v přehledu na Dnesnivylet.cz spolu s dalšími koncerty\, festivaly a divadelními představeními.Každý si vybere co se mu líbí. Nezapomeňte koupit vstupenky včas\, stačí kliknout a budete přesměrování na oficiálního prodejce vstupenek.
URL:https://dnesnivylet.cz/event/osmany-show-12/
LOCATION:Fabrika\, Svitavy\, Fabrika\, Svitavy\, Česká republika
CATEGORIES:Zábava
ATTACH;FMTTYPE=image/jpeg:https://dnesnivylet.cz/wp-content/uploads/2025/11/320-ff1f09a30679454a96b44535361f3380.jpg
END:VEVENT
BEGIN:VEVENT
DTSTART;TZID=Europe/Prague:20260511T190000
DTEND;TZID=Europe/Prague:20260511T220000
DTSTAMP:20260419T212209
CREATED:20260110T165543Z
LAST-MODIFIED:20260110T165544Z
UID:16669-1778526000-1778536800@dnesnivylet.cz
SUMMARY:Tigran je ve městě
DESCRIPTION:Tigran je ve městě se uskuteční dne 2026-05-11 v 19:00 v Žďár nad Sázavou\, Městské divadlo. \n🎟️ Koupit vstupenku \n\nStand-Up komik z televizního pořadu Comedy Club Tigran Hovakimyan přijíždí do ŽĎÁRU se svým speciálem. Přijďte se pobavit. Čeká vás nezapomenutelný stand-up večer plný humoru\, energie a skvělých vtipů!  \nTigranův předskokan bude český stand-up komik\, herec\, režisér a scenárista Jiří Jakima. \nTěšte se na večer plný smíchu\, nekorektního i hrubozrnného humoru 😉 \n  \n\nTento tip na kulturní akci v Žďár nad Sázavou najdete v přehledu na Dnesnivylet.cz spolu s dalšími koncerty\, festivaly a divadelními představeními.Každý si vybere co se mu líbí. Nezapomeňte koupit vstupenky včas\, stačí kliknout a budete přesměrování na oficiálního prodejce vstupenek.
URL:https://dnesnivylet.cz/event/tigran-je-ve-meste-13/
LOCATION:Městské divadlo\, Žďár nad Sázavou\, Městské divadlo\, Žďár nad Sázavou\, Česká republika
CATEGORIES:Zábava
ATTACH;FMTTYPE=image/jpeg:https://dnesnivylet.cz/wp-content/uploads/2026/01/320-276f5d6ed28444fc85ca870fbf94a1a0.jpg
END:VEVENT
BEGIN:VEVENT
DTSTART;TZID=Europe/Prague:20260511T190000
DTEND;TZID=Europe/Prague:20260511T220000
DTSTAMP:20260419T212209
CREATED:20260419T120857Z
LAST-MODIFIED:20260419T120858Z
UID:20718-1778526000-1778536800@dnesnivylet.cz
SUMMARY:Léčba smíchem - Talk show / Bubílková\, Pitkin\, Šimůnek
DESCRIPTION:Léčba smíchem – Talk show / Bubílková\, Pitkin\, Šimůnek se uskuteční dne 2026-05-11 v 19:00 v Blansko\, Dělnický dům. \n🎟️ Koupit vstupenku \n\nLÉČBA SMÍCHEM – ZUZANA BUBÍLKOVÁ\, MILAN PITKIN A MIROSLAV ŠIMŮNEK \n  \nTalkshow Zuzany Bubílkové\, Milana Pitkina a Miroslava Šimůnka.  \nVtipné vyprávění plné historek ze soukromého i profesního života protagonistů\, glosy na aktuální témata současného dění a bezpočet vtipů Milana Pitkina s písničkami Waldemara Matušky.  \nDélka: 110 minut plus autogramiáda \n  \n\nTento tip na kulturní akci v Blansko najdete v přehledu na Dnesnivylet.cz spolu s dalšími koncerty\, festivaly a divadelními představeními.Každý si vybere co se mu líbí. Nezapomeňte koupit vstupenky včas\, stačí kliknout a budete přesměrování na oficiálního prodejce vstupenek.
URL:https://dnesnivylet.cz/event/lecba-smichem-talk-show-bubilkova-pitkin-simunek-7/
LOCATION:Dělnický dům\, Blansko\, Dělnický dům\, Blansko\, Česká republika
CATEGORIES:Zábava
ATTACH;FMTTYPE=image/jpeg:https://dnesnivylet.cz/wp-content/uploads/2026/04/320-ec0af7c4790b4c94820934e686cbaf8f.jpg
END:VEVENT
END:VCALENDAR