BEGIN:VCALENDAR
VERSION:2.0
PRODID:-//www.dnesnivylet.cz                                                                                                                        Tip na výlet pro celou rodinu. - ECPv6.15.13.1//NONSGML v1.0//EN
CALSCALE:GREGORIAN
METHOD:PUBLISH
X-ORIGINAL-URL:https://dnesnivylet.cz
X-WR-CALDESC:Akce na www.dnesnivylet.cz                                                                                                                        Tip na výlet pro celou rodinu.
REFRESH-INTERVAL;VALUE=DURATION:PT1H
X-Robots-Tag:noindex
X-PUBLISHED-TTL:PT1H
BEGIN:VTIMEZONE
TZID:Europe/Prague
BEGIN:DAYLIGHT
TZOFFSETFROM:+0100
TZOFFSETTO:+0200
TZNAME:CEST
DTSTART:20250330T010000
END:DAYLIGHT
BEGIN:STANDARD
TZOFFSETFROM:+0200
TZOFFSETTO:+0100
TZNAME:CET
DTSTART:20251026T010000
END:STANDARD
BEGIN:DAYLIGHT
TZOFFSETFROM:+0100
TZOFFSETTO:+0200
TZNAME:CEST
DTSTART:20260329T010000
END:DAYLIGHT
BEGIN:STANDARD
TZOFFSETFROM:+0200
TZOFFSETTO:+0100
TZNAME:CET
DTSTART:20261025T010000
END:STANDARD
BEGIN:DAYLIGHT
TZOFFSETFROM:+0100
TZOFFSETTO:+0200
TZNAME:CEST
DTSTART:20270328T010000
END:DAYLIGHT
BEGIN:STANDARD
TZOFFSETFROM:+0200
TZOFFSETTO:+0100
TZNAME:CET
DTSTART:20271031T010000
END:STANDARD
END:VTIMEZONE
BEGIN:VEVENT
DTSTART;TZID=Europe/Prague:20260515T190000
DTEND;TZID=Europe/Prague:20260515T220000
DTSTAMP:20260419T212208
CREATED:20251105T192844Z
LAST-MODIFIED:20251105T192844Z
UID:12654-1778871600-1778882400@dnesnivylet.cz
SUMMARY:OPERA V KINĚ - Siegfried
DESCRIPTION:OPERA V KINĚ – Siegfried se uskuteční dne 2026-05-15 v 19:00 v Humpolec\, Kino. \n🎟️ Koupit vstupenku \n\nVychován intrikujícím trpaslíkem a bez vědomí svého původu se vydává mladý muž na epickou cestu. Brzy mu osud přivede do cesty roztříštěný meč\, děsivého draka střežícího prokletý prsten a valkýru uvrženou do zakletého spánku… \nChvíle nadpozemské krásy a hrdinských vítězství září ve třetí části Wagnerova cyklu Prsten Nibelungův\, kterou po velkolepých inscenacích oper Zlato Rýna (2023) a Valkýra (2025) uvádí režisér Barrie Kosky. V očekávaném debutu v Královské opeře ztvární titulního hrdinu tenorista Andreas Schager a jako Wotan (Poutník) se opět představí barytonista Christopher Maltman. Do Královské opery se jako dirigent vrací její bývalý hudební ředitel Antonio Pappano\, který s mistrovským citem vystihuje napětí i éterickou mystiku Wagnerovy dynamické partitury. \nPředstavení je uváděno v rámci cyklu Opera v kině 2025/2026 včetně možnosti předplatného. \nJedná se o záznam promítaný na plátno kina. \n\nTento tip na kulturní akci v Humpolec najdete v přehledu na Dnesnivylet.cz spolu s dalšími koncerty\, festivaly a divadelními představeními.Každý si vybere co se mu líbí. Nezapomeňte koupit vstupenky včas\, stačí kliknout a budete přesměrování na oficiálního prodejce vstupenek.
URL:https://dnesnivylet.cz/event/opera-v-kine-siegfried/
LOCATION:Kino\, Humpolec\, Kino\, Humpolec\, Česká republika
CATEGORIES:Zábava
ATTACH;FMTTYPE=image/jpeg:https://dnesnivylet.cz/wp-content/uploads/2025/11/320-3da8a23798244a298875093a3d2982c6.jpg
END:VEVENT
BEGIN:VEVENT
DTSTART;TZID=Europe/Prague:20260515T190000
DTEND;TZID=Europe/Prague:20260515T220000
DTSTAMP:20260419T212208
CREATED:20251215T114205Z
LAST-MODIFIED:20251215T114205Z
UID:15537-1778871600-1778882400@dnesnivylet.cz
SUMMARY:Tigran Hovakimyan - Tigran je ve městě - Kralupy nad Vltavou
DESCRIPTION:Tigran Hovakimyan – Tigran je ve městě – Kralupy nad Vltavou se uskuteční dne 2026-05-15 v 19:00 v Kralupy nad Vltavou\, KD Vltava. \n🎟️ Koupit vstupenku \n\nTigran Hovakimyan pochází z Arménie\, mluví čtyřmi jazyky a za sebou má pestrou škálu životních i pracovních zkušeností. Než zakotvil u stand-up comedy\, vyzkoušel řadu zaměstnání a působil jako amatérský herec v dětském divadle. Právě tam se naučil vnímat publikum\, reagovat na jeho energii a přirozeně pracovat s humorem. \nZ dětského jeviště zamířil na stand-up pódia\, kde se může spolehnout jen na sebe – a to mu vyhovuje nejvíc. V roce 2026 vyráží na svou dosud největší stand-up tour napříč Českou republikou se svým speciálem Tigran je ve městě. \nČeká vás večer plný originálního humoru\, osobitých postřehů\, nečekaných point a energie\, která vás nenechá v klidu sedět! \nNa každém vystoupení se představí jako předskokan některý z českých stand-up komiků. \n\nTento tip na kulturní akci v Kralupy nad Vltavou najdete v přehledu na Dnesnivylet.cz spolu s dalšími koncerty\, festivaly a divadelními představeními.Každý si vybere co se mu líbí. Nezapomeňte koupit vstupenky včas\, stačí kliknout a budete přesměrování na oficiálního prodejce vstupenek.
URL:https://dnesnivylet.cz/event/tigran-hovakimyan-tigran-je-ve-meste-kralupy-nad-vltavou/
LOCATION:KD Vltava\, Kralupy nad Vltavou\, KD Vltava\, Kralupy nad Vltavou\, Česká republika
CATEGORIES:Zábava
ATTACH;FMTTYPE=image/jpeg:https://dnesnivylet.cz/wp-content/uploads/2025/12/320-7af4e6385093422bbe2b9d9a5177c34a.jpg
END:VEVENT
BEGIN:VEVENT
DTSTART;TZID=Europe/Prague:20260515T190000
DTEND;TZID=Europe/Prague:20260515T220000
DTSTAMP:20260419T212208
CREATED:20260103T100613Z
LAST-MODIFIED:20260103T100613Z
UID:16237-1778871600-1778882400@dnesnivylet.cz
SUMMARY:Mafie na podpatcích
DESCRIPTION:Mafie na podpatcích se uskuteční dne 2026-05-15 v 19:00 v Brno\, Cabaret des Péchés. \n🎟️ Koupit vstupenku \n\nMafie na podpatcích: Bladed Heels \nKabaret\, co tě odrovná. \nRok 1927. Londýn. Elegance\, zločin a třpyt burlesky. V klubu plném svůdných tanečnic a podezřelých úsměvů se rozehrává příběh\, kde vysoké podpatky klapou jako výstřely a každé mrknutí oka může být poslední varování. Diváci od začátku tuší: někdo ukradl vzácný safír – a kufřík s ním se pohybuje mezi postavami… i vámi. \n\n\nMadam La Rouge – burleska s ďáblem v očích a plánem v srdci \n\n\nNebezpečný boss mafie \n\n\nA jeden večer\, kde zločin voní po parfému a šampaňském \n\n\n  \nKdy začínáme: \n\nProgram: 19:00 – 23:00 ( Bar otevřen od 18:00)\nShow: 20:00\n\n  \nCo čekat: \n\n\ncelovečerní program v mafiánském stylu  \n\n\nkabaretní show s příběhem  \n\n\ninteraktivní hry – soutěže\, bingo\, kolo osudu \n\n\ntématické kostýmy\, fotokoutek a exkluzivní koktejly pro pravé mafiány \n\n\n  \nO show: \n„Mafie na podpatcích“ je parodická kabaretní show v podobě tanečního divadla a revue\, kde se mísí humor\, svůdnost a nadsázka. Děj sleduje propracovaný příběh plný intrik\, komických zvratů a stylizovaných mafiánských postav. Každý umělec ztvárňuje vlastní roli a skrze tanec\, herectví a kabaretní čísla vtahuje diváky do světa podpatků\, kouře a gangsterské elegance. \n  \nZločin nikdy nevypadal tak svůdně! \n  \nDoporučený dresscode – gangsterská elegance ve stylu 20. let – mafiánský šmrnc\, burleskní glamour a večerní outfit\, který by obstál v londýnském podsvětí roku 1927 \nShow je určena výhradně pro publikum starší 18 let – vstup osobám mladším 18 let není povolen \nUpozornění pro divákyTato inscenace obsahuje světelné efekty\, včetně stroboskopických záblesků a rychle se měnících světelných sekvencí. U osob s fotosenzitivní epilepsií nebo zvýšenou citlivostí na intenzivní světelné podněty mohou tyto efekty vyvolat nepříznivé zdravotní reakce. Divákům\, kterých by se tato skutečnost mohla týkat\, se doporučuje zvýšená opatrnost. \n\nTento tip na kulturní akci v Brno najdete v přehledu na Dnesnivylet.cz spolu s dalšími koncerty\, festivaly a divadelními představeními.Každý si vybere co se mu líbí. Nezapomeňte koupit vstupenky včas\, stačí kliknout a budete přesměrování na oficiálního prodejce vstupenek.
URL:https://dnesnivylet.cz/event/mafie-na-podpatcich-10/
LOCATION:Cabaret des Péchés\, Brno\, Cabaret des Péchés\, Brno\, Česká republika
CATEGORIES:Zábava
ATTACH;FMTTYPE=image/jpeg:https://dnesnivylet.cz/wp-content/uploads/2026/01/320-df3cfc27ad7d47eca17bfa3117790e6b.jpg
END:VEVENT
BEGIN:VEVENT
DTSTART;TZID=Europe/Prague:20260515T190000
DTEND;TZID=Europe/Prague:20260515T220000
DTSTAMP:20260419T212208
CREATED:20260208T144909Z
LAST-MODIFIED:20260208T144910Z
UID:17678-1778871600-1778882400@dnesnivylet.cz
SUMMARY:Blue Open Stage vol. 5
DESCRIPTION:Blue Open Stage vol. 5 se uskuteční dne 2026-05-15 v 19:00 v Praha\, Kampus Hybernská. \n🎟️ Koupit vstupenku \n\nKaždá show je jiná\, každá má své jedinečné téma a performery. Tentokrát Zorya Blue přináší BLUE OPEN STAGE\, kde se představí talentovaní umělci a umělkyně různých úrovní zkušeností. Těšit se můžete na tanec\, zpěv\, akrobacii\, burlesku a mnoho dalšího! \nOpen stage je otevřená scéna určená všem\, kteří chtějí zazářit. Je to prostor\, kde mohou umělci a umělkyně představit svůj talent\, vyzkoušet si nové nápady a odpremiérovat čerstvě vzniklá čísla. Atmosféra je přátelská\, podporující a ideální pro ty\, kteří touží vystoupit\, růst a sdílet svou tvorbu s publikem. \n  \nUČINKUJÍCÍ: \nChceš vystoupit na otevřené scéně?  \nNapiš na blue.zorya@gmail.com\, představ se a ukáž svůj talent \n  \nPRO KOHO JE SHOW? \nVěk ani pohlaví není důležité – důležité je\, že milujete kvalitní program\, skvělé drinky a zábavu plnou emoci.  \n  \nKDE? \nPraha 1\, Kampus Hybernská\, Hybernská 4. Z ulice vstup do areálu. Sál E je vpravo na nádvoří\, naproti kavárně.  \n  \nKDY? \n15. 5. 2026\, doors 19:00\, show 19:30 \nShow trvá 120-150 min. \n  \nVSTUPENKY: \npředprodej \nzákladní: 350 Kč \nVIP u podia: 450 Kč \n  \nstandard: \nzákladní: 450 Kč \nVIP u podia: 550 Kč \n  \nna místě\, jen pokud se show nevyprodá (stává se málokdy): základní vstupné za 500 Kč \n  \nMÁTE DOTAZY? \nPodívejte se na FAQ nebo napište na blue.zorya@gmail.com \n  \nMoc se na vás těším\, \nZorya Blue \n\nTento tip na kulturní akci v Praha najdete v přehledu na Dnesnivylet.cz spolu s dalšími koncerty\, festivaly a divadelními představeními.Každý si vybere co se mu líbí. Nezapomeňte koupit vstupenky včas\, stačí kliknout a budete přesměrování na oficiálního prodejce vstupenek.
URL:https://dnesnivylet.cz/event/blue-open-stage-vol-5/
LOCATION:Kampus Hybernská\, Praha\, Kampus Hybernská\, Praha\, Česká republika
CATEGORIES:Zábava
ATTACH;FMTTYPE=image/jpeg:https://dnesnivylet.cz/wp-content/uploads/2026/02/320-355819a31f1242408e6f67f13de1fe80.jpg
END:VEVENT
BEGIN:VEVENT
DTSTART;TZID=Europe/Prague:20260515T190000
DTEND;TZID=Europe/Prague:20260515T220000
DTSTAMP:20260419T212208
CREATED:20260209T194107Z
LAST-MODIFIED:20260209T194108Z
UID:17873-1778871600-1778882400@dnesnivylet.cz
SUMMARY:Martin Hranáč - CRAZY SHOW - Chomutov
DESCRIPTION:Martin Hranáč – CRAZY SHOW – Chomutov se uskuteční dne 2026-05-15 v 19:00 v Chomutov\, Městské divadlo. \n🎟️ Koupit vstupenku \n\nChcete vstoupit do světa humoru a improvizace? Tak je CRAZY SHOW právě pro VÁS! Připravte se na nezapomenutelný večer plný smíchu s Martinem Hranáčem – komikem\, hercem\, číšníkem a optimistou\, který svým jedinečným smyslem pro humor baví lidi na sociálních sítích. Martinův příběh číšníka a jeho každodenní zážitky z gastronomie se stávají zábavným vyprávěním\, které osloví naprosto všechny. \nKaždé vystoupení je unikátní a plné improvizace\, protože Martin miluje improvizaci a scénáře mění v průběhu večera\, což občas vykolejí jeho sestru Štěpánku Šmídovou\, která mu dělá skvělou společnost během celé show. Všechny scénky a historky vychází z Martinových zkušeností a zážitků\, jak profesního\, tak soukromého života. Jeho humor je nekorektní\, sebeironický a nebojí se jít na hranu – právě to dělá jeho show nezapomenutelnou! \nNenechte si ujít tento jedinečný zážitek! Vstupenky v prodeji! \nPořad není vhodný mladším 15 let! \n\nTento tip na kulturní akci v Chomutov najdete v přehledu na Dnesnivylet.cz spolu s dalšími koncerty\, festivaly a divadelními představeními.Každý si vybere co se mu líbí. Nezapomeňte koupit vstupenky včas\, stačí kliknout a budete přesměrování na oficiálního prodejce vstupenek.
URL:https://dnesnivylet.cz/event/martin-hranac-crazy-show-chomutov-3/
LOCATION:Městské divadlo\, Chomutov\, Městské divadlo\, Chomutov\, Česká republika
CATEGORIES:Zábava
ATTACH;FMTTYPE=image/jpeg:https://dnesnivylet.cz/wp-content/uploads/2026/02/320-cfd7cc9062364fa59652b9c15791b23b.jpg
END:VEVENT
BEGIN:VEVENT
DTSTART;TZID=Europe/Prague:20260515T190000
DTEND;TZID=Europe/Prague:20260515T220000
DTSTAMP:20260419T212208
CREATED:20260209T194107Z
LAST-MODIFIED:20260209T194108Z
UID:17874-1778871600-1778882400@dnesnivylet.cz
SUMMARY:Martin Hranáč - CRAZY SHOW - Chomutov
DESCRIPTION:Martin Hranáč – CRAZY SHOW – Chomutov se uskuteční dne 2026-05-15 v 19:00 v Chomutov\, Městské divadlo. \n🎟️ Koupit vstupenku \n\nChcete vstoupit do světa humoru a improvizace? Tak je CRAZY SHOW právě pro VÁS! Připravte se na nezapomenutelný večer plný smíchu s Martinem Hranáčem – komikem\, hercem\, číšníkem a optimistou\, který svým jedinečným smyslem pro humor baví lidi na sociálních sítích. Martinův příběh číšníka a jeho každodenní zážitky z gastronomie se stávají zábavným vyprávěním\, které osloví naprosto všechny. \nKaždé vystoupení je unikátní a plné improvizace\, protože Martin miluje improvizaci a scénáře mění v průběhu večera\, což občas vykolejí jeho sestru Štěpánku Šmídovou\, která mu dělá skvělou společnost během celé show. Všechny scénky a historky vychází z Martinových zkušeností a zážitků\, jak profesního\, tak soukromého života. Jeho humor je nekorektní\, sebeironický a nebojí se jít na hranu – právě to dělá jeho show nezapomenutelnou! \nNenechte si ujít tento jedinečný zážitek! Vstupenky v prodeji! \nPořad není vhodný mladším 15 let! \n\nTento tip na kulturní akci v Chomutov najdete v přehledu na Dnesnivylet.cz spolu s dalšími koncerty\, festivaly a divadelními představeními.Každý si vybere co se mu líbí. Nezapomeňte koupit vstupenky včas\, stačí kliknout a budete přesměrování na oficiálního prodejce vstupenek.
URL:https://dnesnivylet.cz/event/martin-hranac-crazy-show-chomutov-4/
LOCATION:Městské divadlo\, Chomutov\, Městské divadlo\, Chomutov\, Česká republika
CATEGORIES:Zábava
ATTACH;FMTTYPE=image/jpeg:https://dnesnivylet.cz/wp-content/uploads/2026/02/320-cfd7cc9062364fa59652b9c15791b23b-1.jpg
END:VEVENT
BEGIN:VEVENT
DTSTART;TZID=Europe/Prague:20260515T190000
DTEND;TZID=Europe/Prague:20260515T220000
DTSTAMP:20260419T212208
CREATED:20260404T175404Z
LAST-MODIFIED:20260404T175404Z
UID:20014-1778871600-1778882400@dnesnivylet.cz
SUMMARY:Michael Szatmary Stand-up comedy speciál
DESCRIPTION:Michael Szatmary Stand-up comedy speciál   se uskuteční dne 2026-05-15 v 19:00 v Ostrava\, Skelet Kafe. \n🎟️ Koupit vstupenku \n\nStand-up comedy speciál: Michael Szatmary  \nOstrý jazyk\, výborné pointy a humor\, který si nebere servítky! Do Skelet Kafe míří Michael Szatmary – slovenský stand-up komik\, kterého znáte z pořadu Silné reči nebo z jeho virálních videí na sociálních sítích. Čeká vás večer plný inteligentního\, trefného a nekompromisního humoru. \nPřijďte se pobavit u špičkové stand-up comedy – s parádními drinky a skvělou atmosférou Skelet Kafe.  \n  \nParkování: pohodlně ZDARMA zaparkujete u Krajského úřadu na ulici Na Zapadlém\, jen pár kroků od Skelet Kafe. \nhttps://www.skeletkafe.cz/parkovani \nProsíme hosty\, aby dorazili alespoň 30 minut před začátkem představení. Díky tomu Vás dokážeme všechny pohodlně usadit a obsloužit. Pozdější příchod narušuje hladký průběh akce. Děkujeme za pochopení. \n\nTento tip na kulturní akci v Ostrava najdete v přehledu na Dnesnivylet.cz spolu s dalšími koncerty\, festivaly a divadelními představeními.Každý si vybere co se mu líbí. Nezapomeňte koupit vstupenky včas\, stačí kliknout a budete přesměrování na oficiálního prodejce vstupenek.
URL:https://dnesnivylet.cz/event/michael-szatmary-stand-up-comedy-special/
LOCATION:Skelet Kafe\, Ostrava\, Skelet Kafe\, Ostrava\, Česká republika
CATEGORIES:Zábava
ATTACH;FMTTYPE=image/jpeg:https://dnesnivylet.cz/wp-content/uploads/2026/04/320-ef8c50f4aa44436ebc340dc132aa5917.jpg
END:VEVENT
END:VCALENDAR