BEGIN:VCALENDAR
VERSION:2.0
PRODID:-//www.dnesnivylet.cz                                                                                                                        Tip na výlet pro celou rodinu. - ECPv6.15.13.1//NONSGML v1.0//EN
CALSCALE:GREGORIAN
METHOD:PUBLISH
X-WR-CALNAME:www.dnesnivylet.cz                                                                                                                        Tip na výlet pro celou rodinu.
X-ORIGINAL-URL:https://dnesnivylet.cz
X-WR-CALDESC:Akce na www.dnesnivylet.cz                                                                                                                        Tip na výlet pro celou rodinu.
REFRESH-INTERVAL;VALUE=DURATION:PT1H
X-Robots-Tag:noindex
X-PUBLISHED-TTL:PT1H
BEGIN:VTIMEZONE
TZID:Europe/Prague
BEGIN:DAYLIGHT
TZOFFSETFROM:+0100
TZOFFSETTO:+0200
TZNAME:CEST
DTSTART:20250330T010000
END:DAYLIGHT
BEGIN:STANDARD
TZOFFSETFROM:+0200
TZOFFSETTO:+0100
TZNAME:CET
DTSTART:20251026T010000
END:STANDARD
BEGIN:DAYLIGHT
TZOFFSETFROM:+0100
TZOFFSETTO:+0200
TZNAME:CEST
DTSTART:20260329T010000
END:DAYLIGHT
BEGIN:STANDARD
TZOFFSETFROM:+0200
TZOFFSETTO:+0100
TZNAME:CET
DTSTART:20261025T010000
END:STANDARD
BEGIN:DAYLIGHT
TZOFFSETFROM:+0100
TZOFFSETTO:+0200
TZNAME:CEST
DTSTART:20270328T010000
END:DAYLIGHT
BEGIN:STANDARD
TZOFFSETFROM:+0200
TZOFFSETTO:+0100
TZNAME:CET
DTSTART:20271031T010000
END:STANDARD
END:VTIMEZONE
BEGIN:VEVENT
DTSTART;TZID=Europe/Prague:20260517T170000
DTEND;TZID=Europe/Prague:20260517T200000
DTSTAMP:20260419T212126
CREATED:20251211T064557Z
LAST-MODIFIED:20251211T064557Z
UID:14718-1779037200-1779048000@dnesnivylet.cz
SUMMARY:Travesti Divoké kočky v Opavě
DESCRIPTION:Travesti Divoké kočky v Opavě se uskuteční dne 2026-05-17 v 17:00 v Opava\, Lidový dům. \n🎟️ Koupit vstupenku \n\nTravesti skupina Divoké kočky z Ostravy přijíždí v rámci svého turné se svým programem do Opavy\, kde vystoupí 17.5.2026 od 17:00 na sále lidového domu v Opavě. \nCelovečerní zábavný program je plný nezapomenutelných legračních scének\, písniček\, známých zpěvaček\, krásných kostýmů\, situačního humoru a hlavně smíchu a je vhodný jak pro ženské tak pánské publikum. \nJejich vystoupení se těší stálé větší oblibě a tak si každý divák přijde na své. Přijdte se sami přesvědčit\, že na travesti představení není nic špatného a v podání ostravských umělců se budete určitě dobře bavit. \nDivoké kočky jezdí se svým programem do Opavy pravidelně několik let\, a proto se těší opět na úžasné místní publikum\, atmosféru a skvělý večer. \nNa závěr programu Vám členové souboru ukážou svou pravou tvář. Délka programu s přestávkou 150 min. \n\nTento tip na kulturní akci v Opava najdete v přehledu na Dnesnivylet.cz spolu s dalšími koncerty\, festivaly a divadelními představeními.Každý si vybere co se mu líbí. Nezapomeňte koupit vstupenky včas\, stačí kliknout a budete přesměrování na oficiálního prodejce vstupenek.
URL:https://dnesnivylet.cz/event/travesti-divoke-kocky-v-opave/
LOCATION:Lidový dům\, Opava\, Lidový dům\, Opava\, Česká republika
CATEGORIES:Zábava
ATTACH;FMTTYPE=image/jpeg:https://dnesnivylet.cz/wp-content/uploads/2025/12/320-5ad193b3665241c08e5a8375eecb5b1b.jpg
END:VEVENT
BEGIN:VEVENT
DTSTART;TZID=Europe/Prague:20260517T170000
DTEND;TZID=Europe/Prague:20260517T200000
DTSTAMP:20260419T212126
CREATED:20251211T064557Z
LAST-MODIFIED:20251211T064557Z
UID:14719-1779037200-1779048000@dnesnivylet.cz
SUMMARY:Travesti Divoké kočky v Opavě
DESCRIPTION:Travesti Divoké kočky v Opavě se uskuteční dne 2026-05-17 v 17:00 v Opava\, Lidový dům. \n🎟️ Koupit vstupenku \n\nTravesti skupina Divoké kočky z Ostravy přijíždí v rámci svého turné se svým programem do Opavy\, kde vystoupí 17.5.2026 od 17:00 na sále lidového domu v Opavě. \nCelovečerní zábavný program je plný nezapomenutelných legračních scének\, písniček\, známých zpěvaček\, krásných kostýmů\, situačního humoru a hlavně smíchu a je vhodný jak pro ženské tak pánské publikum. \nJejich vystoupení se těší stálé větší oblibě a tak si každý divák přijde na své. Přijdte se sami přesvědčit\, že na travesti představení není nic špatného a v podání ostravských umělců se budete určitě dobře bavit. \nDivoké kočky jezdí se svým programem do Opavy pravidelně několik let\, a proto se těší opět na úžasné místní publikum\, atmosféru a skvělý večer. \nNa závěr programu Vám členové souboru ukážou svou pravou tvář. Délka programu s přestávkou 150 min. \n\nTento tip na kulturní akci v Opava najdete v přehledu na Dnesnivylet.cz spolu s dalšími koncerty\, festivaly a divadelními představeními.Každý si vybere co se mu líbí. Nezapomeňte koupit vstupenky včas\, stačí kliknout a budete přesměrování na oficiálního prodejce vstupenek.
URL:https://dnesnivylet.cz/event/travesti-divoke-kocky-v-opave-2/
LOCATION:Lidový dům\, Opava\, Lidový dům\, Opava\, Česká republika
CATEGORIES:Zábava
ATTACH;FMTTYPE=image/jpeg:https://dnesnivylet.cz/wp-content/uploads/2025/12/320-5ad193b3665241c08e5a8375eecb5b1b-1.jpg
END:VEVENT
BEGIN:VEVENT
DTSTART;TZID=Europe/Prague:20260517T180000
DTEND;TZID=Europe/Prague:20260517T210000
DTSTAMP:20260419T212126
CREATED:20260419T122418Z
LAST-MODIFIED:20260419T122418Z
UID:20924-1779040800-1779051600@dnesnivylet.cz
SUMMARY:Aleš Cibulka - Přátelské povídání
DESCRIPTION:Aleš Cibulka – Přátelské povídání se uskuteční dne 2026-05-17 v 18:00 v Staré Ždánice\, Zámeček Staré Ždánice. \n🎟️ Koupit vstupenku \n\nAleš Cibulka – Přátelské povídání \nZveme vás na přátelské setkání s Alešem Cibulkou\, jednou z nejvýraznějších osobností českého rozhlasového a televizního světa. Moderátor\, publicista a milovník české kultury vás zaujme spoustou zajímavých příběhů ze zákulisí médií\, laskavého humoru i osobních vzpomínek. \nAleš Cibulka působí řadu let v Českém rozhlase i České televizi\, kde se stal známou tváří a hlasem pořadů jako Dobré ráno\, Blízká setkání\, Dva na Dvojce a zejména pak Tobogán. \nVedle práce v médiích se věnuje i psaní knih a s velkým zaujetím připomíná osobnosti českého filmu a divadla\, zejména herečky Natašu Gollovou a Zdenku Sulanovou\, jejichž životům věnoval své publikace. \nČeká vás příjemný večer v duchu noblesy\, laskavosti a kultivované zábavy\, který potěší pamětníky i nové generace posluchačů. \nVečerem vás provede majitel zámečku Nathaniel Filip de Aras\, který jistě zazpívá i nějakou píseň. \nPřednáška se uskuteční v komorním a domácím prostředí hudebního salónu ždánického zámečku a je určena pro exkluzivní počet 40 hostů\, aby byla zachována osobní a přátelská atmosféra. \nBěhem přestávky i po skončení programu\, doplněného o vynikající domácí občerstvení\, bude prostor pro osobní setkání\, rozhovor nebo společnou fotografii. \nDress code: Smart Casual – ležérní elegance (Prosíme dámy\, aby nenosily lodičky s ostrým podpatkem\, které nesvědčí dřevěné podlaze) \nParkování aut je doporučeno v okolí Staroždánické hospůdky (parkoviště je vedle hospody i v ulici ke kostelu) \nProgram potrvá přibližně 120 minut \n  \n\nTento tip na kulturní akci v Staré Ždánice najdete v přehledu na Dnesnivylet.cz spolu s dalšími koncerty\, festivaly a divadelními představeními.Každý si vybere co se mu líbí. Nezapomeňte koupit vstupenky včas\, stačí kliknout a budete přesměrování na oficiálního prodejce vstupenek.
URL:https://dnesnivylet.cz/event/ales-cibulka-pratelske-povidani/
LOCATION:Zámeček Staré Ždánice\, Staré Ždánice\, Zámeček Staré Ždánice\, Staré Ždánice\, Česká republika
CATEGORIES:Zábava
ATTACH;FMTTYPE=image/jpeg:https://dnesnivylet.cz/wp-content/uploads/2026/04/320-6d4afcff5c1a4e59bc0a7e1a55f3dcf0.jpg
END:VEVENT
BEGIN:VEVENT
DTSTART;TZID=Europe/Prague:20260517T190000
DTEND;TZID=Europe/Prague:20260517T220000
DTSTAMP:20260419T212126
CREATED:20260122T181014Z
LAST-MODIFIED:20260122T181014Z
UID:17031-1779044400-1779055200@dnesnivylet.cz
SUMMARY:Miloš Knor - Jiná doba - Stand-up comedy show
DESCRIPTION:Miloš Knor – Jiná doba – Stand-up comedy show se uskuteční dne 2026-05-17 v 19:00 v Jablonec nad Nisou\, Eurocentrum. \n🎟️ Koupit vstupenku \n\nSvět se stále mění a doba je pořád jiná. Každý dnem\, hodinou\, okamžikem. Nic není jak bylo a nic nebude jak je. Humorný pohled na civilizační pokrok vám Miloš Knor ve své 90 minutové show popíše na několika příkladech. Jaký byl život bez telefonu\, stará dobrá analogová hádka a zachrání nás ekofašismus? Potřebuje auto tlačítko se snižováním výkonu? Bylo líp? Je? Bude? \nTaková je zbrusu nová Stand-up comedy show Miloše Knora.  \n!Vhodné pro všechny věkové kategorie od 18 let. I když\, teď je všechno jinak!  \nDalší Stand-up shows v Ostravě: www.standupshow.cz/stand-up-ostrava \n\nTento tip na kulturní akci v Jablonec nad Nisou najdete v přehledu na Dnesnivylet.cz spolu s dalšími koncerty\, festivaly a divadelními představeními.Každý si vybere co se mu líbí. Nezapomeňte koupit vstupenky včas\, stačí kliknout a budete přesměrování na oficiálního prodejce vstupenek.
URL:https://dnesnivylet.cz/event/milos-knor-jina-doba-stand-up-comedy-show-5/
LOCATION:Eurocentrum\, Jablonec nad Nisou\, Eurocentrum\, Jablonec nad Nisou\, Česká republika
CATEGORIES:Zábava
ATTACH;FMTTYPE=image/jpeg:https://dnesnivylet.cz/wp-content/uploads/2026/01/320-59edbb43f7164f57a5914a7da0545318.jpg
END:VEVENT
END:VCALENDAR