BEGIN:VCALENDAR
VERSION:2.0
PRODID:-//www.dnesnivylet.cz                                                                                                                        Tip na výlet pro celou rodinu. - ECPv6.15.13.1//NONSGML v1.0//EN
CALSCALE:GREGORIAN
METHOD:PUBLISH
X-ORIGINAL-URL:https://dnesnivylet.cz
X-WR-CALDESC:Akce na www.dnesnivylet.cz                                                                                                                        Tip na výlet pro celou rodinu.
REFRESH-INTERVAL;VALUE=DURATION:PT1H
X-Robots-Tag:noindex
X-PUBLISHED-TTL:PT1H
BEGIN:VTIMEZONE
TZID:Europe/Prague
BEGIN:DAYLIGHT
TZOFFSETFROM:+0100
TZOFFSETTO:+0200
TZNAME:CEST
DTSTART:20250330T010000
END:DAYLIGHT
BEGIN:STANDARD
TZOFFSETFROM:+0200
TZOFFSETTO:+0100
TZNAME:CET
DTSTART:20251026T010000
END:STANDARD
BEGIN:DAYLIGHT
TZOFFSETFROM:+0100
TZOFFSETTO:+0200
TZNAME:CEST
DTSTART:20260329T010000
END:DAYLIGHT
BEGIN:STANDARD
TZOFFSETFROM:+0200
TZOFFSETTO:+0100
TZNAME:CET
DTSTART:20261025T010000
END:STANDARD
BEGIN:DAYLIGHT
TZOFFSETFROM:+0100
TZOFFSETTO:+0200
TZNAME:CEST
DTSTART:20270328T010000
END:DAYLIGHT
BEGIN:STANDARD
TZOFFSETFROM:+0200
TZOFFSETTO:+0100
TZNAME:CET
DTSTART:20271031T010000
END:STANDARD
END:VTIMEZONE
BEGIN:VEVENT
DTSTART;TZID=Europe/Prague:20260522T160000
DTEND;TZID=Europe/Prague:20260522T190000
DTSTAMP:20260419T212033
CREATED:20260405T130655Z
LAST-MODIFIED:20260405T130656Z
UID:20266-1779465600-1779476400@dnesnivylet.cz
SUMMARY:Výroba cínové figurky
DESCRIPTION:Výroba cínové figurky se uskuteční dne 2026-05-22 v 16:00 v Třebíč\, Šmeralův statek. \n🎟️ Koupit vstupenku \n\nŘemeslný workshop na Šmeralově statku s Jiřím Grégrem z Velké Bíteše. \nDélka trvání workshopu 3-4 hodiny. \n\nTento tip na kulturní akci v Třebíč najdete v přehledu na Dnesnivylet.cz spolu s dalšími koncerty\, festivaly a divadelními představeními.Každý si vybere co se mu líbí. Nezapomeňte koupit vstupenky včas\, stačí kliknout a budete přesměrování na oficiálního prodejce vstupenek.
URL:https://dnesnivylet.cz/event/vyroba-cinove-figurky/
LOCATION:Šmeralův statek\, Třebíč\, Šmeralův statek\, Třebíč\, Česká republika
CATEGORIES:Zábava
ATTACH;FMTTYPE=image/jpeg:https://dnesnivylet.cz/wp-content/uploads/2026/04/320-d19469f59d15401a99386233c0e2340e.jpg
END:VEVENT
BEGIN:VEVENT
DTSTART;TZID=Europe/Prague:20260522T190000
DTEND;TZID=Europe/Prague:20260522T220000
DTSTAMP:20260419T212033
CREATED:20251105T191815Z
LAST-MODIFIED:20251105T191816Z
UID:12541-1779476400-1779487200@dnesnivylet.cz
SUMMARY:Martin Hranáč - CRAZY SHOW - Brno
DESCRIPTION:Martin Hranáč – CRAZY SHOW – Brno se uskuteční dne 2026-05-22 v 19:00 v Brno\, První Patro. \n🎟️ Koupit vstupenku \n\nChcete vstoupit do světa humoru a improvizace? Tak je CRAZY SHOW právě pro VÁS! Připravte se na nezapomenutelný večer plný smíchu s Martinem Hranáčem – komikem\, hercem\, číšníkem a optimistou\, který svým jedinečným smyslem pro humor baví lidi na sociálních sítích. Martinův příběh číšníka a jeho každodenní zážitky z gastronomie se stávají zábavným vyprávěním\, které osloví naprosto všechny. \nKaždé vystoupení je unikátní a plné improvizace\, protože Martin miluje improvizaci a scénáře mění v průběhu večera\, což občas vykolejí jeho sestru Štěpánku Šmídovou\, která mu dělá skvělou společnost během celé show. Všechny scénky a historky vychází z Martinových zkušeností a zážitků\, jak profesního\, tak soukromého života. Jeho humor je nekorektní\, sebeironický a nebojí se jít na hranu – právě to dělá jeho show nezapomenutelnou! \nNenechte si ujít tento jedinečný zážitek! Vstupenky v prodeji! \nPořad není vhodný mladším 15 let! \n\nTento tip na kulturní akci v Brno najdete v přehledu na Dnesnivylet.cz spolu s dalšími koncerty\, festivaly a divadelními představeními.Každý si vybere co se mu líbí. Nezapomeňte koupit vstupenky včas\, stačí kliknout a budete přesměrování na oficiálního prodejce vstupenek.
URL:https://dnesnivylet.cz/event/martin-hranac-crazy-show-brno-5/
LOCATION:První Patro\, Brno\, První Patro\, Brno\, Česká republika
CATEGORIES:Zábava
ATTACH;FMTTYPE=image/jpeg:https://dnesnivylet.cz/wp-content/uploads/2025/11/320-cc108acde1634e229a5971e4845bc5e3.jpg
END:VEVENT
BEGIN:VEVENT
DTSTART;TZID=Europe/Prague:20260522T190000
DTEND;TZID=Europe/Prague:20260522T220000
DTSTAMP:20260419T212033
CREATED:20251215T111208Z
LAST-MODIFIED:20251215T111231Z
UID:15434-1779476400-1779487200@dnesnivylet.cz
SUMMARY:Burlesque Tribute: Od kankánu po bizár
DESCRIPTION:Burlesque Tribute: Od kankánu po bizár se uskuteční dne 2026-05-22 v 19:00 v Brno\, Cabaret des Péchés. \n🎟️ Koupit vstupenku \n\nBURLESQUE TRIBUTE: OD KANKÁNU PO BIZÁR  \nVýpravná show\, která nemá ve světě obdoby. \nBurlesque Tribute je unikátní tříaktová podívaná\, která vás provede historií burlesky – od jejích kořenů v 19. století\, přes éru americké prohibice\, až po současnou neo-burlesku. Připravte se na večer\, kde se třpyt\, elegance\, humor i odvaha snoubí do show\, kterou jen tak někde neuvidíte. \nNaučné? Ano. Interaktivní? Rozhodně. Zábavné? Víc\, než čekáte. \nKaždý z aktů nabídne originální ztvárnění určité éry kabaretní a burleskní historie – včetně ikonických rekvizit\, autentických kostýmů a živých vystoupení. Na jevišti se objeví zpěvačky\, taneční ansámbl i performeři\, kteří vás vtáhnou nejen svými čísly\, ale i příběhem. A pozor – místy se do děje zapojí i samotné publikum. \nKostýmy inspirované ikonami burlesky a kabaretuNeočekávané momenty\, které posunou vaše představy o burlesceBurleska jako forma umění – zábavná\, odvážná\, vzdělávací \nBurlesque Tribute je oslavou minulosti i současnosti burlesky.Není to jen show. Je to zážitek. \nVIP vstupenky v prvních řadách s welcome drinkem \n  \nUpozornění pro divákyTato inscenace obsahuje světelné efekty\, včetně stroboskopických záblesků a rychle se měnících světelných sekvencí. U osob s fotosenzitivní epilepsií nebo zvýšenou citlivostí na intenzivní světelné podněty mohou tyto efekty vyvolat nepříznivé zdravotní reakce. Divákům\, kterých by se tato skutečnost mohla týkat\, se doporučuje zvýšená opatrnost. \n\nTento tip na kulturní akci v Brno najdete v přehledu na Dnesnivylet.cz spolu s dalšími koncerty\, festivaly a divadelními představeními.Každý si vybere co se mu líbí. Nezapomeňte koupit vstupenky včas\, stačí kliknout a budete přesměrování na oficiálního prodejce vstupenek.
URL:https://dnesnivylet.cz/event/burlesque-tribute-od-kankanu-po-bizar-4/
LOCATION:Cabaret des Péchés\, Brno\, Cabaret des Péchés\, Brno\, Česká republika
CATEGORIES:Zábava
ATTACH;FMTTYPE=image/jpeg:https://dnesnivylet.cz/wp-content/uploads/2025/12/320-cf0fdb14a25549acac90a7b484fa051a.jpg
END:VEVENT
BEGIN:VEVENT
DTSTART;TZID=Europe/Prague:20260522T190000
DTEND;TZID=Europe/Prague:20260522T220000
DTSTAMP:20260419T212033
CREATED:20251215T115125Z
LAST-MODIFIED:20251215T115126Z
UID:15546-1779476400-1779487200@dnesnivylet.cz
SUMMARY:Tigran Hovakimyan - Tigran je ve městě - Krnov
DESCRIPTION:Tigran Hovakimyan – Tigran je ve městě – Krnov se uskuteční dne 2026-05-22 v 19:00 v Krnov\, Kino Mír 70. \n🎟️ Koupit vstupenku \n\nTigran Hovakimyan pochází z Arménie\, mluví čtyřmi jazyky a za sebou má pestrou škálu životních i pracovních zkušeností. Než zakotvil u stand-up comedy\, vyzkoušel řadu zaměstnání a působil jako amatérský herec v dětském divadle. Právě tam se naučil vnímat publikum\, reagovat na jeho energii a přirozeně pracovat s humorem. \nZ dětského jeviště zamířil na stand-up pódia\, kde se může spolehnout jen na sebe – a to mu vyhovuje nejvíc. V roce 2026 vyráží na svou dosud největší stand-up tour napříč Českou republikou se svým speciálem Tigran je ve městě. \nČeká vás večer plný originálního humoru\, osobitých postřehů\, nečekaných point a energie\, která vás nenechá v klidu sedět! \nNa každém vystoupení se představí jako předskokan některý z českých stand-up komiků. \n\nTento tip na kulturní akci v Krnov najdete v přehledu na Dnesnivylet.cz spolu s dalšími koncerty\, festivaly a divadelními představeními.Každý si vybere co se mu líbí. Nezapomeňte koupit vstupenky včas\, stačí kliknout a budete přesměrování na oficiálního prodejce vstupenek.
URL:https://dnesnivylet.cz/event/tigran-hovakimyan-tigran-je-ve-meste-krnov/
LOCATION:Kino Mír 70\, Krnov\, Kino Mír 70\, Krnov\, Česká republika
CATEGORIES:Zábava
ATTACH;FMTTYPE=image/jpeg:https://dnesnivylet.cz/wp-content/uploads/2025/12/320-40a62c660be544d890faf83b8507e833.jpg
END:VEVENT
BEGIN:VEVENT
DTSTART;TZID=Europe/Prague:20260522T190000
DTEND;TZID=Europe/Prague:20260522T220000
DTSTAMP:20260419T212033
CREATED:20260106T120414Z
LAST-MODIFIED:20260106T120416Z
UID:16480-1779476400-1779487200@dnesnivylet.cz
SUMMARY:Travesti Divoké kočky v Brně
DESCRIPTION:Travesti Divoké kočky v Brně se uskuteční dne 2026-05-22 v 19:00 v Brno\, Dělnický dům. \n🎟️ Koupit vstupenku \n\nTravesti skupina Divoké kočky z Ostravy přijíždí v rámci svého turné se svým novým programem opět do BRNA\, kde vystoupí 22.5.2026 od 19:00 na sále dělnického domu v Brně-Židenicích.  \nCelovečerní zábavný program je plný nezapomenutelných legračních scének\, písniček\, známých zpěvaček\, krásných kostýmů\, situačního humoru a hlavně smíchu a je vhodný jak pro ženské tak pánské publikum. Jejich vystoupení se těší stálé větší oblibě a tak si každý divák přijde na své. Přijdte se sami přesvědčit\, že na travesti představení není nic špatného a v podání ostravských umělců se budete určitě dobře bavit. \nDivoké kočky jezdí se svým programem do ŽIDENIC pravidelně 2x ročně vždy v květnu a v listopadu již od roku 2010\, a proto se těší opět na úžasné místní publikum\, atmosféru a skvělý večer. Na závěr programu Vám členové souboru ukážou svou pravou tvář. \n\nTento tip na kulturní akci v Brno najdete v přehledu na Dnesnivylet.cz spolu s dalšími koncerty\, festivaly a divadelními představeními.Každý si vybere co se mu líbí. Nezapomeňte koupit vstupenky včas\, stačí kliknout a budete přesměrování na oficiálního prodejce vstupenek.
URL:https://dnesnivylet.cz/event/travesti-divoke-kocky-v-brne-2/
LOCATION:Dělnický dům\, Brno\, Dělnický dům\, Brno\, Česká republika
CATEGORIES:Zábava
ATTACH;FMTTYPE=image/jpeg:https://dnesnivylet.cz/wp-content/uploads/2026/01/320-13a122e3565447338e50fde0b6bc2ab2.jpg
END:VEVENT
BEGIN:VEVENT
DTSTART;TZID=Europe/Prague:20260522T190000
DTEND;TZID=Europe/Prague:20260522T220000
DTSTAMP:20260419T212033
CREATED:20260306T173059Z
LAST-MODIFIED:20260306T173059Z
UID:19120-1779476400-1779487200@dnesnivylet.cz
SUMMARY:NA STOJÁKA live
DESCRIPTION:NA STOJÁKA live se uskuteční dne 2026-05-22 v 19:00 v Dubňany\, Kulturní dům. \n🎟️ Koupit vstupenku \n\n Stand-up večer v Dubňanech: Smích\, který rozhoupe i Kulturní dům \nKarel Hynek – neplést s básníkem\, ale texty by mu klidně mohl psát. Ostře\, jemně\, vždy trefně. Iva Pazderková – žena\, která vám dokáže rozložit vážnost na prvočinitele během pár vteřin. Zbyněk Vičar – pokud myslíte\, že jste už slyšeli všechno\, počkejte si na něj. \nPřijďte si užít večer plný inteligentního humoru\, nečekaných point a situací\, které by vám ani scenáristi netroufli slíbit. Bar bude otevřen\, židle připraveny\, mikrofony nabité. Chybíte jen vy. \nPředstavení není vhodné pro osoby mladší 15-ti let. \n  \n\nTento tip na kulturní akci v Dubňany najdete v přehledu na Dnesnivylet.cz spolu s dalšími koncerty\, festivaly a divadelními představeními.Každý si vybere co se mu líbí. Nezapomeňte koupit vstupenky včas\, stačí kliknout a budete přesměrování na oficiálního prodejce vstupenek.
URL:https://dnesnivylet.cz/event/na-stojaka-live/
LOCATION:Kulturní dům\, Dubňany\, Kulturní dům\, Dubňany\, Česká republika
CATEGORIES:Zábava
ATTACH;FMTTYPE=image/jpeg:https://dnesnivylet.cz/wp-content/uploads/2026/03/320-95038be0871c49d9901758373273cd10.jpg
END:VEVENT
BEGIN:VEVENT
DTSTART;TZID=Europe/Prague:20260522T200000
DTEND;TZID=Europe/Prague:20260522T230000
DTSTAMP:20260419T212033
CREATED:20260404T175605Z
LAST-MODIFIED:20260404T175605Z
UID:20041-1779480000-1779490800@dnesnivylet.cz
SUMMARY:Teenage Dream Party - Plzeň
DESCRIPTION:Teenage Dream Party – Plzeň  se uskuteční dne 2026-05-22 v 20:00 v Plzeň\, Buena Vista. \n🎟️ Koupit vstupenku \n\nTEENAGE DREAM PARTY V PLZNI! 🎉 \nUž 22.5. se vidíme v Buena Vista s naší pohádkovou párty! \nPřijď si užít jedinečný večer plný nostalgie\, hudby a zábavy.💃 \n  \nTeenage Dream Party není jen obyčejná párty. Je to jedinečná příležitost vrátit se zpátky do našich mladých let\, kdy jsme s nadšením sledovali Disney pohádky a seriály. Připravili jsme pro vás mix těch nejznámějších písniček z Disney filmů\, které nás provázeli během našich dětských let. ⭐️ \n  \nCelý večer vás bude doprovázet nejen hudba\, ale i videoklipy a záběry z těchto  ikonických pohádek a seriálů\, které budeme promítat na plátno za naším DJem 🪩 \n  \nKlub bude otevřený od 20:00\, ve 21:00 začínají Disney Hity s videoprojekcí.🎥 \n  \nMŮŽEŠ SE TĚŠIT NA: \n– videoprojekci 🎥 \n– tématickou výzdobu 🐭 \n– světelné efekty 🎇 \n– tematické drinky🍹 \n– VIP Disney dárky🎁 \n– skvělou atmosféru🎉 \n  \nINFO: \nOPEN: 20:00 ⏰ \nSTART: 21:00 🏁 \n Věk: 15+  \n\nTento tip na kulturní akci v Plzeň najdete v přehledu na Dnesnivylet.cz spolu s dalšími koncerty\, festivaly a divadelními představeními.Každý si vybere co se mu líbí. Nezapomeňte koupit vstupenky včas\, stačí kliknout a budete přesměrování na oficiálního prodejce vstupenek.
URL:https://dnesnivylet.cz/event/teenage-dream-party-plzen/
LOCATION:Buena Vista\, Plzeň\, Buena Vista\, Plzeň\, Česká republika
CATEGORIES:Zábava
ATTACH;FMTTYPE=image/jpeg:https://dnesnivylet.cz/wp-content/uploads/2026/04/320-007ff449143f4e22870df564d6fbc1c2.jpg
END:VEVENT
END:VCALENDAR