BEGIN:VCALENDAR
VERSION:2.0
PRODID:-//www.dnesnivylet.cz                                                                                                                        Tip na výlet pro celou rodinu. - ECPv6.15.13.1//NONSGML v1.0//EN
CALSCALE:GREGORIAN
METHOD:PUBLISH
X-ORIGINAL-URL:https://dnesnivylet.cz
X-WR-CALDESC:Akce na www.dnesnivylet.cz                                                                                                                        Tip na výlet pro celou rodinu.
REFRESH-INTERVAL;VALUE=DURATION:PT1H
X-Robots-Tag:noindex
X-PUBLISHED-TTL:PT1H
BEGIN:VTIMEZONE
TZID:Europe/Prague
BEGIN:DAYLIGHT
TZOFFSETFROM:+0100
TZOFFSETTO:+0200
TZNAME:CEST
DTSTART:20250330T010000
END:DAYLIGHT
BEGIN:STANDARD
TZOFFSETFROM:+0200
TZOFFSETTO:+0100
TZNAME:CET
DTSTART:20251026T010000
END:STANDARD
BEGIN:DAYLIGHT
TZOFFSETFROM:+0100
TZOFFSETTO:+0200
TZNAME:CEST
DTSTART:20260329T010000
END:DAYLIGHT
BEGIN:STANDARD
TZOFFSETFROM:+0200
TZOFFSETTO:+0100
TZNAME:CET
DTSTART:20261025T010000
END:STANDARD
BEGIN:DAYLIGHT
TZOFFSETFROM:+0100
TZOFFSETTO:+0200
TZNAME:CEST
DTSTART:20270328T010000
END:DAYLIGHT
BEGIN:STANDARD
TZOFFSETFROM:+0200
TZOFFSETTO:+0100
TZNAME:CET
DTSTART:20271031T010000
END:STANDARD
END:VTIMEZONE
BEGIN:VEVENT
DTSTART;TZID=Europe/Prague:20260527T190000
DTEND;TZID=Europe/Prague:20260527T220000
DTSTAMP:20260419T212033
CREATED:20251222T144302Z
LAST-MODIFIED:20251222T144302Z
UID:15792-1779908400-1779919200@dnesnivylet.cz
SUMMARY:Tigran Hovakimyan - Tigran je ve městě - Karviná
DESCRIPTION:Tigran Hovakimyan – Tigran je ve městě – Karviná se uskuteční dne 2026-05-27 v 19:00 v Karviná\, Obecní dům Družba. \n🎟️ Koupit vstupenku \n\nTigran Hovakimyan pochází z Arménie\, mluví čtyřmi jazyky a za sebou má pestrou škálu životních i pracovních zkušeností. Než zakotvil u stand-up comedy\, vyzkoušel řadu zaměstnání a působil jako amatérský herec v dětském divadle. Právě tam se naučil vnímat publikum\, reagovat na jeho energii a přirozeně pracovat s humorem. \nZ dětského jeviště zamířil na stand-up pódia\, kde se může spolehnout jen na sebe – a to mu vyhovuje nejvíc. V roce 2026 vyráží na svou dosud největší stand-up tour napříč Českou republikou se svým speciálem Tigran je ve městě. \nČeká vás večer plný originálního humoru\, osobitých postřehů\, nečekaných point a energie\, která vás nenechá v klidu sedět! \nNa každém vystoupení se představí jako předskokan některý z českých stand-up komiků. \n\nTento tip na kulturní akci v Karviná najdete v přehledu na Dnesnivylet.cz spolu s dalšími koncerty\, festivaly a divadelními představeními.Každý si vybere co se mu líbí. Nezapomeňte koupit vstupenky včas\, stačí kliknout a budete přesměrování na oficiálního prodejce vstupenek.
URL:https://dnesnivylet.cz/event/tigran-hovakimyan-tigran-je-ve-meste-karvina/
LOCATION:Obecní dům Družba\, Karviná\, Obecní dům Družba\, Karviná\, Česká republika
CATEGORIES:Zábava
ATTACH;FMTTYPE=image/jpeg:https://dnesnivylet.cz/wp-content/uploads/2025/12/320-7c7cad5c1caf41aaadcbf096f3cad409.jpg
END:VEVENT
BEGIN:VEVENT
DTSTART;TZID=Europe/Prague:20260527T190000
DTEND;TZID=Europe/Prague:20260527T220000
DTSTAMP:20260419T212033
CREATED:20260206T110422Z
LAST-MODIFIED:20260206T110422Z
UID:17412-1779908400-1779919200@dnesnivylet.cz
SUMMARY:TIKI TAKA na cestách - Klatovy
DESCRIPTION:TIKI TAKA na cestách – Klatovy se uskuteční dne 2026-05-27 v 19:00 v Klatovy\, Dům kultury. \n🎟️ Koupit vstupenku \n\nZábavná talkshow pro fanynky a fanoušky nejen fotbalu. Protagonisté populární televizní talkshow Tiki-Taka\, která má za sebou na stanici Oneplay Sport už 300 odvysílaných epizod\, vyrážejí s živou verzí pořadu do všech koutů Česka. Petr Svěcený\, Petr Švancara\, Luděk Zelenka a jejich hosté jsou připraveni servírovat fotbal prostě jinak. A hlavně vás pobavit. \n\nTento tip na kulturní akci v Klatovy najdete v přehledu na Dnesnivylet.cz spolu s dalšími koncerty\, festivaly a divadelními představeními.Každý si vybere co se mu líbí. Nezapomeňte koupit vstupenky včas\, stačí kliknout a budete přesměrování na oficiálního prodejce vstupenek.
URL:https://dnesnivylet.cz/event/tiki-taka-na-cestach-klatovy/
LOCATION:Dům kultury\, Klatovy\, Dům kultury\, Klatovy\, Česká republika
CATEGORIES:Zábava
ATTACH;FMTTYPE=image/jpeg:https://dnesnivylet.cz/wp-content/uploads/2026/02/320-2630d90e7cc24561b83753e829bb57f9.jpg
END:VEVENT
BEGIN:VEVENT
DTSTART;TZID=Europe/Prague:20260527T190000
DTEND;TZID=Europe/Prague:20260527T220000
DTSTAMP:20260419T212033
CREATED:20260209T194517Z
LAST-MODIFIED:20260209T194517Z
UID:17927-1779908400-1779919200@dnesnivylet.cz
SUMMARY:Podcast Zjisti víc v Praze: Záhady a nevysvětlené jevy
DESCRIPTION:Podcast Zjisti víc v Praze: Záhady a nevysvětlené jevy se uskuteční dne 2026-05-27 v 19:00 v Praha\, Kino 35. \n🎟️ Koupit vstupenku \n\nDalší živák podcastu Zjisti víc je tady! \nDo parády si vezmeme téma „Záhady a nevysvětlené jevy“ a pěkně si ho rozebereme tak\, jak jste u nás zvyklí – do hloubky\, s nadhledem a spoustou konkrétních případů. \nV rámci živáku vám také rádi odpovíme na otázky\, popovídáme si\, podepíšeme se a tak podobně. \nO lístky je vždycky velký zájem\, doporučujeme je tedy koupit co nejdříve. \nTěšíme se na vás! \nDavid a Kuba \n\nTento tip na kulturní akci v Praha najdete v přehledu na Dnesnivylet.cz spolu s dalšími koncerty\, festivaly a divadelními představeními.Každý si vybere co se mu líbí. Nezapomeňte koupit vstupenky včas\, stačí kliknout a budete přesměrování na oficiálního prodejce vstupenek.
URL:https://dnesnivylet.cz/event/podcast-zjisti-vic-v-praze-zahady-a-nevysvetlene-jevy/
LOCATION:Kino 35\, Praha\, Kino 35\, Praha\, Česká republika
CATEGORIES:Zábava
ATTACH;FMTTYPE=image/jpeg:https://dnesnivylet.cz/wp-content/uploads/2026/02/320-6e0bb95d8bd74c36af61b065c526a3ac.jpg
END:VEVENT
BEGIN:VEVENT
DTSTART;TZID=Europe/Prague:20260527T190000
DTEND;TZID=Europe/Prague:20260527T220000
DTSTAMP:20260419T212033
CREATED:20260419T120858Z
LAST-MODIFIED:20260419T120859Z
UID:20727-1779908400-1779919200@dnesnivylet.cz
SUMMARY:Léčba smíchem - Talk show / Bubílková\, Pitkin\, Šimůnek
DESCRIPTION:Léčba smíchem – Talk show / Bubílková\, Pitkin\, Šimůnek se uskuteční dne 2026-05-27 v 19:00 v Plzeň\, Šeříkovka. \n🎟️ Koupit vstupenku \n\nLÉČBA SMÍCHEM – ZUZANA BUBÍLKOVÁ\, MILAN PITKIN A MIROSLAV ŠIMŮNEK \n  \nTalkshow Zuzany Bubílkové\, Milana Pitkina a Miroslava Šimůnka.  \nVtipné vyprávění plné historek ze soukromého i profesního života protagonistů\, glosy na aktuální témata současného dění a bezpočet vtipů Milana Pitkina s písničkami Waldemara Matušky.  \nDélka: 110 minut plus autogramiáda \n\nTento tip na kulturní akci v Plzeň najdete v přehledu na Dnesnivylet.cz spolu s dalšími koncerty\, festivaly a divadelními představeními.Každý si vybere co se mu líbí. Nezapomeňte koupit vstupenky včas\, stačí kliknout a budete přesměrování na oficiálního prodejce vstupenek.
URL:https://dnesnivylet.cz/event/lecba-smichem-talk-show-bubilkova-pitkin-simunek-10/
LOCATION:Šeřikovka\, Plzeň\, Šeřikovka\, Plzeň\, Česká republika
CATEGORIES:Zábava
ATTACH;FMTTYPE=image/jpeg:https://dnesnivylet.cz/wp-content/uploads/2026/04/320-1a6a57ef579241c798a00e77935a831e.jpg
END:VEVENT
END:VCALENDAR