BEGIN:VCALENDAR
VERSION:2.0
PRODID:-//www.dnesnivylet.cz                                                                                                                        Tip na výlet pro celou rodinu. - ECPv6.15.13.1//NONSGML v1.0//EN
CALSCALE:GREGORIAN
METHOD:PUBLISH
X-WR-CALNAME:www.dnesnivylet.cz                                                                                                                        Tip na výlet pro celou rodinu.
X-ORIGINAL-URL:https://dnesnivylet.cz
X-WR-CALDESC:Akce na www.dnesnivylet.cz                                                                                                                        Tip na výlet pro celou rodinu.
REFRESH-INTERVAL;VALUE=DURATION:PT1H
X-Robots-Tag:noindex
X-PUBLISHED-TTL:PT1H
BEGIN:VTIMEZONE
TZID:Europe/Prague
BEGIN:DAYLIGHT
TZOFFSETFROM:+0100
TZOFFSETTO:+0200
TZNAME:CEST
DTSTART:20250330T010000
END:DAYLIGHT
BEGIN:STANDARD
TZOFFSETFROM:+0200
TZOFFSETTO:+0100
TZNAME:CET
DTSTART:20251026T010000
END:STANDARD
BEGIN:DAYLIGHT
TZOFFSETFROM:+0100
TZOFFSETTO:+0200
TZNAME:CEST
DTSTART:20260329T010000
END:DAYLIGHT
BEGIN:STANDARD
TZOFFSETFROM:+0200
TZOFFSETTO:+0100
TZNAME:CET
DTSTART:20261025T010000
END:STANDARD
BEGIN:DAYLIGHT
TZOFFSETFROM:+0100
TZOFFSETTO:+0200
TZNAME:CEST
DTSTART:20270328T010000
END:DAYLIGHT
BEGIN:STANDARD
TZOFFSETFROM:+0200
TZOFFSETTO:+0100
TZNAME:CET
DTSTART:20271031T010000
END:STANDARD
END:VTIMEZONE
BEGIN:VEVENT
DTSTART;TZID=Europe/Prague:20260529T190000
DTEND;TZID=Europe/Prague:20260529T220000
DTSTAMP:20260419T212009
CREATED:20251103T194134Z
LAST-MODIFIED:20251103T194134Z
UID:12177-1780081200-1780092000@dnesnivylet.cz
SUMMARY:Travesti Divoké kočky v Kroměříži
DESCRIPTION:Travesti Divoké kočky v Kroměříži se uskuteční dne 2026-05-29 v 19:00 v Kroměříž\, Sokolský dům. \n🎟️ Koupit vstupenku \n\nTravesti skupina Divoké kočky z Ostravy přijíždí se svým celovečerním programem v rámci svého turné poprvé i do Kroměříže\, kde vystoupí 29. května 2026 od 19:00 na sále Sokolský dům. \nCelovečerní zábavný program je plný nezapomenutelných legračních scének\, písniček\, známých zpěvaček\, krásných kostýmů\, situačního humoru\, smíchu a je vhodný jak pro ženské tak pánské publikum. Jejich vystoupení se těší stálé větší oblibě a tak si každý divák přijde na své.Přijdte se sami přesvědčit\, že na travesti představení není nic špatného a v podání ostravských umělců se budete určitě dobře bavit. Divoké kočky se těší opět na úžasné místní publikum\, atmosféru a skvělý večer\, který vždy zaplněný sál diváků vytvoří. Přijďte se pobavit i Vy.Na závěr programu Vám členové souboru ukážou svou pravou tvář. \n\nTento tip na kulturní akci v Kroměříž najdete v přehledu na Dnesnivylet.cz spolu s dalšími koncerty\, festivaly a divadelními představeními.Každý si vybere co se mu líbí. Nezapomeňte koupit vstupenky včas\, stačí kliknout a budete přesměrování na oficiálního prodejce vstupenek.
URL:https://dnesnivylet.cz/event/travesti-divoke-kocky-v-kromerizi/
LOCATION:Sokolský dům\, Kroměříž\, Sokolský dům\, Kroměříž\, Česká republika
CATEGORIES:Zábava
ATTACH;FMTTYPE=image/jpeg:https://dnesnivylet.cz/wp-content/uploads/2025/11/320-f035dcca514f49c2ad3ff380b5426d69.jpg
END:VEVENT
BEGIN:VEVENT
DTSTART;TZID=Europe/Prague:20260529T190000
DTEND;TZID=Europe/Prague:20260529T220000
DTSTAMP:20260419T212009
CREATED:20251222T145809Z
LAST-MODIFIED:20251222T145809Z
UID:15880-1780081200-1780092000@dnesnivylet.cz
SUMMARY:Mafie na podpatcích
DESCRIPTION:Mafie na podpatcích se uskuteční dne 2026-05-29 v 19:00 v Brno\, Cabaret des Péchés. \n🎟️ Koupit vstupenku \n\nMafie na podpatcích: Bladed Heels \nKabaret\, co tě odrovná. \nRok 1927. Londýn. Elegance\, zločin a třpyt burlesky. V klubu plném svůdných tanečnic a podezřelých úsměvů se rozehrává příběh\, kde vysoké podpatky klapou jako výstřely a každé mrknutí oka může být poslední varování. Diváci od začátku tuší: někdo ukradl vzácný safír – a kufřík s ním se pohybuje mezi postavami… i vámi. \n\n\nMadam La Rouge – burleska s ďáblem v očích a plánem v srdci \n\n\nNebezpečný boss mafie \n\n\nA jeden večer\, kde zločin voní po parfému a šampaňském \n\n\n  \nKdy začínáme: \n\nProgram: 19:00 – 23:00 ( Bar otevřen od 18:00)\nShow: 20:00\n\n  \nCo čekat: \n\n\ncelovečerní program v mafiánském stylu  \n\n\nkabaretní show s příběhem  \n\n\ninteraktivní hry – soutěže\, bingo\, kolo osudu \n\n\ntématické kostýmy\, fotokoutek a exkluzivní koktejly pro pravé mafiány \n\n\n  \nO show: \n„Mafie na podpatcích“ je parodická kabaretní show v podobě tanečního divadla a revue\, kde se mísí humor\, svůdnost a nadsázka. Děj sleduje propracovaný příběh plný intrik\, komických zvratů a stylizovaných mafiánských postav. Každý umělec ztvárňuje vlastní roli a skrze tanec\, herectví a kabaretní čísla vtahuje diváky do světa podpatků\, kouře a gangsterské elegance. \n  \nZločin nikdy nevypadal tak svůdně! \n  \nUpozornění pro divákyTato inscenace obsahuje světelné efekty\, včetně stroboskopických záblesků a rychle se měnících světelných sekvencí. U osob s fotosenzitivní epilepsií nebo zvýšenou citlivostí na intenzivní světelné podněty mohou tyto efekty vyvolat nepříznivé zdravotní reakce. Divákům\, kterých by se tato skutečnost mohla týkat\, se doporučuje zvýšená opatrnost. \n\nTento tip na kulturní akci v Brno najdete v přehledu na Dnesnivylet.cz spolu s dalšími koncerty\, festivaly a divadelními představeními.Každý si vybere co se mu líbí. Nezapomeňte koupit vstupenky včas\, stačí kliknout a budete přesměrování na oficiálního prodejce vstupenek.
URL:https://dnesnivylet.cz/event/mafie-na-podpatcich-8/
LOCATION:Cabaret des Péchés\, Brno\, Cabaret des Péchés\, Brno\, Česká republika
CATEGORIES:Zábava
ATTACH;FMTTYPE=image/jpeg:https://dnesnivylet.cz/wp-content/uploads/2025/12/320-331f2ec4face4be39d994a5856a0a699.jpg
END:VEVENT
END:VCALENDAR