BEGIN:VCALENDAR
VERSION:2.0
PRODID:-//www.dnesnivylet.cz                                                                                                                        Tip na výlet pro celou rodinu. - ECPv6.15.13.1//NONSGML v1.0//EN
CALSCALE:GREGORIAN
METHOD:PUBLISH
X-WR-CALNAME:www.dnesnivylet.cz                                                                                                                        Tip na výlet pro celou rodinu.
X-ORIGINAL-URL:https://dnesnivylet.cz
X-WR-CALDESC:Akce na www.dnesnivylet.cz                                                                                                                        Tip na výlet pro celou rodinu.
REFRESH-INTERVAL;VALUE=DURATION:PT1H
X-Robots-Tag:noindex
X-PUBLISHED-TTL:PT1H
BEGIN:VTIMEZONE
TZID:Europe/Prague
BEGIN:DAYLIGHT
TZOFFSETFROM:+0100
TZOFFSETTO:+0200
TZNAME:CEST
DTSTART:20250330T010000
END:DAYLIGHT
BEGIN:STANDARD
TZOFFSETFROM:+0200
TZOFFSETTO:+0100
TZNAME:CET
DTSTART:20251026T010000
END:STANDARD
BEGIN:DAYLIGHT
TZOFFSETFROM:+0100
TZOFFSETTO:+0200
TZNAME:CEST
DTSTART:20260329T010000
END:DAYLIGHT
BEGIN:STANDARD
TZOFFSETFROM:+0200
TZOFFSETTO:+0100
TZNAME:CET
DTSTART:20261025T010000
END:STANDARD
BEGIN:DAYLIGHT
TZOFFSETFROM:+0100
TZOFFSETTO:+0200
TZNAME:CEST
DTSTART:20270328T010000
END:DAYLIGHT
BEGIN:STANDARD
TZOFFSETFROM:+0200
TZOFFSETTO:+0100
TZNAME:CET
DTSTART:20271031T010000
END:STANDARD
END:VTIMEZONE
BEGIN:VEVENT
DTSTART;TZID=Europe/Prague:20260602T180000
DTEND;TZID=Europe/Prague:20260602T210000
DTSTAMP:20260419T225146
CREATED:20260208T144000Z
LAST-MODIFIED:20260208T144001Z
UID:17545-1780423200-1780434000@dnesnivylet.cz
SUMMARY:Filozofie Baťa – Touha tvořit
DESCRIPTION:Filozofie Baťa – Touha tvořit se uskuteční dne 2026-06-02 v 18:00 v Bratislava\, Štúdio L+S\, s.r.o.. \n🎟️ Koupit vstupenku \n\nPřednáška & beseda: Životní filozofie Tomáše Bati v dnešní době  \nPřednášející: Gabriela Končitíková – lektorka\, spisovatelka\, autorka knih o Baťově odkazu a ředitelka Nadace Tomáše Bati \nObjevte nadčasovou filozofii\, která stála u zrodu jedné z nejvýraznějších podnikatelských legend. Baťovský přístup k životu i práci staví na jednoduchém\, ale silném principu: začít u sebe. Propojuje osobní rozvoj\, budování vztahů\, profesní růst i odpovědnost vůči společnosti. \nTomáš Baťa věřil\, že skutečná hodnota vzniká tam\, kde se potkává poctivá práce\, odvaha a morální odpovědnost. \nTato filozofie je to univerzální návod na spokojený a naplněný život\, který může využít každý — bez ohledu na profesi\, věk nebo životní směřování. \nPřijďte se inspirovat příběhy\, principy i konkrétními příklady jejich využití v dnešní praxi – ať už v osobním životě\, týmu nebo podnikání. \n  \n\nTento tip na kulturní akci v Bratislava najdete v přehledu na Dnesnivylet.cz spolu s dalšími koncerty\, festivaly a divadelními představeními.Každý si vybere co se mu líbí. Nezapomeňte koupit vstupenky včas\, stačí kliknout a budete přesměrování na oficiálního prodejce vstupenek.
URL:https://dnesnivylet.cz/event/filozofie-bata-touha-tvorit-4/
LOCATION:Štúdio L+S\, s.r.o.\, Bratislava\, Štúdio L+S\, s.r.o.\, Bratislava\, Česká republika
CATEGORIES:Zábava
ATTACH;FMTTYPE=image/jpeg:https://dnesnivylet.cz/wp-content/uploads/2026/02/320-415f236a748e425ba893e0eb50bf9c58.jpg
END:VEVENT
BEGIN:VEVENT
DTSTART;TZID=Europe/Prague:20260602T190000
DTEND;TZID=Europe/Prague:20260602T220000
DTSTAMP:20260419T225146
CREATED:20260110T163432Z
LAST-MODIFIED:20260110T163432Z
UID:16637-1780426800-1780437600@dnesnivylet.cz
SUMMARY:Michael Szatmary - Lokálny sexsymbol - Stand-up speciál
DESCRIPTION:Michael Szatmary – Lokálny sexsymbol – Stand-up speciál se uskuteční dne 2026-06-02 v 19:00 v Rakovník\, Tylovo divadlo. \n🎟️ Koupit vstupenku \n\nMichael Szatmary\, jedno z největších a nejzářivějších jmen slovenské stand-up komediální scény\, který je velmi oblíbený i českým publikem\, vyráží na turné se svým Stand-up comedy speciálem. \nMůžete se těšit na 80. minutovou show\, ve které vás Michael nebude šetřit a celý večer se budete smát jeho nejlepším historkám. \n\nTento tip na kulturní akci v Rakovník najdete v přehledu na Dnesnivylet.cz spolu s dalšími koncerty\, festivaly a divadelními představeními.Každý si vybere co se mu líbí. Nezapomeňte koupit vstupenky včas\, stačí kliknout a budete přesměrování na oficiálního prodejce vstupenek.
URL:https://dnesnivylet.cz/event/michael-szatmary-lokalny-sexsymbol-stand-up-special-11/
LOCATION:Tylovo divadlo\, Rakovník\, Tylovo divadlo\, Rakovník\, Česká republika
CATEGORIES:Zábava
ATTACH;FMTTYPE=image/jpeg:https://dnesnivylet.cz/wp-content/uploads/2026/01/320-52015bf45a5642daba837fb29a44f9c7.jpg
END:VEVENT
END:VCALENDAR