BEGIN:VCALENDAR
VERSION:2.0
PRODID:-//www.dnesnivylet.cz                                                                                                                        Tip na výlet pro celou rodinu. - ECPv6.15.13.1//NONSGML v1.0//EN
CALSCALE:GREGORIAN
METHOD:PUBLISH
X-WR-CALNAME:www.dnesnivylet.cz                                                                                                                        Tip na výlet pro celou rodinu.
X-ORIGINAL-URL:https://dnesnivylet.cz
X-WR-CALDESC:Akce na www.dnesnivylet.cz                                                                                                                        Tip na výlet pro celou rodinu.
REFRESH-INTERVAL;VALUE=DURATION:PT1H
X-Robots-Tag:noindex
X-PUBLISHED-TTL:PT1H
BEGIN:VTIMEZONE
TZID:Europe/Prague
BEGIN:DAYLIGHT
TZOFFSETFROM:+0100
TZOFFSETTO:+0200
TZNAME:CEST
DTSTART:20250330T010000
END:DAYLIGHT
BEGIN:STANDARD
TZOFFSETFROM:+0200
TZOFFSETTO:+0100
TZNAME:CET
DTSTART:20251026T010000
END:STANDARD
BEGIN:DAYLIGHT
TZOFFSETFROM:+0100
TZOFFSETTO:+0200
TZNAME:CEST
DTSTART:20260329T010000
END:DAYLIGHT
BEGIN:STANDARD
TZOFFSETFROM:+0200
TZOFFSETTO:+0100
TZNAME:CET
DTSTART:20261025T010000
END:STANDARD
BEGIN:DAYLIGHT
TZOFFSETFROM:+0100
TZOFFSETTO:+0200
TZNAME:CEST
DTSTART:20270328T010000
END:DAYLIGHT
BEGIN:STANDARD
TZOFFSETFROM:+0200
TZOFFSETTO:+0100
TZNAME:CET
DTSTART:20271031T010000
END:STANDARD
END:VTIMEZONE
BEGIN:VEVENT
DTSTART;TZID=Europe/Prague:20260604T170000
DTEND;TZID=Europe/Prague:20260604T200000
DTSTAMP:20260419T225153
CREATED:20251108T170047Z
LAST-MODIFIED:20251108T170048Z
UID:12895-1780592400-1780603200@dnesnivylet.cz
SUMMARY:Škola grilování s Romanem Paulusem
DESCRIPTION:Škola grilování s Romanem Paulusem se uskuteční dne 2026-06-04 v 17:00 v Křelov-Břuchotín\, Fort XX. Escot. \n🎟️ Koupit vstupenku \n\nGRILL PARTY 4. 6. 2026 \nTohle bude pecka! Kurz vaření s Romanem Paulusem a zároveň party u grilu pod širým nebem\, díky které se stanete mistry každé grilovačky.  \nUž nikdy neuděláte chybu a naučíte se pracovat s různými druhy grilů. \nK zakoupené vstupence dostane každý zástěru s logem Bistra Paulus. \n  \nVítejte ve škole vaření s Romanem Paulusem! \nV každém kurzu se pod vedením michelinského Romana Pauluse a šéfkuchaře Petra Stokláska naučíte připravit výtečné čtyřchodové menu. Kromě hodin strávených u plotny si odnesete i spoustu užitečných teoretických znalostí\, krásný zážitek\, sadu receptů a podepsaný certifikát.  \nO alko a nealko režim bude po celou dobu postaráno. \nTěšíme se na vás v úžasných nových prostorách Bistro Paulus. \nPartnerem školy vaření s Romanem Paulusem je Tescoma. \n—- \n  \nNa každé akci bude pořizován obrazový záznam pro marketingové účely. Pořízené záznamy můžou být použity zejména na našem webu a sociálních sítích. \n\nTento tip na kulturní akci v Křelov-Břuchotín najdete v přehledu na Dnesnivylet.cz spolu s dalšími koncerty\, festivaly a divadelními představeními.Každý si vybere co se mu líbí. Nezapomeňte koupit vstupenky včas\, stačí kliknout a budete přesměrování na oficiálního prodejce vstupenek.
URL:https://dnesnivylet.cz/event/skola-grilovani-s-romanem-paulusem/
LOCATION:Fort XX. Escot\, Křelov-Břuchotín\, Fort XX. Escot\, Křelov-Břuchotín\, Česká republika
CATEGORIES:Zábava
ATTACH;FMTTYPE=image/jpeg:https://dnesnivylet.cz/wp-content/uploads/2025/11/320-7a19ea50e16e4bf0b9c8c01a4a5a745b.jpg
END:VEVENT
END:VCALENDAR