BEGIN:VCALENDAR
VERSION:2.0
PRODID:-//www.dnesnivylet.cz                                                                                                                        Tip na výlet pro celou rodinu. - ECPv6.15.13.1//NONSGML v1.0//EN
CALSCALE:GREGORIAN
METHOD:PUBLISH
X-WR-CALNAME:www.dnesnivylet.cz                                                                                                                        Tip na výlet pro celou rodinu.
X-ORIGINAL-URL:https://dnesnivylet.cz
X-WR-CALDESC:Akce na www.dnesnivylet.cz                                                                                                                        Tip na výlet pro celou rodinu.
REFRESH-INTERVAL;VALUE=DURATION:PT1H
X-Robots-Tag:noindex
X-PUBLISHED-TTL:PT1H
BEGIN:VTIMEZONE
TZID:Europe/Prague
BEGIN:DAYLIGHT
TZOFFSETFROM:+0100
TZOFFSETTO:+0200
TZNAME:CEST
DTSTART:20250330T010000
END:DAYLIGHT
BEGIN:STANDARD
TZOFFSETFROM:+0200
TZOFFSETTO:+0100
TZNAME:CET
DTSTART:20251026T010000
END:STANDARD
BEGIN:DAYLIGHT
TZOFFSETFROM:+0100
TZOFFSETTO:+0200
TZNAME:CEST
DTSTART:20260329T010000
END:DAYLIGHT
BEGIN:STANDARD
TZOFFSETFROM:+0200
TZOFFSETTO:+0100
TZNAME:CET
DTSTART:20261025T010000
END:STANDARD
BEGIN:DAYLIGHT
TZOFFSETFROM:+0100
TZOFFSETTO:+0200
TZNAME:CEST
DTSTART:20270328T010000
END:DAYLIGHT
BEGIN:STANDARD
TZOFFSETFROM:+0200
TZOFFSETTO:+0100
TZNAME:CET
DTSTART:20271031T010000
END:STANDARD
END:VTIMEZONE
BEGIN:VEVENT
DTSTART;TZID=Europe/Prague:20260605T080000
DTEND;TZID=Europe/Prague:20260605T110000
DTSTAMP:20260419T225226
CREATED:20260419T122519Z
LAST-MODIFIED:20260419T122519Z
UID:20952-1780646400-1780657200@dnesnivylet.cz
SUMMARY:Amateur & Profi Jump Tour - Hořovice
DESCRIPTION:Amateur & Profi Jump Tour – Hořovice se uskuteční dne 2026-06-05 v 08:00 v Hořovice\, Ranch Hořovice. \n🎟️ Koupit vstupenku \n\nS potěšením Vás zveme na jedinečnou událost v jezdeckém kalendáři roku 2026 – Amateur Jump Tour a Profi Jump Tour\, která se bude konat v malebném prostředí Hořovic ve dnech 5. – 7. června. Tato prestižní soutěž v parkurovém skákání přivítá jezdce všech úrovní a slibuje nezapomenutelné zážitky pro všechny milovníky jezdeckého sportu. \nTěšit se můžete na napínavé soutěže\, kde se představí talentovaní amatéři i profesionálové\, kteří předvedou své dovednosti na překážkách různé obtížnosti až do stupně ST** \nNenechte si ujít příležitost být součástí této výjimečné akce\, která nabízí nejen soutěžní vzrušení\, ale také skvělou příležitost k navázání nových kontaktů v jezdecké komunitě. \n  \n\nTento tip na kulturní akci v Hořovice najdete v přehledu na Dnesnivylet.cz spolu s dalšími koncerty\, festivaly a divadelními představeními.Každý si vybere co se mu líbí. Nezapomeňte koupit vstupenky včas\, stačí kliknout a budete přesměrování na oficiálního prodejce vstupenek.
URL:https://dnesnivylet.cz/event/amateur-profi-jump-tour-horovice/
LOCATION:Ranch Hořovice\, Hořovice\, Ranch Hořovice\, Hořovice\, Česká republika
CATEGORIES:Zábava
ATTACH;FMTTYPE=image/jpeg:https://dnesnivylet.cz/wp-content/uploads/2026/04/320-2ddbeaac52b94ad5bb85d575b815f0ea.jpg
END:VEVENT
BEGIN:VEVENT
DTSTART;TZID=Europe/Prague:20260605T190000
DTEND;TZID=Europe/Prague:20260605T220000
DTSTAMP:20260419T225226
CREATED:20251105T193028Z
LAST-MODIFIED:20251105T193029Z
UID:12661-1780686000-1780696800@dnesnivylet.cz
SUMMARY:OPERA V KINĚ - Kouzelná flétna
DESCRIPTION:OPERA V KINĚ – Kouzelná flétna se uskuteční dne 2026-06-05 v 19:00 v Humpolec\, Kino. \n🎟️ Koupit vstupenku \n\nPrincezna Pamina byla unesena. Její matka\, Královna noci\, pověří mladého prince Tamina její záchranou. Když se ale Tamino a jeho pomocník Papageno vydávají na cestu\, brzy zjišťuji\, že když jde o lásku\, nic není\, jak se zdá. Vedeni kouzelnou flétnou čelí monstrům\, padouchům i tajemnému bratrstvu. Pomoc se ale objeví\, když ji čekáte nejméně. \nMozartova fantastická opera ožívá v kouzelné inscenaci režiséra Davida McVicara. Hvězdné obsazení\, kterému vévodí Julia Bullock jako Pamina\, Amitai Pati jako Tamino nebo Huw Motague Rendall v roli Papagena\, vede ve svém debutu v Královské opeře francouzská dirigentka Marie Jacquot. \nPředstavení je uváděno v rámci cyklu Opera v kině 2025/2026 včetně možnosti předplatného. \nJedná se o záznam promítaný na plátno kina. \n\nTento tip na kulturní akci v Humpolec najdete v přehledu na Dnesnivylet.cz spolu s dalšími koncerty\, festivaly a divadelními představeními.Každý si vybere co se mu líbí. Nezapomeňte koupit vstupenky včas\, stačí kliknout a budete přesměrování na oficiálního prodejce vstupenek.
URL:https://dnesnivylet.cz/event/opera-v-kine-kouzelna-fletna/
LOCATION:Kino\, Humpolec\, Kino\, Humpolec\, Česká republika
CATEGORIES:Zábava
ATTACH;FMTTYPE=image/jpeg:https://dnesnivylet.cz/wp-content/uploads/2025/11/320-4fc5139bc248404f820fad8b4494aeaf.jpg
END:VEVENT
BEGIN:VEVENT
DTSTART;TZID=Europe/Prague:20260605T190000
DTEND;TZID=Europe/Prague:20260605T220000
DTSTAMP:20260419T225226
CREATED:20251214T091744Z
LAST-MODIFIED:20251214T091745Z
UID:15422-1780686000-1780696800@dnesnivylet.cz
SUMMARY:ŠESTÝ SMYSL
DESCRIPTION:ŠESTÝ SMYSL se uskuteční dne 2026-06-05 v 19:00 v Brno\, Cabaret des Péchés. \n🎟️ Koupit vstupenku \n\nŠESTÝ SMYSL — NEJVĚTŠÍ ŽENSKÁ SHOW V CABARETU DES PÉCHÉS!  \nVstupte do světa\, kde se ženské tajemství stává hlavní zbraní a fantazie realitou. Cabaret des Péchés uvádí svou dosud nejodvážnější a nejvíc sexy show: ŠESTÝ SMYSL. \nVečer plný ženských paradoxů\, tajemství a rafinovaného humoru\, který vás vtáhne do hlubin ženského myšlení – i když mu možná nikdy úplně neporozumíte. \n Těšte se na:  \n• smyslné tanečnice  \n• živý zpěv  \n• dechberoucí akrobacii  \n• svůdnou burlesku  \n• extravagantní drag show \n• interaktivní část \n• věštbu vašich osudů \n  \nBěhem večera budete mít možnost navštívit i tajemnou interaktivní část\, která vás donutí zamyslet se na důležitostí každého smyslu. Připravte se\, že ženská logika vás vtáhne do hry! \nA navíc – jen ti nejodvážnější okusí pokušení nahlédnout do budoucnosti. V ceně vstupenky je možnost setkání s věštkyní\, která vám bez zábran odkryje váš osud… pokud si troufnete. \nCelým večerem vás provede okouzlující moderátorka Daina Divad.  \n  \nŠESTÝ SMYSL není jen show — je to zážitek\, na který se nezapomíná. Připravte se na noc\, kdy zjistíte\, že ženy možná nemají vždy pravdu… ale rozhodně vždy vědí proč. \n  \nVšechny interaktivní aktivity i věštby berte\, prosím\, s nadhledem a špetkou humoru. Nejedná se o skutečné předtuchy\, ale o součást jedinečné show. \n  \nUpozornění pro divákyTato inscenace obsahuje světelné efekty\, včetně stroboskopických záblesků a rychle se měnících světelných sekvencí. U osob s fotosenzitivní epilepsií nebo zvýšenou citlivostí na intenzivní světelné podněty mohou tyto efekty vyvolat nepříznivé zdravotní reakce. Divákům\, kterých by se tato skutečnost mohla týkat\, se doporučuje zvýšená opatrnost. \n\nTento tip na kulturní akci v Brno najdete v přehledu na Dnesnivylet.cz spolu s dalšími koncerty\, festivaly a divadelními představeními.Každý si vybere co se mu líbí. Nezapomeňte koupit vstupenky včas\, stačí kliknout a budete přesměrování na oficiálního prodejce vstupenek.
URL:https://dnesnivylet.cz/event/sesty-smysl-12/
LOCATION:Cabaret des Péchés\, Brno\, Cabaret des Péchés\, Brno\, Česká republika
CATEGORIES:Zábava
ATTACH;FMTTYPE=image/jpeg:https://dnesnivylet.cz/wp-content/uploads/2025/12/320-ffa60e909ea1437c90e2b105998c12e1.jpg
END:VEVENT
BEGIN:VEVENT
DTSTART;TZID=Europe/Prague:20260605T190000
DTEND;TZID=Europe/Prague:20260605T220000
DTSTAMP:20260419T225226
CREATED:20260310T172036Z
LAST-MODIFIED:20260310T172036Z
UID:19356-1780686000-1780696800@dnesnivylet.cz
SUMMARY:Blue Burlesque Show: Beginners Night 8
DESCRIPTION:Blue Burlesque Show: Beginners Night 8 se uskuteční dne 2026-06-05 v 19:00 v Praha\, Kampus Hybernská. \n🎟️ Koupit vstupenku \n\nPlná emoci show studentek Czech Burlesque School – uvídíte je na scéně poprvé! \nNezbedná koketní atmosféra vás bude držet na okraji vašich židlí od začátku až do konce show. \nUČINKUJÍCÍ \nStudentky a studenti Czech Burlesque School. \nPRO KOHO JE SHOW? \nVěk ani pohlaví nerozhodují – důležité je\, že milujete kvalitní program\, skvělé drinky a zábavu plnou emocí. \nKDE? \nPraha 1\, Kampus Hybernská\, Hybernská 4.Vstup z ulice do areálu. Sál E.0 najdete vpravo na nádvoří\, naproti kavárně. \nKDY? \n5. 6. 2026Doors: 19:00Show: 19:30Délka show: cca 2–2\,5 hodiny. \n\nTento tip na kulturní akci v Praha najdete v přehledu na Dnesnivylet.cz spolu s dalšími koncerty\, festivaly a divadelními představeními.Každý si vybere co se mu líbí. Nezapomeňte koupit vstupenky včas\, stačí kliknout a budete přesměrování na oficiálního prodejce vstupenek.
URL:https://dnesnivylet.cz/event/blue-burlesque-show-beginners-night-8/
LOCATION:Kampus Hybernská\, Praha\, Kampus Hybernská\, Praha\, Česká republika
CATEGORIES:Zábava
ATTACH;FMTTYPE=image/jpeg:https://dnesnivylet.cz/wp-content/uploads/2026/03/320-11eea6332f754df9bae7d6cebb2521de.jpg
END:VEVENT
END:VCALENDAR