BEGIN:VCALENDAR
VERSION:2.0
PRODID:-//www.dnesnivylet.cz                                                                                                                        Tip na výlet pro celou rodinu. - ECPv6.15.13.1//NONSGML v1.0//EN
CALSCALE:GREGORIAN
METHOD:PUBLISH
X-ORIGINAL-URL:https://dnesnivylet.cz
X-WR-CALDESC:Akce na www.dnesnivylet.cz                                                                                                                        Tip na výlet pro celou rodinu.
REFRESH-INTERVAL;VALUE=DURATION:PT1H
X-Robots-Tag:noindex
X-PUBLISHED-TTL:PT1H
BEGIN:VTIMEZONE
TZID:Europe/Prague
BEGIN:DAYLIGHT
TZOFFSETFROM:+0100
TZOFFSETTO:+0200
TZNAME:CEST
DTSTART:20250330T010000
END:DAYLIGHT
BEGIN:STANDARD
TZOFFSETFROM:+0200
TZOFFSETTO:+0100
TZNAME:CET
DTSTART:20251026T010000
END:STANDARD
BEGIN:DAYLIGHT
TZOFFSETFROM:+0100
TZOFFSETTO:+0200
TZNAME:CEST
DTSTART:20260329T010000
END:DAYLIGHT
BEGIN:STANDARD
TZOFFSETFROM:+0200
TZOFFSETTO:+0100
TZNAME:CET
DTSTART:20261025T010000
END:STANDARD
BEGIN:DAYLIGHT
TZOFFSETFROM:+0100
TZOFFSETTO:+0200
TZNAME:CEST
DTSTART:20270328T010000
END:DAYLIGHT
BEGIN:STANDARD
TZOFFSETFROM:+0200
TZOFFSETTO:+0100
TZNAME:CET
DTSTART:20271031T010000
END:STANDARD
END:VTIMEZONE
BEGIN:VEVENT
DTSTART;TZID=Europe/Prague:20260606T173000
DTEND;TZID=Europe/Prague:20260606T203000
DTSTAMP:20260419T225339
CREATED:20260419T120506Z
LAST-MODIFIED:20260419T120507Z
UID:20645-1780767000-1780777800@dnesnivylet.cz
SUMMARY:Doubek City Fight Night 3
DESCRIPTION:Doubek City Fight Night 3 se uskuteční dne 2026-06-06 v 17:30 v Úvaly\, Pivovar Libertas. \n🎟️ Koupit vstupenku \n\nGalavečer profesionálního a amatérského boxu pod širým nebem \n\nTento tip na kulturní akci v Úvaly najdete v přehledu na Dnesnivylet.cz spolu s dalšími koncerty\, festivaly a divadelními představeními.Každý si vybere co se mu líbí. Nezapomeňte koupit vstupenky včas\, stačí kliknout a budete přesměrování na oficiálního prodejce vstupenek.
URL:https://dnesnivylet.cz/event/doubek-city-fight-night-3/
LOCATION:Pivovar Libertas\, Úvaly\, Pivovar Libertas\, Úvaly\, Česká republika
CATEGORIES:Zábava
ATTACH;FMTTYPE=image/jpeg:https://dnesnivylet.cz/wp-content/uploads/2026/04/320-d99e2ac359854a698185f63995a4b8ac.jpg
END:VEVENT
BEGIN:VEVENT
DTSTART;TZID=Europe/Prague:20260606T190000
DTEND;TZID=Europe/Prague:20260606T220000
DTSTAMP:20260419T225339
CREATED:20251214T091746Z
LAST-MODIFIED:20251214T091746Z
UID:15431-1780772400-1780783200@dnesnivylet.cz
SUMMARY:Burlesque Tribute: Od kankánu po bizár
DESCRIPTION:Burlesque Tribute: Od kankánu po bizár se uskuteční dne 2026-06-06 v 19:00 v Brno\, Cabaret des Péchés. \n🎟️ Koupit vstupenku \n\nBURLESQUE TRIBUTE: OD KANKÁNU PO BIZÁR  \nVýpravná show\, která nemá ve světě obdoby. \nBurlesque Tribute je unikátní tříaktová podívaná\, která vás provede historií burlesky – od jejích kořenů v 19. století\, přes éru americké prohibice\, až po současnou neo-burlesku. Připravte se na večer\, kde se třpyt\, elegance\, humor i odvaha snoubí do show\, kterou jen tak někde neuvidíte. \nNaučné? Ano. Interaktivní? Rozhodně. Zábavné? Víc\, než čekáte. \nKaždý z aktů nabídne originální ztvárnění určité éry kabaretní a burleskní historie – včetně ikonických rekvizit\, autentických kostýmů a živých vystoupení. Na jevišti se objeví zpěvačky\, taneční ansámbl i performeři\, kteří vás vtáhnou nejen svými čísly\, ale i příběhem. A pozor – místy se do děje zapojí i samotné publikum. \nKostýmy inspirované ikonami burlesky a kabaretuNeočekávané momenty\, které posunou vaše představy o burlesceBurleska jako forma umění – zábavná\, odvážná\, vzdělávací \nBurlesque Tribute je oslavou minulosti i současnosti burlesky.Není to jen show. Je to zážitek. \nVIP vstupenky v prvních řadách s welcome drinkem \n  \nUpozornění pro divákyTato inscenace obsahuje světelné efekty\, včetně stroboskopických záblesků a rychle se měnících světelných sekvencí. U osob s fotosenzitivní epilepsií nebo zvýšenou citlivostí na intenzivní světelné podněty mohou tyto efekty vyvolat nepříznivé zdravotní reakce. Divákům\, kterých by se tato skutečnost mohla týkat\, se doporučuje zvýšená opatrnost. \n\nTento tip na kulturní akci v Brno najdete v přehledu na Dnesnivylet.cz spolu s dalšími koncerty\, festivaly a divadelními představeními.Každý si vybere co se mu líbí. Nezapomeňte koupit vstupenky včas\, stačí kliknout a budete přesměrování na oficiálního prodejce vstupenek.
URL:https://dnesnivylet.cz/event/burlesque-tribute-od-kankanu-po-bizar-3/
LOCATION:Cabaret des Péchés\, Brno\, Cabaret des Péchés\, Brno\, Česká republika
CATEGORIES:Zábava
ATTACH;FMTTYPE=image/jpeg:https://dnesnivylet.cz/wp-content/uploads/2025/12/320-d0b4283f050e44c0a897d5c4fedda4f1.jpg
END:VEVENT
BEGIN:VEVENT
DTSTART;TZID=Europe/Prague:20260606T200000
DTEND;TZID=Europe/Prague:20260606T230000
DTSTAMP:20260419T225339
CREATED:20251102T184849Z
LAST-MODIFIED:20251102T184850Z
UID:11263-1780776000-1780786800@dnesnivylet.cz
SUMMARY:1D Party - Bratislava
DESCRIPTION:1D Party – Bratislava se uskuteční dne 2026-06-06 v 20:00 v Bratislava\, Randal club. \n🎟️ Koupit vstupenku \n\n  \nNejvětší ONE DIRECTION Party poprvé v Bratislavě!  \nUž 6.6. si přijď zavzpomínat do Randal clubu na jednu z nejoblíbenějších kapel našeho dětství!  \nVrátíme se v čase do roku 2011\, kdy vyšel jejich debutový singl What Makes You Beautiful. Zatancujeme si společně taneček na One Way Or Another. Popláčeme si u písní jako jsou You & I\, Story Of My Life\, History nebo Night Changes. Nebudou chybět ani jejich sólové písně\, a také  zavzpomínáme na Liama. \nTěšit se můžeš na skvělou videoprojekci a boží atmosféru!  \nVIP vstupenka obsahuje přednostní vstup a originální 1D Podpisový plakát jako dáreček! \nINFO:OPEN: 20:00 ⏰START: 21:00 🏁Vek: 15+ ✅ \n\nTento tip na kulturní akci v Bratislava najdete v přehledu na Dnesnivylet.cz spolu s dalšími koncerty\, festivaly a divadelními představeními.Každý si vybere co se mu líbí. Nezapomeňte koupit vstupenky včas\, stačí kliknout a budete přesměrování na oficiálního prodejce vstupenek.
URL:https://dnesnivylet.cz/event/1d-party-bratislava/
LOCATION:Randal club\, Bratislava\, Randal club\, Bratislava\, Česká republika
CATEGORIES:Zábava
ATTACH;FMTTYPE=image/jpeg:https://dnesnivylet.cz/wp-content/uploads/2025/11/320-a4c5918190654245a84cb8fdd91bafa8.jpg
END:VEVENT
END:VCALENDAR