BEGIN:VCALENDAR
VERSION:2.0
PRODID:-//www.dnesnivylet.cz                                                                                                                        Tip na výlet pro celou rodinu. - ECPv6.15.13.1//NONSGML v1.0//EN
CALSCALE:GREGORIAN
METHOD:PUBLISH
X-ORIGINAL-URL:https://dnesnivylet.cz
X-WR-CALDESC:Akce na www.dnesnivylet.cz                                                                                                                        Tip na výlet pro celou rodinu.
REFRESH-INTERVAL;VALUE=DURATION:PT1H
X-Robots-Tag:noindex
X-PUBLISHED-TTL:PT1H
BEGIN:VTIMEZONE
TZID:Europe/Prague
BEGIN:DAYLIGHT
TZOFFSETFROM:+0100
TZOFFSETTO:+0200
TZNAME:CEST
DTSTART:20250330T010000
END:DAYLIGHT
BEGIN:STANDARD
TZOFFSETFROM:+0200
TZOFFSETTO:+0100
TZNAME:CET
DTSTART:20251026T010000
END:STANDARD
BEGIN:DAYLIGHT
TZOFFSETFROM:+0100
TZOFFSETTO:+0200
TZNAME:CEST
DTSTART:20260329T010000
END:DAYLIGHT
BEGIN:STANDARD
TZOFFSETFROM:+0200
TZOFFSETTO:+0100
TZNAME:CET
DTSTART:20261025T010000
END:STANDARD
BEGIN:DAYLIGHT
TZOFFSETFROM:+0100
TZOFFSETTO:+0200
TZNAME:CEST
DTSTART:20270328T010000
END:DAYLIGHT
BEGIN:STANDARD
TZOFFSETFROM:+0200
TZOFFSETTO:+0100
TZNAME:CET
DTSTART:20271031T010000
END:STANDARD
END:VTIMEZONE
BEGIN:VEVENT
DTSTART;TZID=Europe/Prague:20260611T190000
DTEND;TZID=Europe/Prague:20260611T220000
DTSTAMP:20260420T002650
CREATED:20260103T100125Z
LAST-MODIFIED:20260103T100125Z
UID:16181-1781204400-1781215200@dnesnivylet.cz
SUMMARY:Na hradě s Martinem Dejdarem a Adélou Gondíkovou
DESCRIPTION:Na hradě s Martinem Dejdarem a Adélou Gondíkovou se uskuteční dne 2026-06-11 v 19:00 v Švihov\, Vodní hrad Švihov. \n🎟️ Koupit vstupenku \n\nPřijďte zažít neřízenou vlnu energie a nespoutaného humoru v podání dvojice Adély Gondíkové a Martina Dejdara! Setkání proběhne v sále ve špýcharu na hradě Švihov. \nV moderované talkshow očekávejte lavinu spontánních vtipů a historky\, které jste ještě neslyšeli.  \n  \nAkce proběhne v sále ve špýcharu. \n\nTento tip na kulturní akci v Švihov najdete v přehledu na Dnesnivylet.cz spolu s dalšími koncerty\, festivaly a divadelními představeními.Každý si vybere co se mu líbí. Nezapomeňte koupit vstupenky včas\, stačí kliknout a budete přesměrování na oficiálního prodejce vstupenek.
URL:https://dnesnivylet.cz/event/na-hrade-s-martinem-dejdarem-a-adelou-gondikovou/
LOCATION:Vodní hrad Švihov\, Švihov\, Vodní hrad Švihov\, Švihov\, Česká republika
CATEGORIES:Zábava
ATTACH;FMTTYPE=image/jpeg:https://dnesnivylet.cz/wp-content/uploads/2026/01/320-cbb7d504bf9f4fc394503cdc850f21d1.jpg
END:VEVENT
END:VCALENDAR